BEGIN:VCALENDAR
VERSION:2.0
PRODID:-//Tacoma/Pierce County Habitat For Humanity - ECPv6.15.20//NONSGML v1.0//EN
CALSCALE:GREGORIAN
METHOD:PUBLISH
X-WR-CALNAME:Tacoma/Pierce County Habitat For Humanity
X-ORIGINAL-URL:https://www.tpc-habitat.org
X-WR-CALDESC:Events for Tacoma/Pierce County Habitat For Humanity
REFRESH-INTERVAL;VALUE=DURATION:PT1H
X-Robots-Tag:noindex
X-PUBLISHED-TTL:PT1H
BEGIN:VTIMEZONE
TZID:America/Los_Angeles
BEGIN:DAYLIGHT
TZOFFSETFROM:-0800
TZOFFSETTO:-0700
TZNAME:PDT
DTSTART:20190310T100000
END:DAYLIGHT
BEGIN:STANDARD
TZOFFSETFROM:-0700
TZOFFSETTO:-0800
TZNAME:PST
DTSTART:20191103T090000
END:STANDARD
BEGIN:DAYLIGHT
TZOFFSETFROM:-0800
TZOFFSETTO:-0700
TZNAME:PDT
DTSTART:20200308T100000
END:DAYLIGHT
BEGIN:STANDARD
TZOFFSETFROM:-0700
TZOFFSETTO:-0800
TZNAME:PST
DTSTART:20201101T090000
END:STANDARD
BEGIN:DAYLIGHT
TZOFFSETFROM:-0800
TZOFFSETTO:-0700
TZNAME:PDT
DTSTART:20210314T100000
END:DAYLIGHT
BEGIN:STANDARD
TZOFFSETFROM:-0700
TZOFFSETTO:-0800
TZNAME:PST
DTSTART:20211107T090000
END:STANDARD
END:VTIMEZONE
BEGIN:VEVENT
DTSTART;TZID=America/Los_Angeles:20201007T163000
DTEND;TZID=America/Los_Angeles:20201007T180000
DTSTAMP:20260422T152422
CREATED:20200909T225442Z
LAST-MODIFIED:20200909T225442Z
UID:4758-1602088200-1602093600@www.tpc-habitat.org
SUMMARY:Women Build: Intro to Tools
DESCRIPTION:Join Women Build for Intro to Tools on Wednesday\, 10/7!  Please note that the start time is 4:30 PM.  \nWe’re starting with the basics: What would be included on a tool list? What’s the best tool for the job? When do you use a screw versus a nail? Why are there so many different kinds of wood? What about saws and power tools? \nJoin Women Build Crew Chief Caitie and learn to be equipped for the start of any project. The workshop will be interactive\, with opportunity to ask questions of Caitie. \nPre-registration is required. The workshop is held on Zoom; the link will be provided upon RSVP. \nAll are welcome!
URL:https://www.tpc-habitat.org/event/tools_oct2020/
LOCATION:Online\, via Zoom\, United States
CATEGORIES:Women Build,Workshop
ORGANIZER;CN="Tracey Sorenson%2C Director of Community Engagement":MAILTO:tsorenson@tpc-habitat.org
END:VEVENT
BEGIN:VEVENT
DTSTART;TZID=America/Los_Angeles:20200930T180000
DTEND;TZID=America/Los_Angeles:20200930T193000
DTSTAMP:20260422T152422
CREATED:20200810T220644Z
LAST-MODIFIED:20200810T223342Z
UID:4720-1601488800-1601494200@www.tpc-habitat.org
SUMMARY:Gig Harbor: Homeowner Info Session
DESCRIPTION:As a social distancing measure\, this workshop will be held online via Zoom.\nTacoma/Pierce County Habitat for Humanity will soon begin construction on three homes in Gig Harbor\, near St. Anthony’s Hospital. If you are eligible and interested in the Gig Harbor properties in particular\, please RSVP for this special Gig Harbor Homeowner Information Session. \nThe workshop is the first step to becoming a Habitat homeowner. \nThe Zoom link will be provided upon RSVP. To register\, please email us or call 253-627-5626 x120. \n 
URL:https://www.tpc-habitat.org/event/gig-harbor-info-session/
LOCATION:Online\, via Zoom\, United States
CATEGORIES:Homeowner Information Session
ORGANIZER;CN="Homeowner Services":MAILTO:homeowner@tpc-habitat.org
END:VEVENT
BEGIN:VEVENT
DTSTART;TZID=America/Los_Angeles:20200923T173000
DTEND;TZID=America/Los_Angeles:20200923T190000
DTSTAMP:20260422T152422
CREATED:20200909T225727Z
LAST-MODIFIED:20200925T224752Z
UID:4753-1600882200-1600887600@www.tpc-habitat.org
SUMMARY:Women Build: Basic Electrical
DESCRIPTION:Join Women Build for a free online workshop on Electrical Basics on Wednesday\, 9/23. \nWith this interactive Q&A workshop\, Women Build Crew Chief Caitie will walk through how to change light fixtures and install a GFCI outlet\, and talk through some common electrical problems in homes and how to troubleshoot solutions. \nThe workshop begins on Zoom at 5:30 PM. Pre-registration is required; link will be provided upon RSVP. \nAll are welcome!
URL:https://www.tpc-habitat.org/event/women-build-basic-electrical/2020-09-23/
LOCATION:Online\, via Zoom\, United States
CATEGORIES:Women Build,Workshop
ORGANIZER;CN="Tracey Sorenson%2C Director of Community Engagement":MAILTO:tsorenson@tpc-habitat.org
END:VEVENT
BEGIN:VEVENT
DTSTART;TZID=America/Los_Angeles:20200909T173000
DTEND;TZID=America/Los_Angeles:20200909T190000
DTSTAMP:20260422T152422
CREATED:20200727T171823Z
LAST-MODIFIED:20200727T171823Z
UID:4688-1599672600-1599678000@www.tpc-habitat.org
SUMMARY:Women Build: Flooring
DESCRIPTION:Join Women Build on Wednesday\, September 9 for a workshop on flooring. \nLearn about the similarities and differences between vinyl and laminate flooring and the variety of options for both. Caitie will take us step by step through installation\, and explain the necessary tools and teaching skills. \nThis is a free\, online workshop accessed via Zoom. To get the link\, please register. All are welcome.
URL:https://www.tpc-habitat.org/event/flooring_sept2020/
LOCATION:Online\, via Zoom\, United States
CATEGORIES:Women Build,Workshop
ORGANIZER;CN="Tracey Sorenson%2C Director of Community Engagement":MAILTO:tsorenson@tpc-habitat.org
END:VEVENT
BEGIN:VEVENT
DTSTART;TZID=America/Los_Angeles:20200819T150000
DTEND;TZID=America/Los_Angeles:20200819T163000
DTSTAMP:20260422T152422
CREATED:20200727T170041Z
LAST-MODIFIED:20200727T170258Z
UID:4682-1597849200-1597854600@www.tpc-habitat.org
SUMMARY:Women Build: Landscaping
DESCRIPTION:In this Women Build workshop\, learn how to weed\, edge\, and mulch a garden bed. \nJoin Caitie on Wednesday\, August 19 for a review of the basic tools and concepts\, information about about fertilizing plants\, and a demonstration on how to set up a drip irrigation line. As always\, bring your questions. \nRegister for this free online\, virtual workshop here and the Zoom link will be delivered to your inbox. All are welcome!  \n\n📸: Hollie Coates-Seamster\, TPU
URL:https://www.tpc-habitat.org/event/landscaping_aug2020/
LOCATION:Online\, via Zoom\, United States
CATEGORIES:Women Build,Workshop
ORGANIZER;CN="Tracey Sorenson%2C Director of Community Engagement":MAILTO:tsorenson@tpc-habitat.org
END:VEVENT
BEGIN:VEVENT
DTSTART;TZID=America/Los_Angeles:20200730T173000
DTEND;TZID=America/Los_Angeles:20200730T190000
DTSTAMP:20260422T152422
CREATED:20200723T171627Z
LAST-MODIFIED:20200723T171627Z
UID:4668-1596130200-1596135600@www.tpc-habitat.org
SUMMARY:Women Build: Garden Beds
DESCRIPTION:The Women Build Workshop Series continues on Thursday\, July 30 as we take on raised garden beds. \nJoin Caitie as she takes us step-by-step through constructing a 4’ x 8’ garden bed. Learn about the materials and tools you’ll need to make your own beds and how to modify the design to fit the space you need. \nThis is an online\, virtual workshop accessed via Zoom. To get the link\, please register. All are welcome. \n 
URL:https://www.tpc-habitat.org/event/raised-garden-beds/
LOCATION:Online\, via Zoom\, United States
CATEGORIES:Women Build,Workshop
ORGANIZER;CN="Tracey Sorenson%2C Director of Community Engagement":MAILTO:tsorenson@tpc-habitat.org
END:VEVENT
BEGIN:VEVENT
DTSTART;TZID=America/Los_Angeles:20200722T173000
DTEND;TZID=America/Los_Angeles:20200722T190000
DTSTAMP:20260422T152422
CREATED:20200612T193828Z
LAST-MODIFIED:20201019T183606Z
UID:4509-1595439000-1595444400@www.tpc-habitat.org
SUMMARY:Women Build: Intro to Tile
DESCRIPTION:Don’t miss the Women Build Skills Workshop Intro to Tile on Wednesday\, November 18. \nLed by Women Build Crew Chief Caitie\, this interactive workshop will review the tools and materials needed for a DIY tile project. Caitie will also demonstrate how to measure and cut ceramic tile and set with Thinset\, and answer your questions along the way. \nClick here to register for this virtual\, online session.
URL:https://www.tpc-habitat.org/event/tilenov2020/2020-07-22/
LOCATION:Online\, via Zoom\, United States
CATEGORIES:Women Build,Workshop
ORGANIZER;CN="Tracey Sorenson%2C Director of Community Engagement":MAILTO:tsorenson@tpc-habitat.org
END:VEVENT
BEGIN:VEVENT
DTSTART;TZID=America/Los_Angeles:20200709T180000
DTEND;TZID=America/Los_Angeles:20200709T193000
DTSTAMP:20260422T152422
CREATED:20191211T205940Z
LAST-MODIFIED:20200713T211707Z
UID:3932-1594317600-1594323000@www.tpc-habitat.org
SUMMARY:Homeowner Information Session
DESCRIPTION:As a social distancing measure\, this workshop will be held online via Zoom.\nAttendance at a Homeowner Information Session is the first step to becoming a Habitat homeowner. \nPre-registration is required and Zoom link will be provided upon RSVP. To register for this session\, please email us or call 253-627-5626 x120. \nOur homebuyer program is designed for households with with a maximum gross income* (before taxes) of 80% of Area Median Income based on the number of individuals living in the household\, and a minimum income of $35\,000. Further information about eligibility can be found here.
URL:https://www.tpc-habitat.org/event/2020thursinfosession-2020-07-09/2020-07-09/
LOCATION:Online\, via Zoom\, United States
CATEGORIES:Homeowner Information Session
ORGANIZER;CN="Homeowner Services":MAILTO:homeowner@tpc-habitat.org
END:VEVENT
BEGIN:VEVENT
DTSTART;TZID=America/Los_Angeles:20200708T173000
DTEND;TZID=America/Los_Angeles:20200708T190000
DTSTAMP:20260422T152422
CREATED:20200611T172314Z
LAST-MODIFIED:20201019T183714Z
UID:4504-1594229400-1594234800@www.tpc-habitat.org
SUMMARY:Women Build: Framing Basics
DESCRIPTION:Don’t miss the Women Build Skills Workshops series offering on Framing Basics on Wednesday\, July 8. \nLed by Women Build Crew Chief Caitie\, this interactive workshop will cover nail gun safety and use\, how to layout walls and floors\, and general framing concepts. Caitie will demonstrate by building a sample wall and show techniques to alter existing framing\, and answer your questions along the way. \nClick here to register for this virtual\, online session.
URL:https://www.tpc-habitat.org/event/framingjuly2020/2020-07-08/
LOCATION:Online\, via Zoom\, United States
CATEGORIES:Women Build,Workshop
ORGANIZER;CN="Tracey Sorenson%2C Director of Community Engagement":MAILTO:tsorenson@tpc-habitat.org
END:VEVENT
BEGIN:VEVENT
DTSTART;TZID=America/Los_Angeles:20200617T173000
DTEND;TZID=America/Los_Angeles:20200617T190000
DTSTAMP:20260422T152422
CREATED:20200610T221434Z
LAST-MODIFIED:20200610T221434Z
UID:4491-1592415000-1592420400@www.tpc-habitat.org
SUMMARY:Women Build: Gardening Basics
DESCRIPTION:Next up in the Women Build Skills Workshops series: Gardening Basics on Wednesday\, June 17. \nJoin us at 5:30 PM for a live demonstration from from L’arche Farms. Learn how to choose plants\, how to plant and transplant\, how different soil types impact your garden\, and more – including time for Q & A. \nClick here to register for this session.
URL:https://www.tpc-habitat.org/event/gardeningbasicsjune2020/
LOCATION:Online\, via Zoom\, United States
CATEGORIES:Women Build,Workshop
ORGANIZER;CN="Tracey Sorenson%2C Director of Community Engagement":MAILTO:tsorenson@tpc-habitat.org
END:VEVENT
BEGIN:VEVENT
DTSTART;TZID=America/Los_Angeles:20200604T120000
DTEND;TZID=America/Los_Angeles:20200604T130000
DTSTAMP:20260422T152422
CREATED:20200522T192332Z
LAST-MODIFIED:20200526T213339Z
UID:4479-1591272000-1591275600@www.tpc-habitat.org
SUMMARY:Renter & Homeowner Support in the HEROES Act
DESCRIPTION:Join Congressman Derek Kilmer and Jason Gauthier\, Tacoma Habitat’s Director of Government Affairs for discussion and Q&A on the housing support elements of the HEROES Act. \nThis online event will be live on Zoom on Thursday\, June 4 at noon. \nPlease click the link below to join the webinar: https://us02web.zoom.us/j/81050703359 \n  \nsponsored by:
URL:https://www.tpc-habitat.org/event/heroesact/
LOCATION:Online\, via Zoom\, United States
CATEGORIES:Advocacy,Workshop
ORGANIZER;CN="Jason Gauthier":MAILTO:office@tpc-habitat.org
END:VEVENT
BEGIN:VEVENT
DTSTART;TZID=America/Los_Angeles:20200603T173000
DTEND;TZID=America/Los_Angeles:20200603T190000
DTSTAMP:20260422T152422
CREATED:20200514T001312Z
LAST-MODIFIED:20200514T234258Z
UID:4424-1591205400-1591210800@www.tpc-habitat.org
SUMMARY:Women Build: Intro to Drywall
DESCRIPTION:Join Women Build for an interactive Q&A session and learn everything you need to know about drywall. \nIn this online workshop\, we will cover how to apply drywall mud and tape\, sanding\, texturing\, patching\, and repair techniques. \nRSVPs are required.
URL:https://www.tpc-habitat.org/event/drywalljune2020/
LOCATION:Online\, via Zoom\, United States
CATEGORIES:Women Build,Workshop
ORGANIZER;CN="Volunteer Services":MAILTO:volunteer@tpc-habitat.org
END:VEVENT
BEGIN:VEVENT
DTSTART;TZID=America/Los_Angeles:20200520T173000
DTEND;TZID=America/Los_Angeles:20200520T190000
DTSTAMP:20260422T152422
CREATED:20200501T223112Z
LAST-MODIFIED:20200514T234215Z
UID:4389-1589995800-1590001200@www.tpc-habitat.org
SUMMARY:Women Build: Paint Basics
DESCRIPTION:Women Build is happy to (virtually) bring you another interactive skills workshop: Paint Basics. \nOn Wednesday\, 5/20 join Women Build Crew Chief Caitie to learn all about paint via Zoom. \nThis workshop will cover the different types of paint\, how to prep for various projects\, tips for success\, and Q & A with Caitie. \nRSVPs are required.
URL:https://www.tpc-habitat.org/event/paintbasicsmay2020/
LOCATION:Online\, via Zoom\, United States
CATEGORIES:Women Build,Workshop
ORGANIZER;CN="Volunteer Services":MAILTO:volunteer@tpc-habitat.org
END:VEVENT
BEGIN:VEVENT
DTSTART;TZID=America/Los_Angeles:20200520T160000
DTEND;TZID=America/Los_Angeles:20200520T170000
DTSTAMP:20260422T152422
CREATED:20200417T180518Z
LAST-MODIFIED:20200421T170139Z
UID:4372-1589990400-1589994000@www.tpc-habitat.org
SUMMARY:Maintaining Credit & Managing Savings
DESCRIPTION:Tacoma Habitat presents a three-part Financial Health Happy Hour series to help you navigate tough economic times. This is the third and final virtual workshop of the series\, titled Maintaining Credit & Managing Savings. \nIt might feel impossible to squirrel away any money right now\, but Tacoma Habitat is here to help you carve out a plan to maintain/improve your credit standing and tuck some money away. Even during this financial crisis.  \nJoin Tacoma Habitat’s Director of Homeowner Services Deena Giesen and Dennis Means\, Home Loan Sales Manager at Harborstone Credit Union\, for an hour filled with tips to come out of this economic crisis with some money in your pocket. Register here to reserve your spot and submit any questions you have for the panelists.
URL:https://www.tpc-habitat.org/event/maintaining-credit/
LOCATION:Online\, via Zoom\, United States
CATEGORIES:Workshop
ORGANIZER;CN="Homeowner Services":MAILTO:homeowner@tpc-habitat.org
END:VEVENT
BEGIN:VEVENT
DTSTART;TZID=America/Los_Angeles:20200515T120000
DTEND;TZID=America/Los_Angeles:20200515T130000
DTSTAMP:20260422T152422
CREATED:20200511T235633Z
LAST-MODIFIED:20200511T235633Z
UID:4414-1589544000-1589547600@www.tpc-habitat.org
SUMMARY:#CostofHome Conversation: Affordable Housing
DESCRIPTION:Join panelists Amanda DeShazo\, Executive Director of the Tacoma-Pierce County Affordable Housing Consortium and Ryan Mello\, former Tacoma City Council member for a discussion on affordable housing in our community\, hosted by Jason Gauthier\, Tacoma Habitat’s Director of Government Affairs. \nAmanda and Ryan will dive deep on topics like state and local housing trust funds\, the priorities of the Affordable Housing Action Strategy\, and how the construction of affordable housing is financed. \nEver wonder what CDBG funding can be used for? This is an event for you. \nPlease click here to join the webinar.\nOr iPhone one-tap : US: +12532158782\,\,87547903022#\nOr Telephone: US: +1 253 215 8782\nWebinar ID: 875 4790 3022
URL:https://www.tpc-habitat.org/event/costofhome-conversation-affordable-housing/
LOCATION:Online\, via Zoom\, United States
ORGANIZER;CN="Jason Gauthier":MAILTO:office@tpc-habitat.org
END:VEVENT
BEGIN:VEVENT
DTSTART;TZID=America/Los_Angeles:20200507T180000
DTEND;TZID=America/Los_Angeles:20200507T193000
DTSTAMP:20260422T152422
CREATED:20191211T205940Z
LAST-MODIFIED:20200519T215713Z
UID:3931-1588874400-1588879800@www.tpc-habitat.org
SUMMARY:Homeowner Information Session
DESCRIPTION:As a social distancing measure\, this workshop will be held online via Zoom.\nAttendance at a Homeowner Information Session is the first step to becoming a Habitat homeowner. \nPre-registration is required and Zoom link will be provided upon RSVP. To register for this session\, please email us or call 253-627-5626 x120. \nOur homebuyer program is designed for households with with a maximum gross income* (before taxes) of 80% of Area Median Income based on the number of individuals living in the household\, and a minimum income of $35\,000. Further information about eligibility can be found here.
URL:https://www.tpc-habitat.org/event/2020thursinfosession-2020-05-07/2020-05-07/
LOCATION:Online\, via Zoom\, United States
CATEGORIES:Homeowner Information Session
ORGANIZER;CN="Deena Giesen":MAILTO:dgiesen@tpc-habitat.org
END:VEVENT
BEGIN:VEVENT
DTSTART;TZID=America/Los_Angeles:20200506T173000
DTEND;TZID=America/Los_Angeles:20200506T190000
DTSTAMP:20260422T152422
CREATED:20200501T213901Z
LAST-MODIFIED:20200506T191015Z
UID:4387-1588786200-1588791600@www.tpc-habitat.org
SUMMARY:Women Build: Intro to Tools
DESCRIPTION:Women Build Skills Workshops go virtual\, starting with Intro to Tools on Wednesday\, 5/6! \nLet’s start with the basics: What would be included on a basic tool list? What’s the best tool for the job? When do you use a screw versus a nail? Why are there so many different kinds of wood? What about saws and power tools? \nJoin Women Build Crew Chief Caitie and learn to be equipped for the start of any project. The workshop will be interactive\, with opportunity to ask questions of Caitie. \nClick here to register for this session.
URL:https://www.tpc-habitat.org/event/intrototoolsmay2020/
LOCATION:Online\, via Zoom\, United States
CATEGORIES:Women Build,Workshop
ORGANIZER;CN="Volunteer Services":MAILTO:volunteer@tpc-habitat.org
END:VEVENT
BEGIN:VEVENT
DTSTART;TZID=America/Los_Angeles:20200506T160000
DTEND;TZID=America/Los_Angeles:20200506T170000
DTSTAMP:20260422T152422
CREATED:20200417T175807Z
LAST-MODIFIED:20200417T175807Z
UID:4369-1588780800-1588784400@www.tpc-habitat.org
SUMMARY:Maximizing your Budget in Lean Times
DESCRIPTION:Tacoma Habitat presents a three-part Financial Health Happy Hour series to help you navigate tough economic times. This is the second virtual workshop of the series\, titled Maximizing Your Budget in Lean Times. \nWhether you’ve been furloughed from your job or you’re worried about your investments\, this is a time to be smart about your household budget. There’s no telling when our economy will be back on line or how long it will take for the global marketplace to rebound from the fallout of the pandemic. So let’s be smart about our money now as means of protecting ourselves for whatever lies ahead. \nJoin Tacoma Habitat’s Director of Homeowner Services Deena Giesen and LaPria Bonner\, AFC who is the Center for Strong Families Site Manager at Clover Park Technical College\, for a happy hour filled with tips and tricks to survive these lean times and come out ahead. We’ll meet up via Zoom on 5/6 at 4:00 PM. Register here to reserve your spot and submit any questions you have for our experts.
URL:https://www.tpc-habitat.org/event/maximizing-your-budget/
LOCATION:Online\, via Zoom\, United States
CATEGORIES:Workshop
ORGANIZER;CN="Homeowner Services":MAILTO:homeowner@tpc-habitat.org
END:VEVENT
END:VCALENDAR