BEGIN:VCALENDAR
VERSION:2.0
PRODID:-//Tacoma/Pierce County Habitat For Humanity - ECPv6.15.20//NONSGML v1.0//EN
CALSCALE:GREGORIAN
METHOD:PUBLISH
X-ORIGINAL-URL:https://www.tpc-habitat.org
X-WR-CALDESC:Events for Tacoma/Pierce County Habitat For Humanity
REFRESH-INTERVAL;VALUE=DURATION:PT1H
X-Robots-Tag:noindex
X-PUBLISHED-TTL:PT1H
BEGIN:VTIMEZONE
TZID:America/Los_Angeles
BEGIN:DAYLIGHT
TZOFFSETFROM:-0800
TZOFFSETTO:-0700
TZNAME:PDT
DTSTART:20170312T100000
END:DAYLIGHT
BEGIN:STANDARD
TZOFFSETFROM:-0700
TZOFFSETTO:-0800
TZNAME:PST
DTSTART:20171105T090000
END:STANDARD
BEGIN:DAYLIGHT
TZOFFSETFROM:-0800
TZOFFSETTO:-0700
TZNAME:PDT
DTSTART:20180311T100000
END:DAYLIGHT
BEGIN:STANDARD
TZOFFSETFROM:-0700
TZOFFSETTO:-0800
TZNAME:PST
DTSTART:20181104T090000
END:STANDARD
BEGIN:DAYLIGHT
TZOFFSETFROM:-0800
TZOFFSETTO:-0700
TZNAME:PDT
DTSTART:20190310T100000
END:DAYLIGHT
BEGIN:STANDARD
TZOFFSETFROM:-0700
TZOFFSETTO:-0800
TZNAME:PST
DTSTART:20191103T090000
END:STANDARD
BEGIN:DAYLIGHT
TZOFFSETFROM:-0800
TZOFFSETTO:-0700
TZNAME:PDT
DTSTART:20200308T100000
END:DAYLIGHT
BEGIN:STANDARD
TZOFFSETFROM:-0700
TZOFFSETTO:-0800
TZNAME:PST
DTSTART:20201101T090000
END:STANDARD
END:VTIMEZONE
BEGIN:VEVENT
DTSTART;TZID=America/Los_Angeles:20190228T180000
DTEND;TZID=America/Los_Angeles:20190228T190000
DTSTAMP:20260421T024921
CREATED:20181203T175828Z
LAST-MODIFIED:20190104T172441Z
UID:2450-1551376800-1551380400@www.tpc-habitat.org
SUMMARY:Homeowner Information Session
DESCRIPTION:Attendance at a Homeowner Information Session is the first step to becoming a Habitat homeowner. \nTo register\, please email homeowner@tpc-habitat.org or call 253-627-5626 x140. \nSpace is limited and pre-registration is required. Walk-ins will not be accommodated. \nDoors open for the workshop at 5:50 pm and the session begins promptly at 6:00 pm. All registered attendees will receive both email and postcard reminders. \nShould you need to cancel your registration\, please notify us within 48 hours so we can accommodate someone on the wait list with your seat. Notifications can be made to: 253-627-5626 x140 or homeowner@tpc-habitat.org.
URL:https://www.tpc-habitat.org/event/homeowner-information-session-2-2019-01-24-2019-02-28/
LOCATION:Habitat Office\, Tacoma\, 4824 S Tacoma Way\, Tacoma\, WA\, 98409\, United States
CATEGORIES:Homeowner Information Session
ORGANIZER;CN="Homeowner Services":MAILTO:homeowner@tpc-habitat.org
GEO:47.2129565;-122.4845059
X-APPLE-STRUCTURED-LOCATION;VALUE=URI;X-ADDRESS=Habitat Office Tacoma 4824 S Tacoma Way Tacoma WA 98409 United States;X-APPLE-RADIUS=500;X-TITLE=4824 S Tacoma Way:geo:-122.4845059,47.2129565
END:VEVENT
BEGIN:VEVENT
DTSTART;TZID=America/Los_Angeles:20190207T180000
DTEND;TZID=America/Los_Angeles:20190207T190000
DTSTAMP:20260421T024921
CREATED:20181203T175828Z
LAST-MODIFIED:20190122T224120Z
UID:2451-1549562400-1549566000@www.tpc-habitat.org
SUMMARY:Homeowner Information Session
DESCRIPTION:This session is closed to new registrations\,\nhaving reached its seating capacity.\nPlease see our Event Calendar for other workshop options. \nSpace is limited and pre-registration is required.\nWalk-ins will not be accommodated. \nShould you need to cancel your registration\, please notify us within 48 hours so we can accommodate someone on the wait list with your seat. Notifications can be made to: 253-627-5626 x140 or homeowner@tpc-habitat.org. \n  \nDoors open for the workshop at 5:50 pm and the session begins promptly at 6:00 pm. All registered attendees will receive both email and postcard reminders.
URL:https://www.tpc-habitat.org/event/homeowner-information-session-2-2019-01-24-2019-02-07/
LOCATION:Habitat Office\, Tacoma\, 4824 S Tacoma Way\, Tacoma\, WA\, 98409\, United States
CATEGORIES:Homeowner Information Session
ORGANIZER;CN="Homeowner Services":MAILTO:homeowner@tpc-habitat.org
GEO:47.2129565;-122.4845059
X-APPLE-STRUCTURED-LOCATION;VALUE=URI;X-ADDRESS=Habitat Office Tacoma 4824 S Tacoma Way Tacoma WA 98409 United States;X-APPLE-RADIUS=500;X-TITLE=4824 S Tacoma Way:geo:-122.4845059,47.2129565
END:VEVENT
BEGIN:VEVENT
DTSTART;TZID=America/Los_Angeles:20190130T180000
DTEND;TZID=America/Los_Angeles:20190130T193000
DTSTAMP:20260421T024921
CREATED:20190123T220114Z
LAST-MODIFIED:20190123T220354Z
UID:2671-1548871200-1548876600@www.tpc-habitat.org
SUMMARY:Credit & the Road to Homeownership
DESCRIPTION:Please join us Wednesday\, January 30th at 6PM to learn how credit works and how credit information can impact the ability to secure a mortgage loan. Deena Giesen\, Financial Counselor for Sound Outreach\, will lead this session that will help you and your family prepare for the journey towards homeownership. Topics include: credit scores\, bureaus\, reporting\, mitigating issues\, payment pitfalls\, and more. (Open to the public\, with an RSVP.) \nTo sign up\, please RSVP by email or call us at 253-627-5626 extension 140. With your RSVP\, please provide the name(s) of all those that will attend and their contact information (mailing address\, email and phone number). \nSeating is limited to 25 attendees and an RSVP is required to have access to this session. Due to limited space\, walk-ins will not be accommodated.  \nDoors will open 10 minutes before the beginning of the session (5:50PM). \nWe look forward to meeting you! \n  \nPhoto courtesy of iStockphoto. \n 
URL:https://www.tpc-habitat.org/event/creditworkshop/
LOCATION:Habitat Office\, Tacoma\, 4824 S Tacoma Way\, Tacoma\, WA\, 98409\, United States
CATEGORIES:Workshop
ORGANIZER;CN="Homeowner Services":MAILTO:homeowner@tpc-habitat.org
GEO:47.2129565;-122.4845059
X-APPLE-STRUCTURED-LOCATION;VALUE=URI;X-ADDRESS=Habitat Office Tacoma 4824 S Tacoma Way Tacoma WA 98409 United States;X-APPLE-RADIUS=500;X-TITLE=4824 S Tacoma Way:geo:-122.4845059,47.2129565
END:VEVENT
BEGIN:VEVENT
DTSTART;TZID=America/Los_Angeles:20190124T180000
DTEND;TZID=America/Los_Angeles:20190124T190000
DTSTAMP:20260421T024921
CREATED:20181203T175828Z
LAST-MODIFIED:20190104T171348Z
UID:2449-1548352800-1548356400@www.tpc-habitat.org
SUMMARY:Homeowner Information Session
DESCRIPTION:This session is closed to new registrations\,\nhaving reached its seating capacity.\nPlease see our Event Calendar for other workshop options. \nSpace is limited and pre-registration is required.\nWalk-ins will not be accommodated. \nShould you need to cancel your registration\, please notify us within 48 hours so we can accommodate someone on the wait list with your seat. Notifications can be made to: 253-627-5626 x140 or homeowner@tpc-habitat.org. \n  \nDoors open for the workshop at 5:50 pm and the session begins promptly at 6:00 pm. All registered attendees will receive both email and postcard reminders.
URL:https://www.tpc-habitat.org/event/homeowner-information-session-2-2019-01-24/2019-01-24/
LOCATION:Habitat Office\, Tacoma\, 4824 S Tacoma Way\, Tacoma\, WA\, 98409\, United States
CATEGORIES:Homeowner Information Session
ORGANIZER;CN="Homeowner Services":MAILTO:homeowner@tpc-habitat.org
GEO:47.2129565;-122.4845059
X-APPLE-STRUCTURED-LOCATION;VALUE=URI;X-ADDRESS=Habitat Office Tacoma 4824 S Tacoma Way Tacoma WA 98409 United States;X-APPLE-RADIUS=500;X-TITLE=4824 S Tacoma Way:geo:-122.4845059,47.2129565
END:VEVENT
BEGIN:VEVENT
DTSTART;TZID=America/Los_Angeles:20190110T180000
DTEND;TZID=America/Los_Angeles:20190110T190000
DTSTAMP:20260421T024921
CREATED:20181203T175828Z
LAST-MODIFIED:20181214T221935Z
UID:2445-1547143200-1547146800@www.tpc-habitat.org
SUMMARY:Homeowner Information Session
DESCRIPTION:This session is closed to new registrations\,\nhaving reached its seating capacity.\n\nPlease see our Event Calendar for other workshop options. \nSpace is limited and pre-registration is required.\nWalk-ins will not be accommodated. \n  \nShould you need to cancel your registration\, please notify us within 48 hours so we can accommodate someone on the wait list with your seat. Notifications can be made to: 253-627-5626 x140 or homeowner@tpc-habitat.org. \n  \nDoors open for the workshop at 5:50 pm and the session begins promptly at 6:00 pm. All registered attendees will receive both email and postcard reminders.
URL:https://www.tpc-habitat.org/event/homeowner-information-session-2/
LOCATION:Habitat Office\, Tacoma\, 4824 S Tacoma Way\, Tacoma\, WA\, 98409\, United States
CATEGORIES:Homeowner Information Session
ORGANIZER;CN="Homeowner Services":MAILTO:homeowner@tpc-habitat.org
GEO:47.2129565;-122.4845059
X-APPLE-STRUCTURED-LOCATION;VALUE=URI;X-ADDRESS=Habitat Office Tacoma 4824 S Tacoma Way Tacoma WA 98409 United States;X-APPLE-RADIUS=500;X-TITLE=4824 S Tacoma Way:geo:-122.4845059,47.2129565
END:VEVENT
BEGIN:VEVENT
DTSTART;TZID=America/Los_Angeles:20181211T180000
DTEND;TZID=America/Los_Angeles:20181211T190000
DTSTAMP:20260421T024921
CREATED:20181203T180348Z
LAST-MODIFIED:20181206T232500Z
UID:2455-1544551200-1544554800@www.tpc-habitat.org
SUMMARY:Homeowner Information Session
DESCRIPTION:This session is closed to new registrations\,\nhaving reached its seating capacity.\n\nPlease see our Event Calendar for other workshop options. \nSpace is limited and pre-registration is required.\nWalk-ins will not be accommodated. \n  \nShould you need to cancel your registration\, please notify us within 48 hours so we can accommodate someone on the wait list with your seat. Notifications can be made to: 253-627-5626 x140 or homeowner@tpc-habitat.org. \n  \nDoors open for the workshop at 5:50 pm and the session begins promptly at 6:00 pm. All registered attendees will receive both email and postcard reminders. \n  \n 
URL:https://www.tpc-habitat.org/event/homeowner-information-session-3/
LOCATION:Habitat Office\, Tacoma\, 4824 S Tacoma Way\, Tacoma\, WA\, 98409\, United States
CATEGORIES:Homeowner Information Session
ORGANIZER;CN="Homeowner Services":MAILTO:homeowner@tpc-habitat.org
GEO:47.2129565;-122.4845059
X-APPLE-STRUCTURED-LOCATION;VALUE=URI;X-ADDRESS=Habitat Office Tacoma 4824 S Tacoma Way Tacoma WA 98409 United States;X-APPLE-RADIUS=500;X-TITLE=4824 S Tacoma Way:geo:-122.4845059,47.2129565
END:VEVENT
BEGIN:VEVENT
DTSTART;TZID=America/Los_Angeles:20181025T180000
DTEND;TZID=America/Los_Angeles:20181025T190000
DTSTAMP:20260421T024921
CREATED:20181006T001016Z
LAST-MODIFIED:20181024T155842Z
UID:1581-1540490400-1540494000@www.tpc-habitat.org
SUMMARY:Homeowner Information Session
DESCRIPTION:Attendance at a Homeowner Information Session is the first step to becoming a Habitat homeowner. \nSpace is limited and pre-registration is required. Walk-ins will not be accommodated. \n  \nThis session is closed to new registrations\,\nhaving reached its seating capacity.\n  \nPlease check back the first week of December for the 2019 Homeowner Information Session dates. 
URL:https://www.tpc-habitat.org/event/homeowner-information-session/
LOCATION:Habitat Office\, Tacoma\, 4824 S Tacoma Way\, Tacoma\, WA\, 98409\, United States
CATEGORIES:Homeowner Information Session
ORGANIZER;CN="Homeowner Services":MAILTO:homeowner@tpc-habitat.org
GEO:47.2129565;-122.4845059
X-APPLE-STRUCTURED-LOCATION;VALUE=URI;X-ADDRESS=Habitat Office Tacoma 4824 S Tacoma Way Tacoma WA 98409 United States;X-APPLE-RADIUS=500;X-TITLE=4824 S Tacoma Way:geo:-122.4845059,47.2129565
END:VEVENT
END:VCALENDAR