BEGIN:VCALENDAR
VERSION:2.0
PRODID:-//Tacoma/Pierce County Habitat For Humanity - ECPv6.15.20//NONSGML v1.0//EN
CALSCALE:GREGORIAN
METHOD:PUBLISH
X-WR-CALNAME:Tacoma/Pierce County Habitat For Humanity
X-ORIGINAL-URL:https://www.tpc-habitat.org
X-WR-CALDESC:Events for Tacoma/Pierce County Habitat For Humanity
REFRESH-INTERVAL;VALUE=DURATION:PT1H
X-Robots-Tag:noindex
X-PUBLISHED-TTL:PT1H
BEGIN:VTIMEZONE
TZID:America/Los_Angeles
BEGIN:DAYLIGHT
TZOFFSETFROM:-0800
TZOFFSETTO:-0700
TZNAME:PDT
DTSTART:20200308T100000
END:DAYLIGHT
BEGIN:STANDARD
TZOFFSETFROM:-0700
TZOFFSETTO:-0800
TZNAME:PST
DTSTART:20201101T090000
END:STANDARD
BEGIN:DAYLIGHT
TZOFFSETFROM:-0800
TZOFFSETTO:-0700
TZNAME:PDT
DTSTART:20210314T100000
END:DAYLIGHT
BEGIN:STANDARD
TZOFFSETFROM:-0700
TZOFFSETTO:-0800
TZNAME:PST
DTSTART:20211107T090000
END:STANDARD
BEGIN:DAYLIGHT
TZOFFSETFROM:-0800
TZOFFSETTO:-0700
TZNAME:PDT
DTSTART:20220313T100000
END:DAYLIGHT
BEGIN:STANDARD
TZOFFSETFROM:-0700
TZOFFSETTO:-0800
TZNAME:PST
DTSTART:20221106T090000
END:STANDARD
END:VTIMEZONE
BEGIN:VEVENT
DTSTART;TZID=America/Los_Angeles:20210203T163000
DTEND;TZID=America/Los_Angeles:20210203T173000
DTSTAMP:20260422T015926
CREATED:20201211T215600Z
LAST-MODIFIED:20201211T215600Z
UID:5035-1612369800-1612373400@www.tpc-habitat.org
SUMMARY:Women Build: Drywall Repair
DESCRIPTION:Join the 2021 Women Build Workshop series on Wednesday\, February 3 for Drywall Repair with Caitie. \nIn this interactive Q&A workshop\, Caitie will demonstrate different techniques for repairing drywall\, including sanding and techniques for patching holes or damage. The class starts at 4:30 PM PST. \nClick here to register for this virtual\, online session. All are welcome! \n  \n\nMeet the Instructor: Caitie\nAfter graduating from University of Mary Washington in Virginia with a degree in biology\, Caitie served two AmeriCorps terms as a Construction Site Coordinator with Habitat for Humanity\, first in Delaware then in Tacoma. Following her AmeriCorps term in Tacoma\, Caitie became a construction trainer for Goodwill’s YouthBuild program. Now living on the east coast\, Caitie works as a Construction Site Manager for a Habitat affiliate in North Carolina. \nCaitie continues volunteering with Women Build because she is passionate about teaching and empowering individuals\, especially women and young people. She believes that creating a safe environment to learn\, ask questions\, and make mistakes helps people develop new skills as well as the confidence to use them.
URL:https://www.tpc-habitat.org/event/wb2021drywallfeb/
LOCATION:Online\, via Zoom\, United States
CATEGORIES:Women Build,Workshop
ORGANIZER;CN="Tracey Sorenson%2C Director of Community Engagement":MAILTO:tsorenson@tpc-habitat.org
END:VEVENT
BEGIN:VEVENT
DTSTART;TZID=America/Los_Angeles:20210210T163000
DTEND;TZID=America/Los_Angeles:20210210T173000
DTSTAMP:20260422T015926
CREATED:20201230T230131Z
LAST-MODIFIED:20201230T232042Z
UID:5150-1612974600-1612978200@www.tpc-habitat.org
SUMMARY:Women Build Leadership Series: Financial Goals
DESCRIPTION:Setting financial goals does not need to be overwhelming! \nJoin Certified Financial Planner Ali Criss\, President of Financial Insights\, for this Women Build Leadership conversation about setting and managing financial goals. Learn simple steps to help manage your monthly budget\, establish an emergency fund\, save for retirement\, start a college savings account for children and grandchildren\, and plan your estate. \nClick here to register for this FREE virtual\, online session. All are welcome! \n  \n\n  \nMeet the Speaker\nAli Criss\, CFP®\, CDFA™ is the president and owner of woman-owned local wealth management firm\, Financial Insights\, based in downtown Tacoma. An influential local speaker and writer on financial planning topics\, Ali’s days are spent forming long-term relationships with professionals\, women\, and small business owners helping them plan for retirement and manage their wealth. Ali is a five time recipient of South Sound Magazine’s “Best Financial Advisor” award and was recognized as a Raymond James Woman of Distinction in 2018 for her work in independent wealth management. Ali sits on the Tacoma Community College Foundation Board of Directors and was honored as a distinguished alumnus of TCC in 2015. She also serves on the board of directors for Emergency Food Network and United States Indoor Skydiving.
URL:https://www.tpc-habitat.org/event/wb2021financialgoalsfeb/
LOCATION:Online\, via Zoom\, United States
CATEGORIES:Women Build,Workshop
ORGANIZER;CN="Tracey Sorenson%2C Director of Community Engagement":MAILTO:tsorenson@tpc-habitat.org
END:VEVENT
BEGIN:VEVENT
DTSTART;TZID=America/Los_Angeles:20210217T163000
DTEND;TZID=America/Los_Angeles:20210217T173000
DTSTAMP:20260422T015926
CREATED:20201211T220242Z
LAST-MODIFIED:20201211T233929Z
UID:5039-1613579400-1613583000@www.tpc-habitat.org
SUMMARY:Women Build: Toilet Basics
DESCRIPTION:Join Women Build for a plumbing basics workshop\, all about toilets\, led by Sandi. The online class is set for Wednesday\, February 17 at 4:30 PM PST. \nIn this interactive Q&A workshop\, Sandi will demonstrate repair and replacement of water closet parts and discuss toilet replacement. She will also do a demonstration of caulking that can be utilized for bathrooms\, kitchens\, and windows. \nClick here to register for this virtual\, online session. All are welcome! \n  \n\nMeet the instructor: Sandi\nGrowing up in a family of plumbers and handy persons\, Sandi began learning from a young age skills for maintaining and repairing just about anything. She began taking apart bathroom fixtures at age 8\, hanging drywall at age 13\, and working on her own cars at 16. \nFor seven years Sandi was a member of the team that created and led the City of Tacoma’s Neighborhood Makeover Week\, providing training to Tacoma citizens on home maintenance and holding an annual event to beautify Tacoma neighborhoods. She enjoys using her varied skill set to work on projects at her own home and sharing her knowledge with others.
URL:https://www.tpc-habitat.org/event/women-build-toilet-basics/
LOCATION:Online\, via Zoom\, United States
CATEGORIES:Women Build,Workshop
ORGANIZER;CN="Tracey Sorenson%2C Director of Community Engagement":MAILTO:tsorenson@tpc-habitat.org
END:VEVENT
END:VCALENDAR