BEGIN:VCALENDAR
VERSION:2.0
PRODID:-//Tacoma/Pierce County Habitat For Humanity - ECPv6.15.20//NONSGML v1.0//EN
CALSCALE:GREGORIAN
METHOD:PUBLISH
X-ORIGINAL-URL:https://www.tpc-habitat.org
X-WR-CALDESC:Events for Tacoma/Pierce County Habitat For Humanity
REFRESH-INTERVAL;VALUE=DURATION:PT1H
X-Robots-Tag:noindex
X-PUBLISHED-TTL:PT1H
BEGIN:VTIMEZONE
TZID:America/Los_Angeles
BEGIN:DAYLIGHT
TZOFFSETFROM:-0800
TZOFFSETTO:-0700
TZNAME:PDT
DTSTART:20190310T100000
END:DAYLIGHT
BEGIN:STANDARD
TZOFFSETFROM:-0700
TZOFFSETTO:-0800
TZNAME:PST
DTSTART:20191103T090000
END:STANDARD
BEGIN:DAYLIGHT
TZOFFSETFROM:-0800
TZOFFSETTO:-0700
TZNAME:PDT
DTSTART:20200308T100000
END:DAYLIGHT
BEGIN:STANDARD
TZOFFSETFROM:-0700
TZOFFSETTO:-0800
TZNAME:PST
DTSTART:20201101T090000
END:STANDARD
BEGIN:DAYLIGHT
TZOFFSETFROM:-0800
TZOFFSETTO:-0700
TZNAME:PDT
DTSTART:20210314T100000
END:DAYLIGHT
BEGIN:STANDARD
TZOFFSETFROM:-0700
TZOFFSETTO:-0800
TZNAME:PST
DTSTART:20211107T090000
END:STANDARD
END:VTIMEZONE
BEGIN:VEVENT
DTSTART;TZID=America/Los_Angeles:20200311T173000
DTEND;TZID=America/Los_Angeles:20200311T193000
DTSTAMP:20260422T182539
CREATED:20200203T213831Z
LAST-MODIFIED:20200309T225228Z
UID:4117-1583947800-1583955000@www.tpc-habitat.org
SUMMARY:Women Build: Plumbing Basics
DESCRIPTION:On Tuesday\, March 11 Women Build Workshop participants will learn basic residential plumbing\, including the theory of drainage systems and water distribution\, as well as how to do basic plumbing tasks like unstopping clogs and repairing faucets and toilets. You will also learn the difference between a closet auger\, plunger\, and hand snake\, and when to use each. \n\nSpace is limited for this no-cost workshop\, and preregistration is required. Attendees will be asked to sign a waiver upon registration. \n\n  \nThe health and safety of Tacoma/Pierce County Habitat for Humanity homeowners\, volunteers\, staff and community is a top priority. We continue to follow the recommendations of the Tacoma-Pierce County Health Department and are carefully monitoring the COVID-19 situation. \nHand washing stations are available on our construction sites\, and hand sanitizer is accessible both in the office and at the Habitat Stores. We are regularly disinfecting community-use spaces and encourage frequent hand washing. Employees and volunteers alike are encouraged to stay home if they are sick. \nPlease join us in promoting a healthy environment.
URL:https://www.tpc-habitat.org/event/plumbingmarch2020/
LOCATION:Habitat Office\, Tacoma\, 4824 S Tacoma Way\, Tacoma\, WA\, 98409\, United States
CATEGORIES:Women Build,Workshop
ORGANIZER;CN="Volunteer Services":MAILTO:volunteer@tpc-habitat.org
GEO:47.2129565;-122.4845059
X-APPLE-STRUCTURED-LOCATION;VALUE=URI;X-ADDRESS=Habitat Office Tacoma 4824 S Tacoma Way Tacoma WA 98409 United States;X-APPLE-RADIUS=500;X-TITLE=4824 S Tacoma Way:geo:-122.4845059,47.2129565
END:VEVENT
BEGIN:VEVENT
DTSTART;TZID=America/Los_Angeles:20200326T173000
DTEND;TZID=America/Los_Angeles:20200326T193000
DTSTAMP:20260422T182539
CREATED:20200129T003009Z
LAST-MODIFIED:20200313T193218Z
UID:4069-1585243800-1585251000@www.tpc-habitat.org
SUMMARY:CANCELLED Women Build: Gardening 101
DESCRIPTION:As a social distancing measure\, the Gardening 101 Workshop has been cancelled and will be rescheduled for a later date. \nIf you are registered for this event\, you will receive an email communication regarding its cancellation and eventual reschedule. To keep pace with the fluid COVID-19 situation and Tacoma/Pierce County Habitat for Humanity’s response\, please visit: https://www.tpc-habitat.org/covid-19/. Thank you for your patience and flexibility during this extraordinary time.  \n\nJoin Master Gardeners Kelly and Julia for this Women Build Workshop: Gardening 101. \nLearn the basics to start/maintain your own garden\, like how to plant seeds and transplant plants; discern the different types of potting soil; advantages to planting in the ground vs. in containers; where to get tools and materials; and where to go for more information. \nHands-on activities for this workshop include: planting seeds and transplanting potted plants. Please bring gardening gloves if you have some\, thought we will have some extras available. \nSpace is limited for this no-cost workshop\, and preregistration is required. Attendees will be asked to sign a waiver upon registration. \n\nThe health and safety of Tacoma/Pierce County Habitat for Humanity homeowners\, volunteers\, staff and community is a top priority. We continue to follow the recommendations of the Tacoma-Pierce County Health Department and are carefully monitoring the COVID-19 situation. \nHand washing stations are available on our construction sites\, and hand sanitizer is accessible both in the office and at the Habitat Stores. We are regularly disinfecting community-use spaces and encourage frequent hand washing. Employees and volunteers alike are encouraged to stay home if they are sick. \nPlease join us in promoting a healthy environment.
URL:https://www.tpc-habitat.org/event/gardeningmarch2020/
LOCATION:Habitat Office\, Tacoma\, 4824 S Tacoma Way\, Tacoma\, WA\, 98409\, United States
CATEGORIES:Women Build,Workshop
ORGANIZER;CN="Volunteer Services":MAILTO:volunteer@tpc-habitat.org
GEO:47.2129565;-122.4845059
X-APPLE-STRUCTURED-LOCATION;VALUE=URI;X-ADDRESS=Habitat Office Tacoma 4824 S Tacoma Way Tacoma WA 98409 United States;X-APPLE-RADIUS=500;X-TITLE=4824 S Tacoma Way:geo:-122.4845059,47.2129565
END:VEVENT
END:VCALENDAR