BEGIN:VCALENDAR
VERSION:2.0
PRODID:-//Tacoma/Pierce County Habitat For Humanity - ECPv6.15.20//NONSGML v1.0//EN
CALSCALE:GREGORIAN
METHOD:PUBLISH
X-WR-CALNAME:Tacoma/Pierce County Habitat For Humanity
X-ORIGINAL-URL:https://www.tpc-habitat.org
X-WR-CALDESC:Events for Tacoma/Pierce County Habitat For Humanity
REFRESH-INTERVAL;VALUE=DURATION:PT1H
X-Robots-Tag:noindex
X-PUBLISHED-TTL:PT1H
BEGIN:VTIMEZONE
TZID:America/Los_Angeles
BEGIN:DAYLIGHT
TZOFFSETFROM:-0800
TZOFFSETTO:-0700
TZNAME:PDT
DTSTART:20190310T100000
END:DAYLIGHT
BEGIN:STANDARD
TZOFFSETFROM:-0700
TZOFFSETTO:-0800
TZNAME:PST
DTSTART:20191103T090000
END:STANDARD
BEGIN:DAYLIGHT
TZOFFSETFROM:-0800
TZOFFSETTO:-0700
TZNAME:PDT
DTSTART:20200308T100000
END:DAYLIGHT
BEGIN:STANDARD
TZOFFSETFROM:-0700
TZOFFSETTO:-0800
TZNAME:PST
DTSTART:20201101T090000
END:STANDARD
BEGIN:DAYLIGHT
TZOFFSETFROM:-0800
TZOFFSETTO:-0700
TZNAME:PDT
DTSTART:20210314T100000
END:DAYLIGHT
BEGIN:STANDARD
TZOFFSETFROM:-0700
TZOFFSETTO:-0800
TZNAME:PST
DTSTART:20211107T090000
END:STANDARD
END:VTIMEZONE
BEGIN:VEVENT
DTSTART;TZID=America/Los_Angeles:20200422T160000
DTEND;TZID=America/Los_Angeles:20200422T170000
DTSTAMP:20260423T091044
CREATED:20200414T175230Z
LAST-MODIFIED:20200414T185031Z
UID:4353-1587571200-1587574800@www.tpc-habitat.org
SUMMARY:Understanding Mortgage Terms
DESCRIPTION:Tacoma Habitat presents a three-part Financial Health Happy Hour series to help you navigate tough economic times. This is the first virtual workshop of the series\, titled Understanding Mortgage Terms. \nTimes are tough\, and for those struggling to make ends meet\, the words tied up in your mortgage may sound like a bunch of foreign jargon. Habitat is here to help. Join us via Zoom at 4:00 PM on Wednesday 4/22 as we dig into terms and learn the difference between forbearance and forgiveness\, how to avoid foreclosure\, and what all those “f” words mean for your financial future. \nPanelists include Tacoma Habitat’s Director of Homeowner Services Deena Giesen and Amy Remington\, Loan Consultant with Guild Mortgage. Register online here and submit your most pressing questions about your mortgage.
URL:https://www.tpc-habitat.org/event/understanding-mortgage-terms/
LOCATION:Online\, via Zoom\, United States
CATEGORIES:Workshop
ORGANIZER;CN="Homeowner Services":MAILTO:homeowner@tpc-habitat.org
END:VEVENT
END:VCALENDAR