BEGIN:VCALENDAR
VERSION:2.0
PRODID:-//Tacoma/Pierce County Habitat For Humanity - ECPv6.15.20//NONSGML v1.0//EN
CALSCALE:GREGORIAN
METHOD:PUBLISH
X-ORIGINAL-URL:https://www.tpc-habitat.org
X-WR-CALDESC:Events for Tacoma/Pierce County Habitat For Humanity
REFRESH-INTERVAL;VALUE=DURATION:PT1H
X-Robots-Tag:noindex
X-PUBLISHED-TTL:PT1H
BEGIN:VTIMEZONE
TZID:America/Los_Angeles
BEGIN:DAYLIGHT
TZOFFSETFROM:-0800
TZOFFSETTO:-0700
TZNAME:PDT
DTSTART:20200308T100000
END:DAYLIGHT
BEGIN:STANDARD
TZOFFSETFROM:-0700
TZOFFSETTO:-0800
TZNAME:PST
DTSTART:20201101T090000
END:STANDARD
BEGIN:DAYLIGHT
TZOFFSETFROM:-0800
TZOFFSETTO:-0700
TZNAME:PDT
DTSTART:20210314T100000
END:DAYLIGHT
BEGIN:STANDARD
TZOFFSETFROM:-0700
TZOFFSETTO:-0800
TZNAME:PST
DTSTART:20211107T090000
END:STANDARD
BEGIN:DAYLIGHT
TZOFFSETFROM:-0800
TZOFFSETTO:-0700
TZNAME:PDT
DTSTART:20220313T100000
END:DAYLIGHT
BEGIN:STANDARD
TZOFFSETFROM:-0700
TZOFFSETTO:-0800
TZNAME:PST
DTSTART:20221106T090000
END:STANDARD
END:VTIMEZONE
BEGIN:VEVENT
DTSTART;TZID=America/Los_Angeles:20211101T160000
DTEND;TZID=America/Los_Angeles:20211101T183000
DTSTAMP:20260421T160317
CREATED:20210923T201014Z
LAST-MODIFIED:20210927T194213Z
UID:5758-1635782400-1635791400@www.tpc-habitat.org
SUMMARY:Pathways to Homeownership
DESCRIPTION:Join Tacoma Habitat for a free\, 5-part workshop series centered around readiness for buying a home. The class will be held over Zoom from 4:00 PM to 6:30 PM daily\, starting Monday 11/1 and continuing through Friday 11/5. Attendance at all 5 sessions is mandatory.  \nThe series will cover the importance of a monthly spending plan\, how to get out of debt\, strategies to save for homeownership\, and the Washington State First-Time Home Buyer’s Class which is required in order to access State-funded down payment assistance programs. \nThe Pathways to Homeownership series is open the public\, whether you plan to buy through Habitat for Humanity or on the open market. \nPre-registration is required. Zoom link will be provided with workshop confirmation. \n 
URL:https://www.tpc-habitat.org/event/pathways_nov2021/2021-11-01/
LOCATION:Online\, via Zoom\, United States
CATEGORIES:Workshop
ORGANIZER;CN="Homeowner Services":MAILTO:homeowner@tpc-habitat.org
END:VEVENT
BEGIN:VEVENT
DTSTART;TZID=America/Los_Angeles:20211111T180000
DTEND;TZID=America/Los_Angeles:20211111T193000
DTSTAMP:20260421T160317
CREATED:20210602T162300Z
LAST-MODIFIED:20210902T212314Z
UID:5552-1636653600-1636659000@www.tpc-habitat.org
SUMMARY:Homeowner Information Session
DESCRIPTION:Attendance at a Homeowner Information Session is the first step to becoming a Habitat homeowner. \nTo register for the November 11 session and get the Zoom link\, please click here. \nOur homebuyer program is designed for households with with a maximum gross income* (before taxes) of 80% of Area Median Income based on the number of individuals living in the household. Further information about eligibility can be found here.
URL:https://www.tpc-habitat.org/event/infosession_nov2021/
LOCATION:Online\, via Zoom\, United States
CATEGORIES:Homeowner Information Session
ORGANIZER;CN="Homeowner Services":MAILTO:homeowner@tpc-habitat.org
END:VEVENT
END:VCALENDAR