BEGIN:VCALENDAR
VERSION:2.0
PRODID:-//Tacoma/Pierce County Habitat For Humanity - ECPv6.15.20//NONSGML v1.0//EN
CALSCALE:GREGORIAN
METHOD:PUBLISH
X-WR-CALNAME:Tacoma/Pierce County Habitat For Humanity
X-ORIGINAL-URL:https://www.tpc-habitat.org
X-WR-CALDESC:Events for Tacoma/Pierce County Habitat For Humanity
REFRESH-INTERVAL;VALUE=DURATION:PT1H
X-Robots-Tag:noindex
X-PUBLISHED-TTL:PT1H
BEGIN:VTIMEZONE
TZID:America/Los_Angeles
BEGIN:DAYLIGHT
TZOFFSETFROM:-0800
TZOFFSETTO:-0700
TZNAME:PDT
DTSTART:20230312T100000
END:DAYLIGHT
BEGIN:STANDARD
TZOFFSETFROM:-0700
TZOFFSETTO:-0800
TZNAME:PST
DTSTART:20231105T090000
END:STANDARD
BEGIN:DAYLIGHT
TZOFFSETFROM:-0800
TZOFFSETTO:-0700
TZNAME:PDT
DTSTART:20240310T100000
END:DAYLIGHT
BEGIN:STANDARD
TZOFFSETFROM:-0700
TZOFFSETTO:-0800
TZNAME:PST
DTSTART:20241103T090000
END:STANDARD
BEGIN:DAYLIGHT
TZOFFSETFROM:-0800
TZOFFSETTO:-0700
TZNAME:PDT
DTSTART:20250309T100000
END:DAYLIGHT
BEGIN:STANDARD
TZOFFSETFROM:-0700
TZOFFSETTO:-0800
TZNAME:PST
DTSTART:20251102T090000
END:STANDARD
END:VTIMEZONE
BEGIN:VEVENT
DTSTART;VALUE=DATE:20240525
DTEND;VALUE=DATE:20240526
DTSTAMP:20260421T092735
CREATED:20231214T201103Z
LAST-MODIFIED:20231214T201103Z
UID:7889-1716595200-1716681599@www.tpc-habitat.org
SUMMARY:Holiday Closure
DESCRIPTION:Please note the following closures in observance of Memorial Day: \n\nSaturday\, May 25: Habitat construction sites closed.\nMonday\, May 27: Administrative offices and Habitat Stores (Tacoma\, Lakewood\, Puyallup) closed.
URL:https://www.tpc-habitat.org/event/holiday-closure_memorial2024/
CATEGORIES:Construction Site Closure,Office Closure,Store Closure
END:VEVENT
BEGIN:VEVENT
DTSTART;VALUE=DATE:20240527
DTEND;VALUE=DATE:20240528
DTSTAMP:20260421T092735
CREATED:20231214T201103Z
LAST-MODIFIED:20231214T201103Z
UID:7891-1716768000-1716854399@www.tpc-habitat.org
SUMMARY:Holiday Closure
DESCRIPTION:Please note the following closures in observance of Memorial Day: \n\nSaturday\, May 25: Habitat construction sites closed.\nMonday\, May 27: Administrative offices and Habitat Stores (Tacoma\, Lakewood\, Puyallup) closed.
URL:https://www.tpc-habitat.org/event/holiday-closure_memorial2024/2024-05-27/
CATEGORIES:Construction Site Closure,Office Closure,Store Closure
END:VEVENT
END:VCALENDAR