BEGIN:VCALENDAR
VERSION:2.0
PRODID:-//Tacoma/Pierce County Habitat For Humanity - ECPv6.15.20//NONSGML v1.0//EN
CALSCALE:GREGORIAN
METHOD:PUBLISH
X-WR-CALNAME:Tacoma/Pierce County Habitat For Humanity
X-ORIGINAL-URL:https://www.tpc-habitat.org
X-WR-CALDESC:Events for Tacoma/Pierce County Habitat For Humanity
REFRESH-INTERVAL;VALUE=DURATION:PT1H
X-Robots-Tag:noindex
X-PUBLISHED-TTL:PT1H
BEGIN:VTIMEZONE
TZID:America/Los_Angeles
BEGIN:DAYLIGHT
TZOFFSETFROM:-0800
TZOFFSETTO:-0700
TZNAME:PDT
DTSTART:20230312T100000
END:DAYLIGHT
BEGIN:STANDARD
TZOFFSETFROM:-0700
TZOFFSETTO:-0800
TZNAME:PST
DTSTART:20231105T090000
END:STANDARD
BEGIN:DAYLIGHT
TZOFFSETFROM:-0800
TZOFFSETTO:-0700
TZNAME:PDT
DTSTART:20240310T100000
END:DAYLIGHT
BEGIN:STANDARD
TZOFFSETFROM:-0700
TZOFFSETTO:-0800
TZNAME:PST
DTSTART:20241103T090000
END:STANDARD
BEGIN:DAYLIGHT
TZOFFSETFROM:-0800
TZOFFSETTO:-0700
TZNAME:PDT
DTSTART:20250309T100000
END:DAYLIGHT
BEGIN:STANDARD
TZOFFSETFROM:-0700
TZOFFSETTO:-0800
TZNAME:PST
DTSTART:20251102T090000
END:STANDARD
END:VTIMEZONE
BEGIN:VEVENT
DTSTART;VALUE=DATE:20240101
DTEND;VALUE=DATE:20240102
DTSTAMP:20260420T012928
CREATED:20231214T175609Z
LAST-MODIFIED:20231215T224451Z
UID:7879-1704067200-1704153599@www.tpc-habitat.org
SUMMARY:Holiday Closure
DESCRIPTION:In observance of the New Year\, please note that all sites will be closed Monday\, January 1\, including the administrative office\, construction sites and the Habitat Stores (Puyallup\, Lakewood and Tacoma). \nRegular business hours will resume Tuesday\, January 2.
URL:https://www.tpc-habitat.org/event/closure_newyear2024/
CATEGORIES:Office Closure,Store Closure
END:VEVENT
BEGIN:VEVENT
DTSTART;TZID=America/Los_Angeles:20240104T173000
DTEND;TZID=America/Los_Angeles:20240104T173000
DTSTAMP:20260420T012928
CREATED:20231128T161011Z
LAST-MODIFIED:20231219T202152Z
UID:7777-1704389400-1704389400@www.tpc-habitat.org
SUMMARY:Keys to Homeownership (Thurs)
DESCRIPTION:Registration for this workshop has reached capacity and is now closed. Please check out the next session\, Wednesdays and Thursdays in January from 3:30 to 5:30 PM. You can sign up for that series by clicking here.  \nDiscover the Keys to Homeownership with this free\, 4-part workshop series! \n\nHave you dreamed of owning your home but don’t know where to start?\nIs your credit stopping you from buying a home?\nAre home prices discouraging you from getting started?\n\nPut all that behind you as your learn how to begin your journey to homeownership in our 4-part series—whether you want to buy a Habitat home or on the open market. Topics include: goal setting\, creating a spending plan\, how to manage credit and its impact\, and home financing options. \nJoin us Thursdays in January: 4\, 11\, 18 and 25! Sessions are from 5:30 – 6:30 PM via Zoom. Pre-registration is required; the Zoom link will be provided with your email confirmation. \n  \nParticipants who attend all four sessions in full will be eligible for\na drawing to win a $50 Fred Meyer gift card. \n 
URL:https://www.tpc-habitat.org/event/keys_jan2024/
LOCATION:Online\, via Zoom\, United States
CATEGORIES:Housing Counseling,Workshop
ORGANIZER;CN="Homeowner Services":MAILTO:homeowner@tpc-habitat.org
END:VEVENT
BEGIN:VEVENT
DTSTART;TZID=America/Los_Angeles:20240108T180000
DTEND;TZID=America/Los_Angeles:20240108T184500
DTSTAMP:20260420T012928
CREATED:20231129T193142Z
LAST-MODIFIED:20231211T171441Z
UID:7789-1704736800-1704739500@www.tpc-habitat.org
SUMMARY:Volunteer Orientation
DESCRIPTION:Interested in volunteering with Tacoma Habitat? \nNew volunteers must attend a virtual New Volunteer Orientation prior to their first shift. \nDuring the orientation\, you will be asked to provide your email address and birth date for a background check. Following a successful background check\, you will have access to VolunteerHub\, our scheduling software\, and you will be able to schedule yourself for volunteer shifts in either construction or one of our Habitat Stores. \nPlease note: \n\nHabitat is unable to sign off on court-ordered community service hours.\nAll volunteers must be 16 or older.\n\nTo register for orientation and get the Zoom link\, please click here.
URL:https://www.tpc-habitat.org/event/volunteer-orientation_jan2024/
LOCATION:Online\, via Zoom\, United States
CATEGORIES:New Volunteer Orientation
ORGANIZER;CN="Volunteer Services":MAILTO:volunteer@tpc-habitat.org
END:VEVENT
BEGIN:VEVENT
DTSTART;TZID=America/Los_Angeles:20240110T153000
DTEND;TZID=America/Los_Angeles:20240110T173000
DTSTAMP:20260420T012928
CREATED:20231215T224140Z
LAST-MODIFIED:20231227T193039Z
UID:7908-1704900600-1704907800@www.tpc-habitat.org
SUMMARY:Keys to Homeownership (Wed/Thurs)
DESCRIPTION:If homeownership is one of your 2024 goals\, this free (and valuable) class is for YOU!\nDiscover the Keys to Homeownership with this free workshop series meeting Wednesday and Thursday afternoons this January! \n\nHave you dreamed of owning your home but don’t know where to start?\nIs your credit stopping you from buying a home?\nAre home prices discouraging you from getting started?\n\nPut all that behind you as your learn how to begin your journey to homeownership—whether you want to buy a Habitat home or on the open market. Topics include: goal setting\, creating a spending plan\, how to manage credit and its impact\, and home financing options. \nJoin us Wednesdays and Thursdays in January: 10\, 11\, 17\, 18\, 24\, and 25! Sessions are from 3:30 – 5:30 PM at our office in South Tacoma. Pre-registration is required. Sign up by clicking here. \n  \nTo receive a certificate of completion\, participants must attend all sessions in full. \n  \n \n 
URL:https://www.tpc-habitat.org/event/keys_wed-thurs_jan2024/
LOCATION:Habitat Office\, Tacoma\, 4824 S Tacoma Way\, Tacoma\, WA\, 98409\, United States
CATEGORIES:Housing Counseling,Workshop
ORGANIZER;CN="Homeowner Services":MAILTO:homeowner@tpc-habitat.org
GEO:47.2129565;-122.4845059
X-APPLE-STRUCTURED-LOCATION;VALUE=URI;X-ADDRESS=Habitat Office Tacoma 4824 S Tacoma Way Tacoma WA 98409 United States;X-APPLE-RADIUS=500;X-TITLE=4824 S Tacoma Way:geo:-122.4845059,47.2129565
END:VEVENT
BEGIN:VEVENT
DTSTART;TZID=America/Los_Angeles:20240111T180000
DTEND;TZID=America/Los_Angeles:20240111T193000
DTSTAMP:20260420T012928
CREATED:20230920T234648Z
LAST-MODIFIED:20231016T154336Z
UID:7558-1704996000-1705001400@www.tpc-habitat.org
SUMMARY:Homeowner Orientation
DESCRIPTION:Attendance at a Homeowner Orientation Session is the first step to becoming a Habitat homeowner. \nTo register for the January 11th session and get the Zoom link\, please click here. \nOur homebuyer program is designed for households with with a maximum gross income* (before taxes) of 80% of Area Median Income based on the number of individuals living in the household. Further information about eligibility can be found here.
URL:https://www.tpc-habitat.org/event/homeowner-orientation-jan2024/
LOCATION:Online\, via Zoom\, United States
CATEGORIES:Homeowner Information Session,Workshop
ORGANIZER;CN="Homeowner Services":MAILTO:homeowner@tpc-habitat.org
END:VEVENT
BEGIN:VEVENT
DTSTART;VALUE=DATE:20240113
DTEND;VALUE=DATE:20240114
DTSTAMP:20260420T012928
CREATED:20231214T194014Z
LAST-MODIFIED:20231214T203020Z
UID:7882-1705104000-1705190399@www.tpc-habitat.org
SUMMARY:Holiday Closure
DESCRIPTION:In observance of Martin Luther King Jr. Day\, Construction will be closed Saturday\, January 13 and our administrative offices will be closed Monday\, January 15. \n  \nPlease note the Habitat Stores will be open and operating on regular schedule.\nThe stores are open from 9:00 AM to 6:00 PM seven days a week. 
URL:https://www.tpc-habitat.org/event/holiday-closure_mlk2024/
CATEGORIES:Construction Site Closure,Office Closure
END:VEVENT
BEGIN:VEVENT
DTSTART;TZID=America/Los_Angeles:20240118T120000
DTEND;TZID=America/Los_Angeles:20240118T123000
DTSTAMP:20260420T012928
CREATED:20240111T013357Z
LAST-MODIFIED:20240111T013357Z
UID:7959-1705579200-1705581000@www.tpc-habitat.org
SUMMARY:Volunteer Orientation
DESCRIPTION:Interested in volunteering with Tacoma Habitat? \nNew volunteers must attend a virtual New Volunteer Orientation prior to their first shift. \nDuring the orientation\, you will be asked to provide your email address and birth date for a background check. Following a successful background check\, you will have access to VolunteerHub\, our scheduling software\, and you will be able to schedule yourself for volunteer shifts in either construction or one of our Habitat Stores. \nPlease note: \n\nHabitat is unable to sign off on court-ordered community service hours.\nAll volunteers must be 16 or older.\n\nTo register for orientation and get the Zoom link\, please click here.
URL:https://www.tpc-habitat.org/event/volunteer-orientation_jan1824/
LOCATION:Online\, via Zoom\, United States
CATEGORIES:New Volunteer Orientation
ORGANIZER;CN="Volunteer Services":MAILTO:volunteer@tpc-habitat.org
END:VEVENT
END:VCALENDAR