BEGIN:VCALENDAR
VERSION:2.0
PRODID:-//Tacoma/Pierce County Habitat For Humanity - ECPv6.15.20//NONSGML v1.0//EN
CALSCALE:GREGORIAN
METHOD:PUBLISH
X-WR-CALNAME:Tacoma/Pierce County Habitat For Humanity
X-ORIGINAL-URL:https://www.tpc-habitat.org
X-WR-CALDESC:Events for Tacoma/Pierce County Habitat For Humanity
REFRESH-INTERVAL;VALUE=DURATION:PT1H
X-Robots-Tag:noindex
X-PUBLISHED-TTL:PT1H
BEGIN:VTIMEZONE
TZID:America/Los_Angeles
BEGIN:DAYLIGHT
TZOFFSETFROM:-0800
TZOFFSETTO:-0700
TZNAME:PDT
DTSTART:20220313T100000
END:DAYLIGHT
BEGIN:STANDARD
TZOFFSETFROM:-0700
TZOFFSETTO:-0800
TZNAME:PST
DTSTART:20221106T090000
END:STANDARD
BEGIN:DAYLIGHT
TZOFFSETFROM:-0800
TZOFFSETTO:-0700
TZNAME:PDT
DTSTART:20230312T100000
END:DAYLIGHT
BEGIN:STANDARD
TZOFFSETFROM:-0700
TZOFFSETTO:-0800
TZNAME:PST
DTSTART:20231105T090000
END:STANDARD
BEGIN:DAYLIGHT
TZOFFSETFROM:-0800
TZOFFSETTO:-0700
TZNAME:PDT
DTSTART:20240310T100000
END:DAYLIGHT
BEGIN:STANDARD
TZOFFSETFROM:-0700
TZOFFSETTO:-0800
TZNAME:PST
DTSTART:20241103T090000
END:STANDARD
END:VTIMEZONE
BEGIN:VEVENT
DTSTART;TZID=America/Los_Angeles:20230501T180000
DTEND;TZID=America/Los_Angeles:20230501T190000
DTSTAMP:20260420T122853
CREATED:20221115T223304Z
LAST-MODIFIED:20221115T223304Z
UID:6693-1682964000-1682967600@www.tpc-habitat.org
SUMMARY:New Volunteer Orientation
DESCRIPTION:Interested in volunteering with Tacoma Habitat? \nNew volunteers must attend a virtual New Volunteer Orientation prior to their first shift. \nDuring the orientation\, you will be asked to provide your email address and birth date for a background check. Following a successful background check\, you will have access to VolunteerHub\, our scheduling software\, and you will be able to schedule yourself for volunteer shifts in either construction or one of our Habitat Stores. \nPlease note: \n\nHabitat is unable to sign off on court-ordered community service hours.\nAll volunteers must be 16 or older.\n\n To register for orientation and get the Zoom link\, please click here.
URL:https://www.tpc-habitat.org/event/volunteer-orientation_may2023/
LOCATION:Online\, via Zoom\, United States
CATEGORIES:New Volunteer Orientation
ORGANIZER;CN="Volunteer Services":MAILTO:volunteer@tpc-habitat.org
END:VEVENT
BEGIN:VEVENT
DTSTART;TZID=America/Los_Angeles:20230511T090000
DTEND;TZID=America/Los_Angeles:20230511T163000
DTSTAMP:20260420T122853
CREATED:20230508T175515Z
LAST-MODIFIED:20230508T175515Z
UID:7075-1683795600-1683822600@www.tpc-habitat.org
SUMMARY:Tacoma Store Closing Early
DESCRIPTION:On Thursday\, May 11 the Tacoma Habitat Store will be closing early for a private event. Please note that your purchases and donations need to be completed by 4:30 PM. \nRegular hours will resume on Friday\, May 12 when the store reopens at 9:00 AM. \nThank you for your patience!
URL:https://www.tpc-habitat.org/event/closing_05112023/
LOCATION:Tacoma\, United States
CATEGORIES:Store Closure
GEO:47.2528768;-122.4442906
END:VEVENT
BEGIN:VEVENT
DTSTART;TZID=America/Los_Angeles:20230511T120000
DTEND;TZID=America/Los_Angeles:20230511T130000
DTSTAMP:20260420T122853
CREATED:20230503T211701Z
LAST-MODIFIED:20230503T211701Z
UID:7060-1683806400-1683810000@www.tpc-habitat.org
SUMMARY:Legislative Recap Panel
DESCRIPTION:It was a Year of Housing for the Washington State Legislature! \nJoin Tacoma Habitat\, along with Housing Development Consortium and Habitat for Humanity Seattle-King County\, for a State Legislative Recap on Thursday\, May 11 at noon. \nThis virtual panel discussion will be moderated by Ross Reynolds from KUOW and feature lawmakers who were essential to passing major housing legislation this session. \nWe are honored to be joined by: \n\nRepresentative Emily Alvarado\nHouse Speaker Laurie Jinkins\nSenator Yasmin Trudeau\nSenator John Lovick\n\nRegister today\, to reserve your spot!
URL:https://www.tpc-habitat.org/event/legislative-recap/
LOCATION:Online\, via Zoom\, United States
CATEGORIES:Advocacy
END:VEVENT
BEGIN:VEVENT
DTSTART;TZID=America/Los_Angeles:20230511T180000
DTEND;TZID=America/Los_Angeles:20230511T190000
DTSTAMP:20260420T122853
CREATED:20221207T223703Z
LAST-MODIFIED:20221207T223703Z
UID:6773-1683828000-1683831600@www.tpc-habitat.org
SUMMARY:Homeowner Orientation
DESCRIPTION:Attendance at a Homeowner Orientation Session is the first step to becoming a Habitat homeowner. \nTo register for the May 11 session and get the Zoom link\, please click here. \nOur homebuyer program is designed for households with with a maximum gross income* (before taxes) of 80% of Area Median Income based on the number of individuals living in the household. Further information about eligibility can be found here.
URL:https://www.tpc-habitat.org/event/homeowner-orientation-2023_may/
LOCATION:Online\, via Zoom\, United States
CATEGORIES:Homeowner Information Session,Workshop
ORGANIZER;CN="Homeowner Services":MAILTO:homeowner@tpc-habitat.org
END:VEVENT
BEGIN:VEVENT
DTSTART;TZID=America/Los_Angeles:20230520T100000
DTEND;TZID=America/Los_Angeles:20230520T130000
DTSTAMP:20260420T122853
CREATED:20221222T192122Z
LAST-MODIFIED:20221222T192122Z
UID:6859-1684576800-1684587600@www.tpc-habitat.org
SUMMARY:Beyond the Backyard
DESCRIPTION:A community-wide scavenger hunt that is part Amazing Race and part double-dog dare\, Beyond the Backyard is a three-hour experience designed for fun-seekers of all ages and abilities! \nOn Saturday\, May 20\, your team will be in the wackiest\, most memorable race of your life\, working through a series of wild challenges. With Beyond the Backyard\, you may get wet\, you may get a little dirty\, and you will definitely laugh. Our adventure race is perfect for families and/or groups of friends\, and offers team-building opportunities for colleagues\, teams\, and youth groups. \nVisit our event FAQs to learn more about Beyond the Backyard\, and when you’re ready\, click here to register your team. \nThe adventure race benefits Tacoma/Pierce County Habitat for Humanity and our quest to provide affordable housing solutions for our community.
URL:https://www.tpc-habitat.org/event/beyond-the-backyard-2023/
LOCATION:Tacoma\, United States
CATEGORIES:Fundraising Events
ORGANIZER;CN="Beth Brooks%2C Donor Experience & Storytelling Manager":MAILTO:bbrooks@tpc-habitat.org
GEO:47.2528768;-122.4442906
END:VEVENT
END:VCALENDAR