BEGIN:VCALENDAR
VERSION:2.0
PRODID:-//Tacoma/Pierce County Habitat For Humanity - ECPv6.15.20//NONSGML v1.0//EN
CALSCALE:GREGORIAN
METHOD:PUBLISH
X-WR-CALNAME:Tacoma/Pierce County Habitat For Humanity
X-ORIGINAL-URL:https://www.tpc-habitat.org
X-WR-CALDESC:Events for Tacoma/Pierce County Habitat For Humanity
REFRESH-INTERVAL;VALUE=DURATION:PT1H
X-Robots-Tag:noindex
X-PUBLISHED-TTL:PT1H
BEGIN:VTIMEZONE
TZID:America/Los_Angeles
BEGIN:DAYLIGHT
TZOFFSETFROM:-0800
TZOFFSETTO:-0700
TZNAME:PDT
DTSTART:20190310T100000
END:DAYLIGHT
BEGIN:STANDARD
TZOFFSETFROM:-0700
TZOFFSETTO:-0800
TZNAME:PST
DTSTART:20191103T090000
END:STANDARD
BEGIN:DAYLIGHT
TZOFFSETFROM:-0800
TZOFFSETTO:-0700
TZNAME:PDT
DTSTART:20200308T100000
END:DAYLIGHT
BEGIN:STANDARD
TZOFFSETFROM:-0700
TZOFFSETTO:-0800
TZNAME:PST
DTSTART:20201101T090000
END:STANDARD
BEGIN:DAYLIGHT
TZOFFSETFROM:-0800
TZOFFSETTO:-0700
TZNAME:PDT
DTSTART:20210314T100000
END:DAYLIGHT
BEGIN:STANDARD
TZOFFSETFROM:-0700
TZOFFSETTO:-0800
TZNAME:PST
DTSTART:20211107T090000
END:STANDARD
END:VTIMEZONE
BEGIN:VEVENT
DTSTART;TZID=America/Los_Angeles:20200506T160000
DTEND;TZID=America/Los_Angeles:20200506T170000
DTSTAMP:20260422T134752
CREATED:20200417T175807Z
LAST-MODIFIED:20200417T175807Z
UID:4369-1588780800-1588784400@www.tpc-habitat.org
SUMMARY:Maximizing your Budget in Lean Times
DESCRIPTION:Tacoma Habitat presents a three-part Financial Health Happy Hour series to help you navigate tough economic times. This is the second virtual workshop of the series\, titled Maximizing Your Budget in Lean Times. \nWhether you’ve been furloughed from your job or you’re worried about your investments\, this is a time to be smart about your household budget. There’s no telling when our economy will be back on line or how long it will take for the global marketplace to rebound from the fallout of the pandemic. So let’s be smart about our money now as means of protecting ourselves for whatever lies ahead. \nJoin Tacoma Habitat’s Director of Homeowner Services Deena Giesen and LaPria Bonner\, AFC who is the Center for Strong Families Site Manager at Clover Park Technical College\, for a happy hour filled with tips and tricks to survive these lean times and come out ahead. We’ll meet up via Zoom on 5/6 at 4:00 PM. Register here to reserve your spot and submit any questions you have for our experts.
URL:https://www.tpc-habitat.org/event/maximizing-your-budget/
LOCATION:Online\, via Zoom\, United States
CATEGORIES:Workshop
ORGANIZER;CN="Homeowner Services":MAILTO:homeowner@tpc-habitat.org
END:VEVENT
BEGIN:VEVENT
DTSTART;TZID=America/Los_Angeles:20200507T180000
DTEND;TZID=America/Los_Angeles:20200507T193000
DTSTAMP:20260422T134752
CREATED:20191211T205940Z
LAST-MODIFIED:20200519T215713Z
UID:3931-1588874400-1588879800@www.tpc-habitat.org
SUMMARY:Homeowner Information Session
DESCRIPTION:As a social distancing measure\, this workshop will be held online via Zoom.\nAttendance at a Homeowner Information Session is the first step to becoming a Habitat homeowner. \nPre-registration is required and Zoom link will be provided upon RSVP. To register for this session\, please email us or call 253-627-5626 x120. \nOur homebuyer program is designed for households with with a maximum gross income* (before taxes) of 80% of Area Median Income based on the number of individuals living in the household\, and a minimum income of $35\,000. Further information about eligibility can be found here.
URL:https://www.tpc-habitat.org/event/2020thursinfosession-2020-05-07/2020-05-07/
LOCATION:Online\, via Zoom\, United States
CATEGORIES:Homeowner Information Session
ORGANIZER;CN="Deena Giesen":MAILTO:dgiesen@tpc-habitat.org
END:VEVENT
BEGIN:VEVENT
DTSTART;TZID=America/Los_Angeles:20200520T160000
DTEND;TZID=America/Los_Angeles:20200520T170000
DTSTAMP:20260422T134752
CREATED:20200417T180518Z
LAST-MODIFIED:20200421T170139Z
UID:4372-1589990400-1589994000@www.tpc-habitat.org
SUMMARY:Maintaining Credit & Managing Savings
DESCRIPTION:Tacoma Habitat presents a three-part Financial Health Happy Hour series to help you navigate tough economic times. This is the third and final virtual workshop of the series\, titled Maintaining Credit & Managing Savings. \nIt might feel impossible to squirrel away any money right now\, but Tacoma Habitat is here to help you carve out a plan to maintain/improve your credit standing and tuck some money away. Even during this financial crisis.  \nJoin Tacoma Habitat’s Director of Homeowner Services Deena Giesen and Dennis Means\, Home Loan Sales Manager at Harborstone Credit Union\, for an hour filled with tips to come out of this economic crisis with some money in your pocket. Register here to reserve your spot and submit any questions you have for the panelists.
URL:https://www.tpc-habitat.org/event/maintaining-credit/
LOCATION:Online\, via Zoom\, United States
CATEGORIES:Workshop
ORGANIZER;CN="Homeowner Services":MAILTO:homeowner@tpc-habitat.org
END:VEVENT
END:VCALENDAR