BEGIN:VCALENDAR
VERSION:2.0
PRODID:-//Tacoma/Pierce County Habitat For Humanity - ECPv6.15.20//NONSGML v1.0//EN
CALSCALE:GREGORIAN
METHOD:PUBLISH
X-ORIGINAL-URL:https://www.tpc-habitat.org
X-WR-CALDESC:Events for Tacoma/Pierce County Habitat For Humanity
REFRESH-INTERVAL;VALUE=DURATION:PT1H
X-Robots-Tag:noindex
X-PUBLISHED-TTL:PT1H
BEGIN:VTIMEZONE
TZID:America/Los_Angeles
BEGIN:DAYLIGHT
TZOFFSETFROM:-0800
TZOFFSETTO:-0700
TZNAME:PDT
DTSTART:20180311T100000
END:DAYLIGHT
BEGIN:STANDARD
TZOFFSETFROM:-0700
TZOFFSETTO:-0800
TZNAME:PST
DTSTART:20181104T090000
END:STANDARD
BEGIN:DAYLIGHT
TZOFFSETFROM:-0800
TZOFFSETTO:-0700
TZNAME:PDT
DTSTART:20190310T100000
END:DAYLIGHT
BEGIN:STANDARD
TZOFFSETFROM:-0700
TZOFFSETTO:-0800
TZNAME:PST
DTSTART:20191103T090000
END:STANDARD
BEGIN:DAYLIGHT
TZOFFSETFROM:-0800
TZOFFSETTO:-0700
TZNAME:PDT
DTSTART:20200308T100000
END:DAYLIGHT
BEGIN:STANDARD
TZOFFSETFROM:-0700
TZOFFSETTO:-0800
TZNAME:PST
DTSTART:20201101T090000
END:STANDARD
END:VTIMEZONE
BEGIN:VEVENT
DTSTART;VALUE=DATE:20190902
DTEND;VALUE=DATE:20190903
DTSTAMP:20260423T020257
CREATED:20190828T200425Z
LAST-MODIFIED:20190828T200425Z
UID:3529-1567382400-1567468799@www.tpc-habitat.org
SUMMARY:Holiday Closure: Labor Day
DESCRIPTION:The Habitat Stores\, offices and construction sites will be closed in observance of the holiday. \nNormal business hours will resume Tuesday\, September 3.
URL:https://www.tpc-habitat.org/event/holiday-closure-labor-day/
LOCATION:Tacoma\, United States
CATEGORIES:Office Closure
GEO:47.2528768;-122.4442906
END:VEVENT
BEGIN:VEVENT
DTSTART;TZID=America/Los_Angeles:20190926T180000
DTEND;TZID=America/Los_Angeles:20190926T193000
DTSTAMP:20260423T020257
CREATED:20190903T180019Z
LAST-MODIFIED:20190906T000532Z
UID:3545-1569520800-1569526200@www.tpc-habitat.org
SUMMARY:Homeowner Information Session
DESCRIPTION:Registration for this event is now closed\, having reached capacity.\nUnfortunately\, walk-ins cannot be accommodated. \nFor those that are registered\, doors will open at 5:50 pm and the session begins promptly at 6:00 pm. If you need to cancel your reservations\, please notify us.
URL:https://www.tpc-habitat.org/event/homeowner-information-session-5/
LOCATION:Habitat Office\, Tacoma\, 4824 S Tacoma Way\, Tacoma\, WA\, 98409\, United States
CATEGORIES:Homeowner Information Session
ORGANIZER;CN="Homeowner Services":MAILTO:homeowner@tpc-habitat.org
GEO:47.2129565;-122.4845059
X-APPLE-STRUCTURED-LOCATION;VALUE=URI;X-ADDRESS=Habitat Office Tacoma 4824 S Tacoma Way Tacoma WA 98409 United States;X-APPLE-RADIUS=500;X-TITLE=4824 S Tacoma Way:geo:-122.4845059,47.2129565
END:VEVENT
BEGIN:VEVENT
DTSTART;TZID=America/Los_Angeles:20190927T100000
DTEND;TZID=America/Los_Angeles:20190927T170000
DTSTAMP:20260423T020257
CREATED:20210325T193731Z
LAST-MODIFIED:20210325T214005Z
UID:3520-1569578400-1569603600@www.tpc-habitat.org
SUMMARY:Habitat Challenge\, 2019
DESCRIPTION:More than 70 people will step off the roof of Tacoma’s Hotel Murano on Friday\, September 27 and rappel the 245′ to the ground to raise funds for Tacoma/Pierce County Habitat for Humanity. This daring urban rappel is called the Habitat Challenge and you’re invited! Come watch the action and hang out\, or lend a hand as an event volunteer. \nEach participant must raise at least $1\,000 to get to the roof\, and that money helps build affordable homes in Pierce County. \n 
URL:https://www.tpc-habitat.org/event/habitatchallenge2019/
LOCATION:Hotel Murano\, 1320 Broadway\, Tacoma\, WA\, 98402\, United States
CATEGORIES:Fundraising Events
ORGANIZER;CN="Beth Brooks%2C Donor Experience & Storytelling Manager":MAILTO:bbrooks@tpc-habitat.org
GEO:47.2504239;-122.440192
X-APPLE-STRUCTURED-LOCATION;VALUE=URI;X-ADDRESS=Hotel Murano 1320 Broadway Tacoma WA 98402 United States;X-APPLE-RADIUS=500;X-TITLE=1320 Broadway:geo:-122.440192,47.2504239
END:VEVENT
END:VCALENDAR