BEGIN:VCALENDAR
VERSION:2.0
PRODID:-//Tacoma/Pierce County Habitat For Humanity - ECPv6.15.20//NONSGML v1.0//EN
CALSCALE:GREGORIAN
METHOD:PUBLISH
X-WR-CALNAME:Tacoma/Pierce County Habitat For Humanity
X-ORIGINAL-URL:https://www.tpc-habitat.org
X-WR-CALDESC:Events for Tacoma/Pierce County Habitat For Humanity
REFRESH-INTERVAL;VALUE=DURATION:PT1H
X-Robots-Tag:noindex
X-PUBLISHED-TTL:PT1H
BEGIN:VTIMEZONE
TZID:America/Los_Angeles
BEGIN:DAYLIGHT
TZOFFSETFROM:-0800
TZOFFSETTO:-0700
TZNAME:PDT
DTSTART:20200308T100000
END:DAYLIGHT
BEGIN:STANDARD
TZOFFSETFROM:-0700
TZOFFSETTO:-0800
TZNAME:PST
DTSTART:20201101T090000
END:STANDARD
BEGIN:DAYLIGHT
TZOFFSETFROM:-0800
TZOFFSETTO:-0700
TZNAME:PDT
DTSTART:20210314T100000
END:DAYLIGHT
BEGIN:STANDARD
TZOFFSETFROM:-0700
TZOFFSETTO:-0800
TZNAME:PST
DTSTART:20211107T090000
END:STANDARD
BEGIN:DAYLIGHT
TZOFFSETFROM:-0800
TZOFFSETTO:-0700
TZNAME:PDT
DTSTART:20220313T100000
END:DAYLIGHT
BEGIN:STANDARD
TZOFFSETFROM:-0700
TZOFFSETTO:-0800
TZNAME:PST
DTSTART:20221106T090000
END:STANDARD
END:VTIMEZONE
BEGIN:VEVENT
DTSTART;TZID=America/Los_Angeles:20210522T100000
DTEND;TZID=America/Los_Angeles:20210522T130000
DTSTAMP:20260421T201449
CREATED:20210317T002330Z
LAST-MODIFIED:20210317T002330Z
UID:5330-1621677600-1621688400@www.tpc-habitat.org
SUMMARY:Beyond the Backyard\, 2021
DESCRIPTION:Beyond the Backyard is an adventure race: part scavenger hunt and part double-dog-dare. This family-friendly event is designed for fun-seekers of all ages and competitors of all abilities. It is perfect for families and/or groups of friends\, and offers team-building opportunities for colleagues\, sports teams\, and youth groups. \nOn Saturday\, May 22nd teams will race to complete a series of challenges in the categories of Physical; Find; Skill; and Fun across a three-hour period. There are prizes for the team to finish first\, the team that captures the best photo and the individual that raises the most money. Visit our FAQs for more details on how the race works. \nRace entry is $25/person and teams then raise or self-pledge $300 to benefit Tacoma Habitat’s affordable homeownership and foreclosure prevention programs.  (Entry fees count toward the team goal\, so if you have 4 people register\, you’re 1/3 there.) Proceeds benefit Tacoma/Pierce County Habitat for Humanity’s affordable homeownership and foreclosure prevention programs\, making it possible for families to be safely housed during these challenging times. \nLearn more.
URL:https://www.tpc-habitat.org/event/beyond-the-backyard-2021/
LOCATION:WA
CATEGORIES:Fundraising Events
ORGANIZER;CN="Beth Brooks%2C Donor Experience & Storytelling Manager":MAILTO:bbrooks@tpc-habitat.org
END:VEVENT
END:VCALENDAR