BEGIN:VCALENDAR
VERSION:2.0
PRODID:-//Tacoma/Pierce County Habitat For Humanity - ECPv6.15.20//NONSGML v1.0//EN
CALSCALE:GREGORIAN
METHOD:PUBLISH
X-WR-CALNAME:Tacoma/Pierce County Habitat For Humanity
X-ORIGINAL-URL:https://www.tpc-habitat.org
X-WR-CALDESC:Events for Tacoma/Pierce County Habitat For Humanity
REFRESH-INTERVAL;VALUE=DURATION:PT1H
X-Robots-Tag:noindex
X-PUBLISHED-TTL:PT1H
BEGIN:VTIMEZONE
TZID:America/Los_Angeles
BEGIN:DAYLIGHT
TZOFFSETFROM:-0800
TZOFFSETTO:-0700
TZNAME:PDT
DTSTART:20210314T100000
END:DAYLIGHT
BEGIN:STANDARD
TZOFFSETFROM:-0700
TZOFFSETTO:-0800
TZNAME:PST
DTSTART:20211107T090000
END:STANDARD
BEGIN:DAYLIGHT
TZOFFSETFROM:-0800
TZOFFSETTO:-0700
TZNAME:PDT
DTSTART:20220313T100000
END:DAYLIGHT
BEGIN:STANDARD
TZOFFSETFROM:-0700
TZOFFSETTO:-0800
TZNAME:PST
DTSTART:20221106T090000
END:STANDARD
BEGIN:DAYLIGHT
TZOFFSETFROM:-0800
TZOFFSETTO:-0700
TZNAME:PDT
DTSTART:20230312T100000
END:DAYLIGHT
BEGIN:STANDARD
TZOFFSETFROM:-0700
TZOFFSETTO:-0800
TZNAME:PST
DTSTART:20231105T090000
END:STANDARD
END:VTIMEZONE
BEGIN:VEVENT
DTSTART;TZID=America/Los_Angeles:20220521T100000
DTEND;TZID=America/Los_Angeles:20220521T130000
DTSTAMP:20260421T132256
CREATED:20220315T193247Z
LAST-MODIFIED:20220315T193247Z
UID:5872-1653127200-1653138000@www.tpc-habitat.org
SUMMARY:Beyond the Backyard\, 2022
DESCRIPTION:Beyond the Backyard is an adventure race: part scavenger hunt and part double-dog-dare. This family-friendly fundraising event is designed for fun-seekers of all ages and competitors of all abilities. It is perfect for families and/or groups of friends\, and offers team-building opportunities for colleagues\, sports teams\, and youth groups. \nOn Saturday\, May 21st teams will race to complete a series of challenges between 10:00 am and 1:00 pm. There are prizes for the team to finish first\, the team that captures the best photo and the individual that raises the most money. Visit our FAQs for more details on how the race works. \nRace entry is $25/person and teams then raise or self-pledge a total of $300. (Entry fees count toward the team goal\, so if you have 4 people register\, you’re 1/3 there.) Proceeds benefit Tacoma/Pierce County Habitat for Humanity’s affordable homeownership and foreclosure prevention programs. \nClick here to learn more and/or to register.
URL:https://www.tpc-habitat.org/event/beyond-the-backyard-2022/
LOCATION:Tacoma\, United States
CATEGORIES:Fundraising Events
ORGANIZER;CN="Beth Brooks%2C Donor Experience & Storytelling Manager":MAILTO:bbrooks@tpc-habitat.org
GEO:47.2528768;-122.4442906
END:VEVENT
END:VCALENDAR