BEGIN:VCALENDAR
VERSION:2.0
PRODID:-//Tacoma/Pierce County Habitat For Humanity - ECPv6.15.20//NONSGML v1.0//EN
CALSCALE:GREGORIAN
METHOD:PUBLISH
X-ORIGINAL-URL:https://www.tpc-habitat.org
X-WR-CALDESC:Events for Tacoma/Pierce County Habitat For Humanity
REFRESH-INTERVAL;VALUE=DURATION:PT1H
X-Robots-Tag:noindex
X-PUBLISHED-TTL:PT1H
BEGIN:VTIMEZONE
TZID:America/Los_Angeles
BEGIN:DAYLIGHT
TZOFFSETFROM:-0800
TZOFFSETTO:-0700
TZNAME:PDT
DTSTART:20220313T100000
END:DAYLIGHT
BEGIN:STANDARD
TZOFFSETFROM:-0700
TZOFFSETTO:-0800
TZNAME:PST
DTSTART:20221106T090000
END:STANDARD
BEGIN:DAYLIGHT
TZOFFSETFROM:-0800
TZOFFSETTO:-0700
TZNAME:PDT
DTSTART:20230312T100000
END:DAYLIGHT
BEGIN:STANDARD
TZOFFSETFROM:-0700
TZOFFSETTO:-0800
TZNAME:PST
DTSTART:20231105T090000
END:STANDARD
BEGIN:DAYLIGHT
TZOFFSETFROM:-0800
TZOFFSETTO:-0700
TZNAME:PDT
DTSTART:20240310T100000
END:DAYLIGHT
BEGIN:STANDARD
TZOFFSETFROM:-0700
TZOFFSETTO:-0800
TZNAME:PST
DTSTART:20241103T090000
END:STANDARD
END:VTIMEZONE
BEGIN:VEVENT
DTSTART;TZID=America/Los_Angeles:20230617T100000
DTEND;TZID=America/Los_Angeles:20230617T120000
DTSTAMP:20260420T103707
CREATED:20230530T163856Z
LAST-MODIFIED:20230531T183257Z
UID:7132-1686996000-1687003200@www.tpc-habitat.org
SUMMARY:Financial Literacy Workshop Series
DESCRIPTION:Get your financial house in order with our financial literacy workshop series.\nThis free\, 3-part workshop series will cover: \n\nFinancial Goal Setting | Saturday\, June 17 from 10:00 AM to Noon\nCreating a spending plan | Saturday\, July 1 from 10:00 AM to Noon\nBanking while Black | Saturday\, July 15 from 10:00 AM to Noon\n\nAll sessions will be held at the Tacoma/Pierce County Habitat for Humanity office\, on  S Tacoma Way. \nEach session will feature a door prize drawing for Fred Meyer gift cards (2). Light refreshments will also be provided. \nThese interactive workshops will help shape your financial future\, covering things like how our relationship with money shapes how we interact with it; ways to optimize your budget and modifying it based on the needs of the household; exploring the differences between being unbanked and underbanked; and learning what to look for when opening an account at either a bank or credit union. \nThis workshop series will be presented by Pathways to Homeownership Coordinator Samantha Bagley\, a HUD-certified housing counselor.  \n \n  \nTo learn about our free housing counseling program\, click here.
URL:https://www.tpc-habitat.org/event/financial-literacy-workshop-series/2023-06-17/
LOCATION:Habitat Office\, Tacoma\, 4824 S Tacoma Way\, Tacoma\, WA\, 98409\, United States
CATEGORIES:Financial Education,Workshop
ORGANIZER;CN="Homeowner Services":MAILTO:homeowner@tpc-habitat.org
GEO:47.2129565;-122.4845059
X-APPLE-STRUCTURED-LOCATION;VALUE=URI;X-ADDRESS=Habitat Office Tacoma 4824 S Tacoma Way Tacoma WA 98409 United States;X-APPLE-RADIUS=500;X-TITLE=4824 S Tacoma Way:geo:-122.4845059,47.2129565
END:VEVENT
END:VCALENDAR