BEGIN:VCALENDAR
VERSION:2.0
PRODID:-//Tacoma/Pierce County Habitat For Humanity - ECPv6.15.20//NONSGML v1.0//EN
CALSCALE:GREGORIAN
METHOD:PUBLISH
X-ORIGINAL-URL:https://www.tpc-habitat.org
X-WR-CALDESC:Events for Tacoma/Pierce County Habitat For Humanity
REFRESH-INTERVAL;VALUE=DURATION:PT1H
X-Robots-Tag:noindex
X-PUBLISHED-TTL:PT1H
BEGIN:VTIMEZONE
TZID:America/Los_Angeles
BEGIN:DAYLIGHT
TZOFFSETFROM:-0800
TZOFFSETTO:-0700
TZNAME:PDT
DTSTART:20190310T100000
END:DAYLIGHT
BEGIN:STANDARD
TZOFFSETFROM:-0700
TZOFFSETTO:-0800
TZNAME:PST
DTSTART:20191103T090000
END:STANDARD
BEGIN:DAYLIGHT
TZOFFSETFROM:-0800
TZOFFSETTO:-0700
TZNAME:PDT
DTSTART:20200308T100000
END:DAYLIGHT
BEGIN:STANDARD
TZOFFSETFROM:-0700
TZOFFSETTO:-0800
TZNAME:PST
DTSTART:20201101T090000
END:STANDARD
BEGIN:DAYLIGHT
TZOFFSETFROM:-0800
TZOFFSETTO:-0700
TZNAME:PDT
DTSTART:20210314T100000
END:DAYLIGHT
BEGIN:STANDARD
TZOFFSETFROM:-0700
TZOFFSETTO:-0800
TZNAME:PST
DTSTART:20211107T090000
END:STANDARD
END:VTIMEZONE
BEGIN:VEVENT
DTSTART;TZID=America/Los_Angeles:20200303T120000
DTEND;TZID=America/Los_Angeles:20200303T130000
DTSTAMP:20260422T145727
CREATED:20191114T011851Z
LAST-MODIFIED:20200106T222901Z
UID:3722-1583236800-1583240400@www.tpc-habitat.org
SUMMARY:Changing Lives Luncheon
DESCRIPTION:The Changing Lives Luncheon\, presented by Regence\, is the cornerstone fundraiser for Tacoma/Pierce County Habitat for Humanity and you are invited! \nJoin us for an hour of inspiration and learn about the positive impact homeownership brings to families over lunch. \nRSVP online to save your seat today! \nWhile there is no cover charge to attend the Changing Lives Luncheon\, guests will be asked to make a gift from the heart in support of our mission.  \n 
URL:https://www.tpc-habitat.org/event/changing-lives-luncheon-2020/
LOCATION:Hotel Murano\, 1320 Broadway\, Tacoma\, WA\, 98402\, United States
CATEGORIES:Fundraising Events
ORGANIZER;CN="Beth Brooks%2C Donor Experience & Storytelling Manager":MAILTO:bbrooks@tpc-habitat.org
GEO:47.2504239;-122.440192
X-APPLE-STRUCTURED-LOCATION;VALUE=URI;X-ADDRESS=Hotel Murano 1320 Broadway Tacoma WA 98402 United States;X-APPLE-RADIUS=500;X-TITLE=1320 Broadway:geo:-122.440192,47.2504239
END:VEVENT
END:VCALENDAR