BEGIN:VCALENDAR
VERSION:2.0
PRODID:-//Tacoma/Pierce County Habitat For Humanity - ECPv6.15.20//NONSGML v1.0//EN
CALSCALE:GREGORIAN
METHOD:PUBLISH
X-ORIGINAL-URL:https://www.tpc-habitat.org
X-WR-CALDESC:Events for Tacoma/Pierce County Habitat For Humanity
REFRESH-INTERVAL;VALUE=DURATION:PT1H
X-Robots-Tag:noindex
X-PUBLISHED-TTL:PT1H
BEGIN:VTIMEZONE
TZID:America/Los_Angeles
BEGIN:DAYLIGHT
TZOFFSETFROM:-0800
TZOFFSETTO:-0700
TZNAME:PDT
DTSTART:20200308T100000
END:DAYLIGHT
BEGIN:STANDARD
TZOFFSETFROM:-0700
TZOFFSETTO:-0800
TZNAME:PST
DTSTART:20201101T090000
END:STANDARD
BEGIN:DAYLIGHT
TZOFFSETFROM:-0800
TZOFFSETTO:-0700
TZNAME:PDT
DTSTART:20210314T100000
END:DAYLIGHT
BEGIN:STANDARD
TZOFFSETFROM:-0700
TZOFFSETTO:-0800
TZNAME:PST
DTSTART:20211107T090000
END:STANDARD
BEGIN:DAYLIGHT
TZOFFSETFROM:-0800
TZOFFSETTO:-0700
TZNAME:PDT
DTSTART:20220313T100000
END:DAYLIGHT
BEGIN:STANDARD
TZOFFSETFROM:-0700
TZOFFSETTO:-0800
TZNAME:PST
DTSTART:20221106T090000
END:STANDARD
END:VTIMEZONE
BEGIN:VEVENT
DTSTART;TZID=America/Los_Angeles:20210602T163000
DTEND;TZID=America/Los_Angeles:20210602T173000
DTSTAMP:20260421T172851
CREATED:20201211T224946Z
LAST-MODIFIED:20201211T224946Z
UID:5063-1622651400-1622655000@www.tpc-habitat.org
SUMMARY:Women Build: Framing Basics
DESCRIPTION:Join Women Build on Wednesday\, June 2 at 4:30 PM PST for an online workshop all about framing\, led by Caitie. \nLearn about lumber and other materials\, nail gun safety and use\, how to lay out walls and floors\, and general framing concepts in this interactive session. Caitie will build a sample wall for demonstration and show techniques to alter existing framing. \nClick here to register for this virtual\, online session. All are welcome! \n  \n\n\nMeet the Instructor: Caitie\nAfter graduating from University of Mary Washington in Virginia with a degree in biology\, Caitie served two AmeriCorps terms as a Construction Site Coordinator with Habitat for Humanity\, first in Delaware then in Tacoma. Following her AmeriCorps term in Tacoma\, Caitie became a construction trainer for Goodwill’s YouthBuild program. Now living on the east coast\, Caitie works as a Construction Site Manager for a Habitat affiliate in North Carolina. \nCaitie continues volunteering with Women Build because she is passionate about teaching and empowering individuals\, especially women and young people. She believes that creating a safe environment to learn\, ask questions\, and make mistakes helps people develop new skills as well as the confidence to use them.
URL:https://www.tpc-habitat.org/event/wb2021framingjune/
LOCATION:Online\, via Zoom\, United States
CATEGORIES:Women Build,Workshop
ORGANIZER;CN="Tracey Sorenson%2C Director of Community Engagement":MAILTO:tsorenson@tpc-habitat.org
END:VEVENT
BEGIN:VEVENT
DTSTART;TZID=America/Los_Angeles:20210616T163000
DTEND;TZID=America/Los_Angeles:20210616T173000
DTSTAMP:20260421T172851
CREATED:20201211T225653Z
LAST-MODIFIED:20201211T225653Z
UID:5066-1623861000-1623864600@www.tpc-habitat.org
SUMMARY:Women Build: Chain Link Fence
DESCRIPTION:Join Women Build  for a workshop about chain link fence led by Sandi. This online session is set for Wednesday\, June 16 at 4:30 PM PST. \nSandi will demonstrate small fence repair and how to install a gate in this interactive workshop. \nClick here to register for this virtual\, online session. All are welcome! \n  \n\n  \nMeet the instructor: Sandi\nGrowing up in a family of plumbers and handy persons\, Sandi began learning from a young age skills for maintaining and repairing just about anything. She began taking apart bathroom fixtures at age 8\, hanging drywall at age 13\, and working on her own cars at 16. \nFor seven years Sandi was a member of the team that created and led the City of Tacoma’s Neighborhood Makeover Week\, providing training to Tacoma citizens on home maintenance and holding an annual event to beautify Tacoma neighborhoods. She enjoys using her varied skill set to work on projects at her own home and sharing her knowledge with others.
URL:https://www.tpc-habitat.org/event/wb2021fencejune/
LOCATION:Online\, via Zoom\, United States
CATEGORIES:Women Build,Workshop
ORGANIZER;CN="Tracey Sorenson%2C Director of Community Engagement":MAILTO:tsorenson@tpc-habitat.org
END:VEVENT
END:VCALENDAR