BEGIN:VCALENDAR
VERSION:2.0
PRODID:-//Tacoma/Pierce County Habitat For Humanity - ECPv6.15.20//NONSGML v1.0//EN
CALSCALE:GREGORIAN
METHOD:PUBLISH
X-WR-CALNAME:Tacoma/Pierce County Habitat For Humanity
X-ORIGINAL-URL:https://www.tpc-habitat.org
X-WR-CALDESC:Events for Tacoma/Pierce County Habitat For Humanity
REFRESH-INTERVAL;VALUE=DURATION:PT1H
X-Robots-Tag:noindex
X-PUBLISHED-TTL:PT1H
BEGIN:VTIMEZONE
TZID:America/Los_Angeles
BEGIN:DAYLIGHT
TZOFFSETFROM:-0800
TZOFFSETTO:-0700
TZNAME:PDT
DTSTART:20200308T100000
END:DAYLIGHT
BEGIN:STANDARD
TZOFFSETFROM:-0700
TZOFFSETTO:-0800
TZNAME:PST
DTSTART:20201101T090000
END:STANDARD
BEGIN:DAYLIGHT
TZOFFSETFROM:-0800
TZOFFSETTO:-0700
TZNAME:PDT
DTSTART:20210314T100000
END:DAYLIGHT
BEGIN:STANDARD
TZOFFSETFROM:-0700
TZOFFSETTO:-0800
TZNAME:PST
DTSTART:20211107T090000
END:STANDARD
BEGIN:DAYLIGHT
TZOFFSETFROM:-0800
TZOFFSETTO:-0700
TZNAME:PDT
DTSTART:20220313T100000
END:DAYLIGHT
BEGIN:STANDARD
TZOFFSETFROM:-0700
TZOFFSETTO:-0800
TZNAME:PST
DTSTART:20221106T090000
END:STANDARD
END:VTIMEZONE
BEGIN:VEVENT
DTSTART;TZID=America/Los_Angeles:20210505T163000
DTEND;TZID=America/Los_Angeles:20210505T173000
DTSTAMP:20260421T185758
CREATED:20201211T223624Z
LAST-MODIFIED:20201211T223624Z
UID:5056-1620232200-1620235800@www.tpc-habitat.org
SUMMARY:Women Build: Intro to Tile
DESCRIPTION:Learn about the tools and materials needed for a DIY tile project in this Women Build Workshop led by Caitie\, on Wednesday\, May 5 at 4:30 PM PST. \nIn this interactive session\, Caitie will demonstrate how to measure and cut ceramic tile and set with Thinset. \nClick here to register for this virtual\, online session. All are welcome! \n\nMeet the Instructor: Caitie\nAfter graduating from University of Mary Washington in Virginia with a degree in biology\, Caitie served two AmeriCorps terms as a Construction Site Coordinator with Habitat for Humanity\, first in Delaware then in Tacoma. Following her AmeriCorps term in Tacoma\, Caitie became a construction trainer for Goodwill’s YouthBuild program. Now living on the east coast\, Caitie works as a Construction Site Manager for a Habitat affiliate in North Carolina. \nCaitie continues volunteering with Women Build because she is passionate about teaching and empowering individuals\, especially women and young people. She believes that creating a safe environment to learn\, ask questions\, and make mistakes helps people develop new skills as well as the confidence to use them.
URL:https://www.tpc-habitat.org/event/wb2021tilemay/
LOCATION:Online\, via Zoom\, United States
CATEGORIES:Women Build,Workshop
ORGANIZER;CN="Tracey Sorenson%2C Director of Community Engagement":MAILTO:tsorenson@tpc-habitat.org
END:VEVENT
BEGIN:VEVENT
DTSTART;TZID=America/Los_Angeles:20210519T163000
DTEND;TZID=America/Los_Angeles:20210519T173000
DTSTAMP:20260421T185758
CREATED:20201211T224227Z
LAST-MODIFIED:20201211T224227Z
UID:5060-1621441800-1621445400@www.tpc-habitat.org
SUMMARY:Women Build: Electrical Basics
DESCRIPTION:Come learn basic electrical techniques for replacing components in your home in this Women Build Workshop with Sandi on Wednesday\, May 19 at 4:30 PM PST. \nSandi will demonstrate the dos and don’ts for electricity\, talk about when you need a permit\, and demonstrate replacing an outlet in this interactive workshop. \nClick here to register for this virtual\, online session. All are welcome! \n\n  \nMeet the instructor: Sandi\nGrowing up in a family of plumbers and handy persons\, Sandi began learning from a young age skills for maintaining and repairing just about anything. She began taking apart bathroom fixtures at age 8\, hanging drywall at age 13\, and working on her own cars at 16. \nFor seven years Sandi was a member of the team that created and led the City of Tacoma’s Neighborhood Makeover Week\, providing training to Tacoma citizens on home maintenance and holding an annual event to beautify Tacoma neighborhoods. She enjoys using her varied skill set to work on projects at her own home and sharing her knowledge with oth
URL:https://www.tpc-habitat.org/event/wb2021electricalmay/
LOCATION:Online\, via Zoom\, United States
CATEGORIES:Women Build,Workshop
ORGANIZER;CN="Tracey Sorenson%2C Director of Community Engagement":MAILTO:tsorenson@tpc-habitat.org
END:VEVENT
END:VCALENDAR