BEGIN:VCALENDAR
VERSION:2.0
PRODID:-//Tacoma/Pierce County Habitat For Humanity - ECPv6.15.20//NONSGML v1.0//EN
CALSCALE:GREGORIAN
METHOD:PUBLISH
X-ORIGINAL-URL:https://www.tpc-habitat.org
X-WR-CALDESC:Events for Tacoma/Pierce County Habitat For Humanity
REFRESH-INTERVAL;VALUE=DURATION:PT1H
X-Robots-Tag:noindex
X-PUBLISHED-TTL:PT1H
BEGIN:VTIMEZONE
TZID:America/Los_Angeles
BEGIN:DAYLIGHT
TZOFFSETFROM:-0800
TZOFFSETTO:-0700
TZNAME:PDT
DTSTART:20190310T100000
END:DAYLIGHT
BEGIN:STANDARD
TZOFFSETFROM:-0700
TZOFFSETTO:-0800
TZNAME:PST
DTSTART:20191103T090000
END:STANDARD
BEGIN:DAYLIGHT
TZOFFSETFROM:-0800
TZOFFSETTO:-0700
TZNAME:PDT
DTSTART:20200308T100000
END:DAYLIGHT
BEGIN:STANDARD
TZOFFSETFROM:-0700
TZOFFSETTO:-0800
TZNAME:PST
DTSTART:20201101T090000
END:STANDARD
BEGIN:DAYLIGHT
TZOFFSETFROM:-0800
TZOFFSETTO:-0700
TZNAME:PDT
DTSTART:20210314T100000
END:DAYLIGHT
BEGIN:STANDARD
TZOFFSETFROM:-0700
TZOFFSETTO:-0800
TZNAME:PST
DTSTART:20211107T090000
END:STANDARD
END:VTIMEZONE
BEGIN:VEVENT
DTSTART;TZID=America/Los_Angeles:20200909T173000
DTEND;TZID=America/Los_Angeles:20200909T190000
DTSTAMP:20260422T050904
CREATED:20200727T171823Z
LAST-MODIFIED:20200727T171823Z
UID:4688-1599672600-1599678000@www.tpc-habitat.org
SUMMARY:Women Build: Flooring
DESCRIPTION:Join Women Build on Wednesday\, September 9 for a workshop on flooring. \nLearn about the similarities and differences between vinyl and laminate flooring and the variety of options for both. Caitie will take us step by step through installation\, and explain the necessary tools and teaching skills. \nThis is a free\, online workshop accessed via Zoom. To get the link\, please register. All are welcome.
URL:https://www.tpc-habitat.org/event/flooring_sept2020/
LOCATION:Online\, via Zoom\, United States
CATEGORIES:Women Build,Workshop
ORGANIZER;CN="Tracey Sorenson%2C Director of Community Engagement":MAILTO:tsorenson@tpc-habitat.org
END:VEVENT
BEGIN:VEVENT
DTSTART;TZID=America/Los_Angeles:20200923T173000
DTEND;TZID=America/Los_Angeles:20200923T190000
DTSTAMP:20260422T050904
CREATED:20200909T225727Z
LAST-MODIFIED:20200925T224752Z
UID:4753-1600882200-1600887600@www.tpc-habitat.org
SUMMARY:Women Build: Basic Electrical
DESCRIPTION:Join Women Build for a free online workshop on Electrical Basics on Wednesday\, 9/23. \nWith this interactive Q&A workshop\, Women Build Crew Chief Caitie will walk through how to change light fixtures and install a GFCI outlet\, and talk through some common electrical problems in homes and how to troubleshoot solutions. \nThe workshop begins on Zoom at 5:30 PM. Pre-registration is required; link will be provided upon RSVP. \nAll are welcome!
URL:https://www.tpc-habitat.org/event/women-build-basic-electrical/2020-09-23/
LOCATION:Online\, via Zoom\, United States
CATEGORIES:Women Build,Workshop
ORGANIZER;CN="Tracey Sorenson%2C Director of Community Engagement":MAILTO:tsorenson@tpc-habitat.org
END:VEVENT
END:VCALENDAR