BEGIN:VCALENDAR
VERSION:2.0
PRODID:-//Tacoma/Pierce County Habitat For Humanity - ECPv6.15.20//NONSGML v1.0//EN
CALSCALE:GREGORIAN
METHOD:PUBLISH
X-ORIGINAL-URL:https://www.tpc-habitat.org
X-WR-CALDESC:Events for Tacoma/Pierce County Habitat For Humanity
REFRESH-INTERVAL;VALUE=DURATION:PT1H
X-Robots-Tag:noindex
X-PUBLISHED-TTL:PT1H
BEGIN:VTIMEZONE
TZID:America/Los_Angeles
BEGIN:DAYLIGHT
TZOFFSETFROM:-0800
TZOFFSETTO:-0700
TZNAME:PDT
DTSTART:20190310T100000
END:DAYLIGHT
BEGIN:STANDARD
TZOFFSETFROM:-0700
TZOFFSETTO:-0800
TZNAME:PST
DTSTART:20191103T090000
END:STANDARD
BEGIN:DAYLIGHT
TZOFFSETFROM:-0800
TZOFFSETTO:-0700
TZNAME:PDT
DTSTART:20200308T100000
END:DAYLIGHT
BEGIN:STANDARD
TZOFFSETFROM:-0700
TZOFFSETTO:-0800
TZNAME:PST
DTSTART:20201101T090000
END:STANDARD
BEGIN:DAYLIGHT
TZOFFSETFROM:-0800
TZOFFSETTO:-0700
TZNAME:PDT
DTSTART:20210314T100000
END:DAYLIGHT
BEGIN:STANDARD
TZOFFSETFROM:-0700
TZOFFSETTO:-0800
TZNAME:PST
DTSTART:20211107T090000
END:STANDARD
END:VTIMEZONE
BEGIN:VEVENT
DTSTART;TZID=America/Los_Angeles:20200603T173000
DTEND;TZID=America/Los_Angeles:20200603T190000
DTSTAMP:20260422T085319
CREATED:20200514T001312Z
LAST-MODIFIED:20200514T234258Z
UID:4424-1591205400-1591210800@www.tpc-habitat.org
SUMMARY:Women Build: Intro to Drywall
DESCRIPTION:Join Women Build for an interactive Q&A session and learn everything you need to know about drywall. \nIn this online workshop\, we will cover how to apply drywall mud and tape\, sanding\, texturing\, patching\, and repair techniques. \nRSVPs are required.
URL:https://www.tpc-habitat.org/event/drywalljune2020/
LOCATION:Online\, via Zoom\, United States
CATEGORIES:Women Build,Workshop
ORGANIZER;CN="Volunteer Services":MAILTO:volunteer@tpc-habitat.org
END:VEVENT
BEGIN:VEVENT
DTSTART;TZID=America/Los_Angeles:20200617T173000
DTEND;TZID=America/Los_Angeles:20200617T190000
DTSTAMP:20260422T085319
CREATED:20200610T221434Z
LAST-MODIFIED:20200610T221434Z
UID:4491-1592415000-1592420400@www.tpc-habitat.org
SUMMARY:Women Build: Gardening Basics
DESCRIPTION:Next up in the Women Build Skills Workshops series: Gardening Basics on Wednesday\, June 17. \nJoin us at 5:30 PM for a live demonstration from from L’arche Farms. Learn how to choose plants\, how to plant and transplant\, how different soil types impact your garden\, and more – including time for Q & A. \nClick here to register for this session.
URL:https://www.tpc-habitat.org/event/gardeningbasicsjune2020/
LOCATION:Online\, via Zoom\, United States
CATEGORIES:Women Build,Workshop
ORGANIZER;CN="Tracey Sorenson%2C Director of Community Engagement":MAILTO:tsorenson@tpc-habitat.org
END:VEVENT
END:VCALENDAR