BEGIN:VCALENDAR
VERSION:2.0
PRODID:-//Tacoma/Pierce County Habitat For Humanity - ECPv6.15.20//NONSGML v1.0//EN
CALSCALE:GREGORIAN
METHOD:PUBLISH
X-WR-CALNAME:Tacoma/Pierce County Habitat For Humanity
X-ORIGINAL-URL:https://www.tpc-habitat.org
X-WR-CALDESC:Events for Tacoma/Pierce County Habitat For Humanity
REFRESH-INTERVAL;VALUE=DURATION:PT1H
X-Robots-Tag:noindex
X-PUBLISHED-TTL:PT1H
BEGIN:VTIMEZONE
TZID:America/Los_Angeles
BEGIN:DAYLIGHT
TZOFFSETFROM:-0800
TZOFFSETTO:-0700
TZNAME:PDT
DTSTART:20180311T100000
END:DAYLIGHT
BEGIN:STANDARD
TZOFFSETFROM:-0700
TZOFFSETTO:-0800
TZNAME:PST
DTSTART:20181104T090000
END:STANDARD
BEGIN:DAYLIGHT
TZOFFSETFROM:-0800
TZOFFSETTO:-0700
TZNAME:PDT
DTSTART:20190310T100000
END:DAYLIGHT
BEGIN:STANDARD
TZOFFSETFROM:-0700
TZOFFSETTO:-0800
TZNAME:PST
DTSTART:20191103T090000
END:STANDARD
BEGIN:DAYLIGHT
TZOFFSETFROM:-0800
TZOFFSETTO:-0700
TZNAME:PDT
DTSTART:20200308T100000
END:DAYLIGHT
BEGIN:STANDARD
TZOFFSETFROM:-0700
TZOFFSETTO:-0800
TZNAME:PST
DTSTART:20201101T090000
END:STANDARD
END:VTIMEZONE
BEGIN:VEVENT
DTSTART;TZID=America/Los_Angeles:20190130T180000
DTEND;TZID=America/Los_Angeles:20190130T193000
DTSTAMP:20260423T103949
CREATED:20190123T220114Z
LAST-MODIFIED:20190123T220354Z
UID:2671-1548871200-1548876600@www.tpc-habitat.org
SUMMARY:Credit & the Road to Homeownership
DESCRIPTION:Please join us Wednesday\, January 30th at 6PM to learn how credit works and how credit information can impact the ability to secure a mortgage loan. Deena Giesen\, Financial Counselor for Sound Outreach\, will lead this session that will help you and your family prepare for the journey towards homeownership. Topics include: credit scores\, bureaus\, reporting\, mitigating issues\, payment pitfalls\, and more. (Open to the public\, with an RSVP.) \nTo sign up\, please RSVP by email or call us at 253-627-5626 extension 140. With your RSVP\, please provide the name(s) of all those that will attend and their contact information (mailing address\, email and phone number). \nSeating is limited to 25 attendees and an RSVP is required to have access to this session. Due to limited space\, walk-ins will not be accommodated.  \nDoors will open 10 minutes before the beginning of the session (5:50PM). \nWe look forward to meeting you! \n  \nPhoto courtesy of iStockphoto. \n 
URL:https://www.tpc-habitat.org/event/creditworkshop/
LOCATION:Habitat Office\, Tacoma\, 4824 S Tacoma Way\, Tacoma\, WA\, 98409\, United States
CATEGORIES:Workshop
ORGANIZER;CN="Homeowner Services":MAILTO:homeowner@tpc-habitat.org
GEO:47.2129565;-122.4845059
X-APPLE-STRUCTURED-LOCATION;VALUE=URI;X-ADDRESS=Habitat Office Tacoma 4824 S Tacoma Way Tacoma WA 98409 United States;X-APPLE-RADIUS=500;X-TITLE=4824 S Tacoma Way:geo:-122.4845059,47.2129565
END:VEVENT
END:VCALENDAR