BEGIN:VCALENDAR
VERSION:2.0
PRODID:-//Tacoma/Pierce County Habitat For Humanity - ECPv6.15.20//NONSGML v1.0//EN
CALSCALE:GREGORIAN
METHOD:PUBLISH
X-WR-CALNAME:Tacoma/Pierce County Habitat For Humanity
X-ORIGINAL-URL:https://www.tpc-habitat.org
X-WR-CALDESC:Events for Tacoma/Pierce County Habitat For Humanity
REFRESH-INTERVAL;VALUE=DURATION:PT1H
X-Robots-Tag:noindex
X-PUBLISHED-TTL:PT1H
BEGIN:VTIMEZONE
TZID:America/Los_Angeles
BEGIN:DAYLIGHT
TZOFFSETFROM:-0800
TZOFFSETTO:-0700
TZNAME:PDT
DTSTART:20200308T100000
END:DAYLIGHT
BEGIN:STANDARD
TZOFFSETFROM:-0700
TZOFFSETTO:-0800
TZNAME:PST
DTSTART:20201101T090000
END:STANDARD
BEGIN:DAYLIGHT
TZOFFSETFROM:-0800
TZOFFSETTO:-0700
TZNAME:PDT
DTSTART:20210314T100000
END:DAYLIGHT
BEGIN:STANDARD
TZOFFSETFROM:-0700
TZOFFSETTO:-0800
TZNAME:PST
DTSTART:20211107T090000
END:STANDARD
BEGIN:DAYLIGHT
TZOFFSETFROM:-0800
TZOFFSETTO:-0700
TZNAME:PDT
DTSTART:20220313T100000
END:DAYLIGHT
BEGIN:STANDARD
TZOFFSETFROM:-0700
TZOFFSETTO:-0800
TZNAME:PST
DTSTART:20221106T090000
END:STANDARD
END:VTIMEZONE
BEGIN:VEVENT
DTSTART;TZID=America/Los_Angeles:20210512T163000
DTEND;TZID=America/Los_Angeles:20210512T173000
DTSTAMP:20260421T223832
CREATED:20210317T221258Z
LAST-MODIFIED:20210414T210739Z
UID:5339-1620837000-1620840600@www.tpc-habitat.org
SUMMARY:Women Build Leadership Series
DESCRIPTION:Women in Construction\nWhile the number of women working in construction continues to climb\, women still only account for 10% of the workforce. The good news: The gender pay gap is significantly smaller in construction occupations with women earning on average 99.1% of what men make\, compared to 81.1% across all careers fields. Nonetheless\, women face unique challenges in this very male-dominated industry. \nJoin Rachael Pease\, Diversity Program Manager for Korsmo Construction\, as she shares the importance of company culture and supporting and advocating for women in breaking down these barriers in our Women Build workshop on Wednesday\, May 12 at 4:30 PST. \nClick here to register for this FREE virtual\, online session. All are welcome! \nPlease note that this workshop has been rescheduled.\n(Previous posted date was 4/14/21.) \n\nMeet the Speaker\nAs the Diversity Program Manager at Korsmo Construction\, Rachael Pease helps lead the construction industry in meeting diversity and inclusion goals. She works with small businesses to help them obtain MBE and WBE certification and assists with one-on-one mentorship and training to ensure success and business sustainability. \nDedicated to youth programs\, Rachael is involved with Tacoma Public Schools\, Next Move\, Graduate Tacoma\, Discover U\, Youth Build\, and the ACE mentorship programs. She is a member of the AGC Diversity and Inclusion Steering Committee\, National Association of Minority Contractors\, National Association of Women in Construction\, and Pierce County Community Engagement task force. Rachael also serves on the Board of Directors for Tacoma/Pierce County Habitat for Humanity.
URL:https://www.tpc-habitat.org/event/women_in_construction/
LOCATION:Online\, via Zoom\, United States
CATEGORIES:Women Build,Workshop
ORGANIZER;CN="Tracey Sorenson%2C Director of Community Engagement":MAILTO:tsorenson@tpc-habitat.org
END:VEVENT
END:VCALENDAR