BEGIN:VCALENDAR
VERSION:2.0
PRODID:-//Tacoma/Pierce County Habitat For Humanity - ECPv6.15.20//NONSGML v1.0//EN
CALSCALE:GREGORIAN
METHOD:PUBLISH
X-WR-CALNAME:Tacoma/Pierce County Habitat For Humanity
X-ORIGINAL-URL:https://www.tpc-habitat.org
X-WR-CALDESC:Events for Tacoma/Pierce County Habitat For Humanity
REFRESH-INTERVAL;VALUE=DURATION:PT1H
X-Robots-Tag:noindex
X-PUBLISHED-TTL:PT1H
BEGIN:VTIMEZONE
TZID:America/Los_Angeles
BEGIN:DAYLIGHT
TZOFFSETFROM:-0800
TZOFFSETTO:-0700
TZNAME:PDT
DTSTART:20200308T100000
END:DAYLIGHT
BEGIN:STANDARD
TZOFFSETFROM:-0700
TZOFFSETTO:-0800
TZNAME:PST
DTSTART:20201101T090000
END:STANDARD
BEGIN:DAYLIGHT
TZOFFSETFROM:-0800
TZOFFSETTO:-0700
TZNAME:PDT
DTSTART:20210314T100000
END:DAYLIGHT
BEGIN:STANDARD
TZOFFSETFROM:-0700
TZOFFSETTO:-0800
TZNAME:PST
DTSTART:20211107T090000
END:STANDARD
BEGIN:DAYLIGHT
TZOFFSETFROM:-0800
TZOFFSETTO:-0700
TZNAME:PDT
DTSTART:20220313T100000
END:DAYLIGHT
BEGIN:STANDARD
TZOFFSETFROM:-0700
TZOFFSETTO:-0800
TZNAME:PST
DTSTART:20221106T090000
END:STANDARD
END:VTIMEZONE
BEGIN:VEVENT
DTSTART;TZID=America/Los_Angeles:20210804T163000
DTEND;TZID=America/Los_Angeles:20210804T173000
DTSTAMP:20260421T143950
CREATED:20210604T220116Z
LAST-MODIFIED:20210604T220116Z
UID:5566-1628094600-1628098200@www.tpc-habitat.org
SUMMARY:Women Build: Porches & Decks
DESCRIPTION:Join Women Build for a new workshop centered around outdoor living space. Instructor Caitie will demonstrate general techniques for building a deck or porch. Learn the building codes you need to be aware of\, the differences between wood and synthetic deck boards\, how to stain and pressure wash\, and tips for maintaining your deck or porch once finished. \nClick here to register for this free\, online workshop. While this workshop was designed with women in mind\, all are welcome! \nWomen Build Workshops are sponsored by our friends at:\n \n\n  \nMeet the instructor: Caitie\nAfter graduating from University of Mary Washington in Virginia with a degree in biology\, Caitie served two AmeriCorps terms as a Construction Site Coordinator with Habitat for Humanity\, first in Delaware then in Tacoma. Following her AmeriCorps term in Tacoma\, Caitie became a construction trainer for Goodwill’s YouthBuild program. Now living on the east coast\, Caitie works as a Construction Site Manager for a Habitat affiliate in North Carolina. \nCaitie continues volunteering with Women Build because she is passionate about teaching and empowering individuals\, especially women and young people. She believes that creating a safe environment to learn\, ask questions\, and make mistakes helps people develop new skills as well as the confidence to use them.
URL:https://www.tpc-habitat.org/event/wb2021decksaug/
LOCATION:Online\, via Zoom\, United States
CATEGORIES:Women Build,Workshop
ORGANIZER;CN="Tracey Sorenson%2C Director of Community Engagement":MAILTO:tsorenson@tpc-habitat.org
END:VEVENT
END:VCALENDAR