BEGIN:VCALENDAR
VERSION:2.0
PRODID:-//Tacoma/Pierce County Habitat For Humanity - ECPv6.15.20//NONSGML v1.0//EN
CALSCALE:GREGORIAN
METHOD:PUBLISH
X-WR-CALNAME:Tacoma/Pierce County Habitat For Humanity
X-ORIGINAL-URL:https://www.tpc-habitat.org
X-WR-CALDESC:Events for Tacoma/Pierce County Habitat For Humanity
REFRESH-INTERVAL;VALUE=DURATION:PT1H
X-Robots-Tag:noindex
X-PUBLISHED-TTL:PT1H
BEGIN:VTIMEZONE
TZID:America/Los_Angeles
BEGIN:DAYLIGHT
TZOFFSETFROM:-0800
TZOFFSETTO:-0700
TZNAME:PDT
DTSTART:20210314T100000
END:DAYLIGHT
BEGIN:STANDARD
TZOFFSETFROM:-0700
TZOFFSETTO:-0800
TZNAME:PST
DTSTART:20211107T090000
END:STANDARD
BEGIN:DAYLIGHT
TZOFFSETFROM:-0800
TZOFFSETTO:-0700
TZNAME:PDT
DTSTART:20220313T100000
END:DAYLIGHT
BEGIN:STANDARD
TZOFFSETFROM:-0700
TZOFFSETTO:-0800
TZNAME:PST
DTSTART:20221106T090000
END:STANDARD
BEGIN:DAYLIGHT
TZOFFSETFROM:-0800
TZOFFSETTO:-0700
TZNAME:PDT
DTSTART:20230312T100000
END:DAYLIGHT
BEGIN:STANDARD
TZOFFSETFROM:-0700
TZOFFSETTO:-0800
TZNAME:PST
DTSTART:20231105T090000
END:STANDARD
END:VTIMEZONE
BEGIN:VEVENT
DTSTART;TZID=America/Los_Angeles:20220301T120000
DTEND;TZID=America/Los_Angeles:20220301T130000
DTSTAMP:20260421T235630
CREATED:20211115T191239Z
LAST-MODIFIED:20220124T212940Z
UID:5874-1646136000-1646139600@www.tpc-habitat.org
SUMMARY:Changing Lives Luncheon\, 2022
DESCRIPTION:Join us for lunch on Tuesday\, March 1! \nOur annual Changing Lives Luncheon is set for Tuesday\, March 1st at noon at Tacoma’s Hotel Murano. \nIn just under an hour\, we will share inspiring stories from Habitat homeowners\, and hear from CEO Maureen Fife about what’s on the horizon for Tacoma Habitat. This year’s event will be a limited-capacity\, in-person event requiring proof of vaccination for admission. \nWhile there is no cover charge for the Changing Lives Luncheon\, guests will be asked to make a gift from the heart in support of our mission. 
URL:https://www.tpc-habitat.org/event/changing-lives-luncheon-2022/
LOCATION:Hotel Murano\, 1320 Broadway\, Tacoma\, WA\, 98402\, United States
CATEGORIES:Fundraising Events
ORGANIZER;CN="Beth Brooks%2C Donor Experience & Storytelling Manager":MAILTO:bbrooks@tpc-habitat.org
GEO:47.2504239;-122.440192
X-APPLE-STRUCTURED-LOCATION;VALUE=URI;X-ADDRESS=Hotel Murano 1320 Broadway Tacoma WA 98402 United States;X-APPLE-RADIUS=500;X-TITLE=1320 Broadway:geo:-122.440192,47.2504239
END:VEVENT
BEGIN:VEVENT
DTSTART;TZID=America/Los_Angeles:20220310T180000
DTEND;TZID=America/Los_Angeles:20220310T190000
DTSTAMP:20260421T235630
CREATED:20211119T223609Z
LAST-MODIFIED:20211119T223609Z
UID:5926-1646935200-1646938800@www.tpc-habitat.org
SUMMARY:Homeowner Orientation Session
DESCRIPTION:Attendance at a Homeowner Orientation Session is the first step to becoming a Habitat homeowner. \nTo register for the March 10th session and get the Zoom link\, please click here. \nOur homebuyer program is designed for households with with a maximum gross income* (before taxes) of 80% of Area Median Income based on the number of individuals living in the household. Further information about eligibility can be found here.
URL:https://www.tpc-habitat.org/event/homeowner-orientation-session-2/
LOCATION:Online\, via Zoom\, United States
CATEGORIES:Homeowner Information Session
ORGANIZER;CN="Homeowner Services":MAILTO:homeowner@tpc-habitat.org
END:VEVENT
BEGIN:VEVENT
DTSTART;TZID=America/Los_Angeles:20220317T170000
DTEND;TZID=America/Los_Angeles:20220317T183000
DTSTAMP:20260421T235630
CREATED:20220202T210120Z
LAST-MODIFIED:20220422T181210Z
UID:6150-1647536400-1647541800@www.tpc-habitat.org
SUMMARY:Workshop for Renters
DESCRIPTION:Are you renting in the Lakewood area? Are you struggling due to COVID and/or worried about eviction? Let us help! \nJoin us for this workshop to explore your rights as a tenant and learn about resources to help and/or that offer financial assistance. \nRegistration is required and seats are limited. Please RSVP using this link today. \n 
URL:https://www.tpc-habitat.org/event/workshop-for-renters/2022-03-17/
LOCATION:Online\, via Zoom\, United States
CATEGORIES:Workshop
ORGANIZER;CN="Deena Giesen":MAILTO:dgiesen@tpc-habitat.org
END:VEVENT
END:VCALENDAR