BEGIN:VCALENDAR
VERSION:2.0
PRODID:-//Tacoma/Pierce County Habitat For Humanity - ECPv6.15.20//NONSGML v1.0//EN
CALSCALE:GREGORIAN
METHOD:PUBLISH
X-ORIGINAL-URL:https://www.tpc-habitat.org
X-WR-CALDESC:Events for Tacoma/Pierce County Habitat For Humanity
REFRESH-INTERVAL;VALUE=DURATION:PT1H
X-Robots-Tag:noindex
X-PUBLISHED-TTL:PT1H
BEGIN:VTIMEZONE
TZID:America/Los_Angeles
BEGIN:DAYLIGHT
TZOFFSETFROM:-0800
TZOFFSETTO:-0700
TZNAME:PDT
DTSTART:20240310T100000
END:DAYLIGHT
BEGIN:STANDARD
TZOFFSETFROM:-0700
TZOFFSETTO:-0800
TZNAME:PST
DTSTART:20241103T090000
END:STANDARD
BEGIN:DAYLIGHT
TZOFFSETFROM:-0800
TZOFFSETTO:-0700
TZNAME:PDT
DTSTART:20250309T100000
END:DAYLIGHT
BEGIN:STANDARD
TZOFFSETFROM:-0700
TZOFFSETTO:-0800
TZNAME:PST
DTSTART:20251102T090000
END:STANDARD
BEGIN:DAYLIGHT
TZOFFSETFROM:-0800
TZOFFSETTO:-0700
TZNAME:PDT
DTSTART:20260308T100000
END:DAYLIGHT
BEGIN:STANDARD
TZOFFSETFROM:-0700
TZOFFSETTO:-0800
TZNAME:PST
DTSTART:20261101T090000
END:STANDARD
END:VTIMEZONE
BEGIN:VEVENT
DTSTART;TZID=America/Los_Angeles:20251002T160000
DTEND;TZID=America/Los_Angeles:20251002T180000
DTSTAMP:20260422T112337
CREATED:20241113T211838Z
LAST-MODIFIED:20250926T170427Z
UID:10121-1759420800-1759428000@www.tpc-habitat.org
SUMMARY:Keys to Homeownership™
DESCRIPTION:Have you dreamed of owning your home but don’t know where to start?\nIs your credit stopping you from buying a home?\nAre home prices discouraging you from getting started?\n\nPut all that behind you as you learn how to begin your journey to homeownership—whether you want to buy a Habitat home or on the open market. Topics include: goal setting\, creating a spending plan\, how to manage credit and its impact\, and home financing options. \nJoin us on Thursdays in October 2\, 9\, 16\, 23! Sessions are from 4:00 – 6:00 PM in-person at Bergerson Terrace. Pre-registration is required. Sign up by clicking here. \nTo receive a certificate of completion\, participants must attend all sessions in full.
URL:https://www.tpc-habitat.org/event/keys_jan2025_tues_thu-2025-01-23-2025-02-20-2025-03-20-2025-05-13-2025-07-24-2025-09-04-2025-09-25-2025-10-09/2025-10-02/
LOCATION:Arlington Drive Youth Campus\, 3811 E Arlington Dr\, Tacoma\, WA\, 98404\, United States
CATEGORIES:Housing Counseling,Workshop
ORGANIZER;CN="Homeowner Services":MAILTO:homeowner@tpc-habitat.org
END:VEVENT
BEGIN:VEVENT
DTSTART;TZID=America/Los_Angeles:20251006T180000
DTEND;TZID=America/Los_Angeles:20251006T183000
DTSTAMP:20260422T112337
CREATED:20241230T220644Z
LAST-MODIFIED:20251006T184118Z
UID:9136-1759773600-1759775400@www.tpc-habitat.org
SUMMARY:New Volunteer Orientation
DESCRIPTION:New volunteers must attend a virtual New Volunteer Orientation prior to their first shift. \nDuring the orientation\, you will be asked to provide your email address and birth date for a background check. Following a successful background check\, you will have access to VolunteerHub\, our scheduling software\, and you will be able to schedule yourself for volunteer shifts in either construction or one of our Habitat Stores. \nPlease note: \n\nHabitat is unable to sign off on court-ordered community service hours.\nAll volunteers must be 16 or older.\n\nTo register for orientation and get the Zoom link\, please click here. \n  \n  \n 
URL:https://www.tpc-habitat.org/event/new-volunteer-orientation-3-2025-10-06/
END:VEVENT
BEGIN:VEVENT
DTSTART;TZID=America/Los_Angeles:20251008T170000
DTEND;TZID=America/Los_Angeles:20251008T180000
DTSTAMP:20260422T112337
CREATED:20250131T223834Z
LAST-MODIFIED:20251008T023653Z
UID:9845-1759942800-1759946400@www.tpc-habitat.org
SUMMARY:Foreclosure Prevention Workshop
DESCRIPTION:Are you in danger of foreclosure? Running out of mortgage assistance funds? What are your next steps? \nJoin Tacoma/Pierce County Habitat for Humanity for a foreclosure prevention workshop and learn what steps you can take to avoid foreclosure from a certified housing counselor. Topics covered include loss mitigation\, housing counseling\, and more. \n  \n\nregister
URL:https://www.tpc-habitat.org/event/foreclosure-prevention-workshop-2025-06-11-2025-10-08/
CATEGORIES:Financial Education,Housing Counseling,Workshop
END:VEVENT
BEGIN:VEVENT
DTSTART;TZID=America/Los_Angeles:20251009T160000
DTEND;TZID=America/Los_Angeles:20251009T180000
DTSTAMP:20260422T112337
CREATED:20250812T225354Z
LAST-MODIFIED:20251008T023803Z
UID:10131-1760025600-1760032800@www.tpc-habitat.org
SUMMARY:Keys to Homeownership™
DESCRIPTION:Have you dreamed of owning your home but don’t know where to start?\nIs your credit stopping you from buying a home?\nAre home prices discouraging you from getting started?\n\nPut all that behind you as you learn how to begin your journey to homeownership—whether you want to buy a Habitat home or on the open market. Topics include: goal setting\, creating a spending plan\, how to manage credit and its impact\, and home financing options. \nJoin us on Thursdays in October 2\, 9\, 16\, 23! Sessions are from 4:00 – 6:00 PM in-person at Bergerson Terrace. Pre-registration is required. \nTo receive a certificate of completion\, participants must attend all sessions in full. \n\nregister
URL:https://www.tpc-habitat.org/event/hybrid-keys-to-homeownership/
CATEGORIES:Financial Education,Housing Counseling,Workshop
END:VEVENT
BEGIN:VEVENT
DTSTART;TZID=America/Los_Angeles:20251009T180000
DTEND;TZID=America/Los_Angeles:20251009T200000
DTSTAMP:20260422T112337
CREATED:20240419T210721Z
LAST-MODIFIED:20251008T024234Z
UID:9323-1760032800-1760040000@www.tpc-habitat.org
SUMMARY:Homeowner Orientation
DESCRIPTION:Attendance at a Homeowner Orientation Session is the first step to becoming a Habitat homeowner. \nStart your journey to homeownership now and register for the October 9 session down below! \nOur homebuyer program is designed for households with a maximum gross income* (before taxes) of 80% of Area Median Income based on the number of individuals living in the household. Further information about eligibility can be found here. \n*all adult household members age 18+ are required to complete the orientation to be approved for the program. \n  \n\nregister
URL:https://www.tpc-habitat.org/event/homeowner-orientation_october/
LOCATION:Online\, via Zoom\, United States
CATEGORIES:Homeowner Information Session
ORGANIZER;CN="Homeowner Services":MAILTO:homeowner@tpc-habitat.org
END:VEVENT
BEGIN:VEVENT
DTSTART;TZID=America/Los_Angeles:20251016T120000
DTEND;TZID=America/Los_Angeles:20251016T123000
DTSTAMP:20260422T112337
CREATED:20241113T205802Z
LAST-MODIFIED:20251008T024400Z
UID:9110-1760616000-1760617800@www.tpc-habitat.org
SUMMARY:New Volunteer Orientation
DESCRIPTION:Interested in volunteering with Tacoma Habitat? \nNew volunteers must attend a virtual New Volunteer Orientation prior to their first shift. \nDuring the orientation\, you will be asked to provide your email address and birth date for a background check. Following a successful background check\, you will have access to VolunteerHub\, our scheduling software\, and you will be able to schedule yourself for volunteer shifts in either construction or one of our Habitat Stores. \nPlease note: \n\nHabitat is unable to sign off on court-ordered community service hours.\nAll volunteers must be 16 or older.\n\n  \n\nregister
URL:https://www.tpc-habitat.org/event/volunteer-orientation_jan162025-2025-10-16/
LOCATION:Online\, via Zoom\, United States
CATEGORIES:New Volunteer Orientation
ORGANIZER;CN="Volunteer Services":MAILTO:volunteer@tpc-habitat.org
END:VEVENT
BEGIN:VEVENT
DTSTART;TZID=America/Los_Angeles:20251016T160000
DTEND;TZID=America/Los_Angeles:20251016T180000
DTSTAMP:20260422T112337
CREATED:20241113T211838Z
LAST-MODIFIED:20251008T024446Z
UID:10122-1760630400-1760637600@www.tpc-habitat.org
SUMMARY:Keys to Homeownership™
DESCRIPTION:Have you dreamed of owning your home but don’t know where to start?\nIs your credit stopping you from buying a home?\nAre home prices discouraging you from getting started?\n\nPut all that behind you as you learn how to begin your journey to homeownership—whether you want to buy a Habitat home or on the open market. Topics include: goal setting\, creating a spending plan\, how to manage credit and its impact\, and home financing options. \nJoin us on Thursdays in October 2\, 9\, 16\, 23! Sessions are from 4:00 – 6:00 PM in-person at Bergerson Terrace. Pre-registration is required. \nTo receive a certificate of completion\, participants must attend all sessions in full. \n\nregister
URL:https://www.tpc-habitat.org/event/keys_jan2025_tues_thu-2025-01-23-2025-02-20-2025-03-20-2025-05-13-2025-07-24-2025-09-04-2025-09-25-2025-10-09/2025-10-16/
LOCATION:Arlington Drive Youth Campus\, 3811 E Arlington Dr\, Tacoma\, WA\, 98404\, United States
CATEGORIES:Housing Counseling,Workshop
ORGANIZER;CN="Homeowner Services":MAILTO:homeowner@tpc-habitat.org
END:VEVENT
BEGIN:VEVENT
DTSTART;TZID=America/Los_Angeles:20251023T160000
DTEND;TZID=America/Los_Angeles:20251023T180000
DTSTAMP:20260422T112337
CREATED:20241113T211838Z
LAST-MODIFIED:20251008T024526Z
UID:10123-1761235200-1761242400@www.tpc-habitat.org
SUMMARY:Keys to Homeownership™
DESCRIPTION:Have you dreamed of owning your home but don’t know where to start?\nIs your credit stopping you from buying a home?\nAre home prices discouraging you from getting started?\n\nPut all that behind you as you learn how to begin your journey to homeownership—whether you want to buy a Habitat home or on the open market. Topics include: goal setting\, creating a spending plan\, how to manage credit and its impact\, and home financing options. \nJoin us on Thursdays in October 2\, 9\, 16\, 23! Sessions are from 4:00 – 6:00 PM in-person at Bergerson Terrace. Pre-registration is required. \nTo receive a certificate of completion\, participants must attend all sessions in full. \n\nregister
URL:https://www.tpc-habitat.org/event/keys_jan2025_tues_thu-2025-01-23-2025-02-20-2025-03-20-2025-05-13-2025-07-24-2025-09-04-2025-09-25-2025-10-09/2025-10-23/
LOCATION:Arlington Drive Youth Campus\, 3811 E Arlington Dr\, Tacoma\, WA\, 98404\, United States
CATEGORIES:Housing Counseling,Workshop
ORGANIZER;CN="Homeowner Services":MAILTO:homeowner@tpc-habitat.org
END:VEVENT
BEGIN:VEVENT
DTSTART;TZID=America/Los_Angeles:20251028T160000
DTEND;TZID=America/Los_Angeles:20251028T180000
DTSTAMP:20260422T112337
CREATED:20250814T213259Z
LAST-MODIFIED:20251008T024749Z
UID:10157-1761667200-1761674400@www.tpc-habitat.org
SUMMARY:In-Person Homeowner Orientation
DESCRIPTION:Attendance at a Homeowner Orientation Session is the first step to becoming a Habitat homeowner. \nYour journey to homeownership starts TODAY! Register for the October 28 session down below.\nThis session will be held in-person at the Tacoma Public Library South Tacoma Branch. \nOur homebuyer program is designed for households with with a maximum gross income* (before taxes) of 80% of Area Median Income based on the number of individuals living in the household. Further information about eligibility can be found here. \n*all adult household members age 18+ are required to complete the orientation to be approved for the program. \n\nregister
URL:https://www.tpc-habitat.org/event/in-person-homeowner-orientation/2025-10-28/
CATEGORIES:Homeowner Information Session
END:VEVENT
BEGIN:VEVENT
DTSTART;TZID=America/Los_Angeles:20251029T160000
DTEND;TZID=America/Los_Angeles:20251029T180000
DTSTAMP:20260422T112337
CREATED:20250812T225354Z
LAST-MODIFIED:20251008T025428Z
UID:10132-1761753600-1761760800@www.tpc-habitat.org
SUMMARY:Hybrid Keys to Homeownership™
DESCRIPTION:Have you dreamed of owning your home but don’t know where to start?\nIs your credit stopping you from buying a home?\nAre home prices discouraging you from getting started?\n\nPut all that behind you as you learn how to begin your journey to homeownership—whether you want to buy a Habitat home or on the open market. Topics include: goal setting\, creating a spending plan\, how to manage credit and its impact\, and home financing options. \nJoin us on Wednesdays: October 29\, November 5\, 12\, 19! Sessions are from 4:00 – 6:00 PM in-person at the Buckley Pierce County Library or via Zoom. Pre-registration is required. \nTo receive a certificate of completion\, participants must attend all sessions in full. \n\nregister
URL:https://www.tpc-habitat.org/event/hybrid-keys-to-homeownership-2025-11-05/2025-10-29/
CATEGORIES:Financial Education,Housing Counseling,Workshop
END:VEVENT
END:VCALENDAR