BEGIN:VCALENDAR
VERSION:2.0
PRODID:-//Tacoma/Pierce County Habitat For Humanity - ECPv6.15.20//NONSGML v1.0//EN
CALSCALE:GREGORIAN
METHOD:PUBLISH
X-ORIGINAL-URL:https://www.tpc-habitat.org
X-WR-CALDESC:Events for Tacoma/Pierce County Habitat For Humanity
REFRESH-INTERVAL;VALUE=DURATION:PT1H
X-Robots-Tag:noindex
X-PUBLISHED-TTL:PT1H
BEGIN:VTIMEZONE
TZID:America/Los_Angeles
BEGIN:DAYLIGHT
TZOFFSETFROM:-0800
TZOFFSETTO:-0700
TZNAME:PDT
DTSTART:20220313T100000
END:DAYLIGHT
BEGIN:STANDARD
TZOFFSETFROM:-0700
TZOFFSETTO:-0800
TZNAME:PST
DTSTART:20221106T090000
END:STANDARD
BEGIN:DAYLIGHT
TZOFFSETFROM:-0800
TZOFFSETTO:-0700
TZNAME:PDT
DTSTART:20230312T100000
END:DAYLIGHT
BEGIN:STANDARD
TZOFFSETFROM:-0700
TZOFFSETTO:-0800
TZNAME:PST
DTSTART:20231105T090000
END:STANDARD
BEGIN:DAYLIGHT
TZOFFSETFROM:-0800
TZOFFSETTO:-0700
TZNAME:PDT
DTSTART:20240310T100000
END:DAYLIGHT
BEGIN:STANDARD
TZOFFSETFROM:-0700
TZOFFSETTO:-0800
TZNAME:PST
DTSTART:20241103T090000
END:STANDARD
END:VTIMEZONE
BEGIN:VEVENT
DTSTART;TZID=America/Los_Angeles:20231002T180000
DTEND;TZID=America/Los_Angeles:20231002T190000
DTSTAMP:20260424T191226
CREATED:20221118T224211Z
LAST-MODIFIED:20221118T224211Z
UID:6709-1696269600-1696273200@www.tpc-habitat.org
SUMMARY:New Volunteer Orientation
DESCRIPTION:Interested in volunteering with Tacoma Habitat? \nNew volunteers must attend a virtual New Volunteer Orientation prior to their first shift. \nDuring the orientation\, you will be asked to provide your email address and birth date for a background check. Following a successful background check\, you will have access to VolunteerHub\, our scheduling software\, and you will be able to schedule yourself for volunteer shifts in either construction or one of our Habitat Stores. \nPlease note: \n\nHabitat is unable to sign off on court-ordered community service hours.\nAll volunteers must be 16 or older.\n\n To register for orientation and get the Zoom link\, please click here.
URL:https://www.tpc-habitat.org/event/volunteer-orientation_oct2023/
LOCATION:Online\, via Zoom\, United States
CATEGORIES:New Volunteer Orientation
ORGANIZER;CN="Volunteer Services":MAILTO:volunteer@tpc-habitat.org
END:VEVENT
BEGIN:VEVENT
DTSTART;TZID=America/Los_Angeles:20231019T113000
DTEND;TZID=America/Los_Angeles:20231019T130000
DTSTAMP:20260424T191226
CREATED:20230921T235131Z
LAST-MODIFIED:20230921T235131Z
UID:7565-1697715000-1697720400@www.tpc-habitat.org
SUMMARY:Where There's a Will...
DESCRIPTION:Our partners at Leave 10 South Sound are hosting an online workshop as part of National Estate Planning Week (October 17-23). \nJoin local estate planning experts as they demystify the process of creating an estate plan and\, most importantly\, show you that every person – not just the most wealthy among us – can and should have a plan to secure their wishes. \nThis FREE event is Thursday\, October 19 from 11:30 AM to 1:00 PM. Click here to register and get the Zoom link. \nAll are welcome to attend: individuals thinking about their estate plans\, nonprofit professionals and their donors\, and professional advisors and their clients. Now is the time to secure your wishes. \n\nYou are also invited to use Tacoma/Pierce County Habitat for Humanity’s\nfree will building tool by clicking here. 
URL:https://www.tpc-habitat.org/event/estate_nepaw23/
LOCATION:Online\, via Zoom\, United States
CATEGORIES:Workshop
END:VEVENT
BEGIN:VEVENT
DTSTART;TZID=America/Los_Angeles:20231019T180000
DTEND;TZID=America/Los_Angeles:20231019T193000
DTSTAMP:20260424T191226
CREATED:20230920T225725Z
LAST-MODIFIED:20231016T153916Z
UID:7555-1697738400-1697743800@www.tpc-habitat.org
SUMMARY:Homeowner Orientation
DESCRIPTION:Attendance at a Homeowner Orientation Session is the first step to becoming a Habitat homeowner. \nTo register for the October 19th session and get the Zoom link\, please click here. \nOur homebuyer program is designed for households with with a maximum gross income* (before taxes) of 80% of Area Median Income based on the number of individuals living in the household. Further information about eligibility can be found here.
URL:https://www.tpc-habitat.org/event/homeowner-orientation-2/
LOCATION:Online\, via Zoom\, United States
CATEGORIES:Homeowner Information Session,Workshop
ORGANIZER;CN="Homeowner Services":MAILTO:homeowner@tpc-habitat.org
END:VEVENT
BEGIN:VEVENT
DTSTART;TZID=America/Los_Angeles:20231026T173000
DTEND;TZID=America/Los_Angeles:20231026T183000
DTSTAMP:20260424T191226
CREATED:20231010T172934Z
LAST-MODIFIED:20231027T001247Z
UID:7663-1698341400-1698345000@www.tpc-habitat.org
SUMMARY:Keys to Homeownership
DESCRIPTION:Registration for this workshop series is closed.\nFor information about joining\, please contact us.\n  \nDiscover the Keys to Homeownership with this free\, 4-part workshop series! The next cycle begins soon. \n\nHave you dreamed of owning your home but don’t know where to start?\nIs your credit stopping you from buying a home?\nAre home prices discouraging you from getting started?\n\nPut all that behind you as your learn how to begin your journey to homeownership in our 4-part series—whether you want to buy a Habitat home or one the open market. Topics include: goal setting\, creating a spending plan\, how to manage credit and its impact\, and home financing options. \nJoin us Thursdays this fall: October 26\, November 2\, 9 and 16! Sessions are from 5:30 – 6:30 PM via Zoom. Pre-registration is required; the Zoom link will be provided with your email confirmation. \nParticipants who attend all four sessions in full will be eligible for\na drawing to win a $50 Fred Meyer gift card \n\n\n\n \n 
URL:https://www.tpc-habitat.org/event/keys_fall2023_cycle2/2023-10-26/
LOCATION:Online\, via Zoom\, United States
CATEGORIES:Financial Education,Workshop
ORGANIZER;CN="Pathways to Homeownership":MAILTO:sbagley@tpc-habitat.org
END:VEVENT
BEGIN:VEVENT
DTSTART;TZID=America/Los_Angeles:20231028T083000
DTEND;TZID=America/Los_Angeles:20231028T153000
DTSTAMP:20260424T191226
CREATED:20230905T171104Z
LAST-MODIFIED:20230905T171104Z
UID:7329-1698481800-1698507000@www.tpc-habitat.org
SUMMARY:Women Build
DESCRIPTION:Our next Women Build construction opportunity is coming up on Saturday\, October 28 at American Lake Townhomes (Lakewood).  \nThere is room for 15 volunteers and no experience is needed. Our female construction staff and crew chiefs are glad to teach you everything you’ll need to accomplish the task(s) at hand. \nPre-registration is required and you can sign up here. Women Build days are extremely popular\, and we often have a waitlist. Due to this\, we ask that if you are unable to attend your registered shift you please cancel in our system. You will also be asked to confirm your participation a week in advance to ensure we have a full roster of volunteers. \nPlease note: \n\nVolunteers must be at least 16 years old\, and those under age 18 must be accompanied by parent or guardian.\nTacoma Habitat cannot sign off on court-ordered volunteer mandates.\n\n  \nThis Women Build opportunity is sponsored by:
URL:https://www.tpc-habitat.org/event/women-build/
LOCATION:Tacoma\, United States
CATEGORIES:Women Build
ORGANIZER;CN="Volunteer Services":MAILTO:volunteer@tpc-habitat.org
GEO:47.2528768;-122.4442906
END:VEVENT
END:VCALENDAR