BEGIN:VCALENDAR
VERSION:2.0
PRODID:-//Tacoma/Pierce County Habitat For Humanity - ECPv6.15.20//NONSGML v1.0//EN
CALSCALE:GREGORIAN
METHOD:PUBLISH
X-ORIGINAL-URL:https://www.tpc-habitat.org
X-WR-CALDESC:Events for Tacoma/Pierce County Habitat For Humanity
REFRESH-INTERVAL;VALUE=DURATION:PT1H
X-Robots-Tag:noindex
X-PUBLISHED-TTL:PT1H
BEGIN:VTIMEZONE
TZID:America/Los_Angeles
BEGIN:DAYLIGHT
TZOFFSETFROM:-0800
TZOFFSETTO:-0700
TZNAME:PDT
DTSTART:20210314T100000
END:DAYLIGHT
BEGIN:STANDARD
TZOFFSETFROM:-0700
TZOFFSETTO:-0800
TZNAME:PST
DTSTART:20211107T090000
END:STANDARD
BEGIN:DAYLIGHT
TZOFFSETFROM:-0800
TZOFFSETTO:-0700
TZNAME:PDT
DTSTART:20220313T100000
END:DAYLIGHT
BEGIN:STANDARD
TZOFFSETFROM:-0700
TZOFFSETTO:-0800
TZNAME:PST
DTSTART:20221106T090000
END:STANDARD
BEGIN:DAYLIGHT
TZOFFSETFROM:-0800
TZOFFSETTO:-0700
TZNAME:PDT
DTSTART:20230312T100000
END:DAYLIGHT
BEGIN:STANDARD
TZOFFSETFROM:-0700
TZOFFSETTO:-0800
TZNAME:PST
DTSTART:20231105T090000
END:STANDARD
END:VTIMEZONE
BEGIN:VEVENT
DTSTART;TZID=America/Los_Angeles:20221205T180000
DTEND;TZID=America/Los_Angeles:20221205T190000
DTSTAMP:20260425T152444
CREATED:20210414T001331Z
LAST-MODIFIED:20220401T153614Z
UID:5888-1670263200-1670266800@www.tpc-habitat.org
SUMMARY:New Volunteer Orientation
DESCRIPTION:Interested in volunteering with Tacoma Habitat? \nNew volunteers must attend a virtual New Volunteer Orientation prior to their first shift. \nDuring the orientation\, you will be asked to provide your email address and birth date for a background check. Following a successful background check\, you will have access to VolunteerHub\, our scheduling software\, and you will be able to schedule yourself for volunteer shifts in either construction or one of our Habitat Stores. \nPlease note: \n\nHabitat is unable to sign off on court-ordered community service hours.\nAll volunteers must be 16 or older.\n\n To register for orientation and get the Zoom link\, please click here.
URL:https://www.tpc-habitat.org/event/orientation-2021-12-06-2022-12-05/
LOCATION:Online\, via Zoom\, United States
CATEGORIES:New Volunteer Orientation
ORGANIZER;CN="Volunteer Services":MAILTO:volunteer@tpc-habitat.org
END:VEVENT
BEGIN:VEVENT
DTSTART;TZID=America/Los_Angeles:20221208T180000
DTEND;TZID=America/Los_Angeles:20221208T190000
DTSTAMP:20260425T152444
CREATED:20221017T174005Z
LAST-MODIFIED:20221017T174005Z
UID:6647-1670522400-1670526000@www.tpc-habitat.org
SUMMARY:Homeowner Orientation
DESCRIPTION:Attendance at a Homeowner Orientation Session is the first step to becoming a Habitat homeowner. \nTo register for the December 8 session and get the Zoom link\, please click here. \nOur homebuyer program is designed for households with with a maximum gross income* (before taxes) of 80% of Area Median Income based on the number of individuals living in the household. Further information about eligibility can be found here.
URL:https://www.tpc-habitat.org/event/homeowner-orientation-dec22/
LOCATION:Online\, via Zoom\, United States
CATEGORIES:Homeowner Information Session
ORGANIZER;CN="Homeowner Services":MAILTO:homeowner@tpc-habitat.org
END:VEVENT
BEGIN:VEVENT
DTSTART;VALUE=DATE:20221213
DTEND;VALUE=DATE:20221214
DTSTAMP:20260425T152444
CREATED:20221208T012422Z
LAST-MODIFIED:20221208T012422Z
UID:6779-1670889600-1670975999@www.tpc-habitat.org
SUMMARY:Closed for Training
DESCRIPTION:All operations\, at all locations\, will be closed Tuesday\, December 13—including the Habitat Stores (Lakewood\, Puyallup\, Tacoma)—for an all-hands training.\n\nThank you for your patience as we pause to learn how to better serve our community.
URL:https://www.tpc-habitat.org/event/closed-for-training/
LOCATION:Tacoma\, United States
CATEGORIES:Office Closure,Store Closure
GEO:47.2528768;-122.4442906
END:VEVENT
BEGIN:VEVENT
DTSTART;VALUE=DATE:20221223
DTEND;VALUE=DATE:20221228
DTSTAMP:20260425T152444
CREATED:20211216T012117Z
LAST-MODIFIED:20211216T012117Z
UID:6038-1671753600-1672185599@www.tpc-habitat.org
SUMMARY:Closure: Christmas
DESCRIPTION:In observance of Christmas\, please note the following closures: \n\nDecember 23-26: our offices will be closed\nDecember 24-27: construction sites will be closed\nDecember 24-25: Habitat Stores will be closed
URL:https://www.tpc-habitat.org/event/closure-christmas-2022/
LOCATION:Tacoma\, United States
CATEGORIES:Office Closure,Store Closure
GEO:47.2528768;-122.4442906
END:VEVENT
BEGIN:VEVENT
DTSTART;VALUE=DATE:20221231
DTEND;VALUE=DATE:20230101
DTSTAMP:20260425T152444
CREATED:20221214T205500Z
LAST-MODIFIED:20221214T205500Z
UID:6795-1672444800-1672531199@www.tpc-habitat.org
SUMMARY:Holiday Closure
DESCRIPTION:In observance of the New Year\, please note the following closures: \n\nSaturday\, December 31: Construction will be closed.\nSunday\, January 1: Habitat Sores (Tacoma\, Lakewood\, Puyallup) will be closed.\nMonday\, January 2: Administrative office closed.\n\n 
URL:https://www.tpc-habitat.org/event/holiday-closure-2/2022-12-31/
LOCATION:Tacoma\, United States
CATEGORIES:Construction Site Closure,Office Closure,Store Closure
GEO:47.2528768;-122.4442906
END:VEVENT
END:VCALENDAR