BEGIN:VCALENDAR
VERSION:2.0
PRODID:-//Tacoma/Pierce County Habitat For Humanity - ECPv6.15.20//NONSGML v1.0//EN
CALSCALE:GREGORIAN
METHOD:PUBLISH
X-WR-CALNAME:Tacoma/Pierce County Habitat For Humanity
X-ORIGINAL-URL:https://www.tpc-habitat.org
X-WR-CALDESC:Events for Tacoma/Pierce County Habitat For Humanity
REFRESH-INTERVAL;VALUE=DURATION:PT1H
X-Robots-Tag:noindex
X-PUBLISHED-TTL:PT1H
BEGIN:VTIMEZONE
TZID:America/Los_Angeles
BEGIN:DAYLIGHT
TZOFFSETFROM:-0800
TZOFFSETTO:-0700
TZNAME:PDT
DTSTART:20210314T100000
END:DAYLIGHT
BEGIN:STANDARD
TZOFFSETFROM:-0700
TZOFFSETTO:-0800
TZNAME:PST
DTSTART:20211107T090000
END:STANDARD
BEGIN:DAYLIGHT
TZOFFSETFROM:-0800
TZOFFSETTO:-0700
TZNAME:PDT
DTSTART:20220313T100000
END:DAYLIGHT
BEGIN:STANDARD
TZOFFSETFROM:-0700
TZOFFSETTO:-0800
TZNAME:PST
DTSTART:20221106T090000
END:STANDARD
BEGIN:DAYLIGHT
TZOFFSETFROM:-0800
TZOFFSETTO:-0700
TZNAME:PDT
DTSTART:20230312T100000
END:DAYLIGHT
BEGIN:STANDARD
TZOFFSETFROM:-0700
TZOFFSETTO:-0800
TZNAME:PST
DTSTART:20231105T090000
END:STANDARD
END:VTIMEZONE
BEGIN:VEVENT
DTSTART;TZID=America/Los_Angeles:20221003T180000
DTEND;TZID=America/Los_Angeles:20221003T190000
DTSTAMP:20260425T182625
CREATED:20210414T001331Z
LAST-MODIFIED:20220401T152604Z
UID:5886-1664820000-1664823600@www.tpc-habitat.org
SUMMARY:New Volunteer Orientation
DESCRIPTION:Interested in volunteering with Tacoma Habitat? \nNew volunteers must attend a virtual New Volunteer Orientation prior to their first shift. \nDuring the orientation\, you will be asked to provide your email address and birth date for a background check. Following a successful background check\, you will have access to VolunteerHub\, our scheduling software\, and you will be able to schedule yourself for volunteer shifts in either construction or one of our Habitat Stores. \nPlease note: \n\nHabitat is unable to sign off on court-ordered community service hours.\nAll volunteers must be 16 or older.\n\n To register for orientation and get the Zoom link\, please click here.
URL:https://www.tpc-habitat.org/event/orientation-2021-12-06-2022-10-03/
LOCATION:Online\, via Zoom\, United States
CATEGORIES:New Volunteer Orientation
ORGANIZER;CN="Volunteer Services":MAILTO:volunteer@tpc-habitat.org
END:VEVENT
BEGIN:VEVENT
DTSTART;TZID=America/Los_Angeles:20221010T160000
DTEND;TZID=America/Los_Angeles:20221010T180000
DTSTAMP:20260425T182625
CREATED:20220921T172332Z
LAST-MODIFIED:20220921T172332Z
UID:6574-1665417600-1665424800@www.tpc-habitat.org
SUMMARY:Money Matters
DESCRIPTION:Do You Want to Gain Control of Your Finances?\nJoin our free 4-part workshop series\, Money Matters\, with weekly Zoom classes from 4:00 – 6:00 PM on Mondays starting on 10/10/2022. \nWe will cover: \n\nYour money personality and how it may be working for or against your success.\nImportance of a spending plan\nWhy your credit matters\nSaving & investing for the future\n\nRegistration is required. To sign up\, please click here. \nBe sure to mark your calendar for all four sessions so you don’t miss a thing: 10/10\, 10/17\, 10/24 and 10/31.
URL:https://www.tpc-habitat.org/event/money-matters-2022/2022-10-10/
LOCATION:Online\, via Zoom\, United States
CATEGORIES:Workshop
ORGANIZER;CN="Homeowner Services":MAILTO:homeowner@tpc-habitat.org
END:VEVENT
BEGIN:VEVENT
DTSTART;TZID=America/Los_Angeles:20221012T113000
DTEND;TZID=America/Los_Angeles:20221012T130000
DTSTAMP:20260425T182625
CREATED:20221012T164749Z
LAST-MODIFIED:20221012T164749Z
UID:6599-1665574200-1665579600@www.tpc-habitat.org
SUMMARY:Estate Planning Help
DESCRIPTION:Our partners at Leave 10 South Sound are hosting an online workshop as part of National Estate Planning Week. \nJoin local attorney Brianne Kampbell and the Leave 10 community on Thursday\, October 20th at 11:30 AM for Securing Your Wishes: Where There’s a Will\, There’s a Way and discover how you can make a difference in your community while also providing for your family’s future. \nThe presentation will cover basic estate planning concepts and gifting techniques to properly protect and transition your assets to those you love and the organizations you care about. \nTo register\, please click here. \nTo learn more about legacy giving with Tacoma Habitat\, click here.
URL:https://www.tpc-habitat.org/event/estate-planning-help/
LOCATION:Online\, via Zoom\, United States
CATEGORIES:Workshop
END:VEVENT
BEGIN:VEVENT
DTSTART;TZID=America/Los_Angeles:20221013T180000
DTEND;TZID=America/Los_Angeles:20221013T190000
DTSTAMP:20260425T182625
CREATED:20211213T002949Z
LAST-MODIFIED:20220327T214258Z
UID:5985-1665684000-1665687600@www.tpc-habitat.org
SUMMARY:Homeowner Orientation
DESCRIPTION:Attendance at a Homeowner Orientation Session is the first step to becoming a Habitat homeowner. \nTo register for the October 13 session and get the Zoom link\, please click here. \nOur homebuyer program is designed for households with with a maximum gross income* (before taxes) of 80% of Area Median Income based on the number of individuals living in the household. Further information about eligibility can be found here.
URL:https://www.tpc-habitat.org/event/homeowner-orientation-oct/
LOCATION:Online\, via Zoom\, United States
CATEGORIES:Homeowner Information Session
ORGANIZER;CN="Homeowner Services":MAILTO:homeowner@tpc-habitat.org
END:VEVENT
END:VCALENDAR