BEGIN:VCALENDAR
VERSION:2.0
PRODID:-//Tacoma/Pierce County Habitat For Humanity - ECPv6.15.20//NONSGML v1.0//EN
CALSCALE:GREGORIAN
METHOD:PUBLISH
X-WR-CALNAME:Tacoma/Pierce County Habitat For Humanity
X-ORIGINAL-URL:https://www.tpc-habitat.org
X-WR-CALDESC:Events for Tacoma/Pierce County Habitat For Humanity
REFRESH-INTERVAL;VALUE=DURATION:PT1H
X-Robots-Tag:noindex
X-PUBLISHED-TTL:PT1H
BEGIN:VTIMEZONE
TZID:America/Los_Angeles
BEGIN:DAYLIGHT
TZOFFSETFROM:-0800
TZOFFSETTO:-0700
TZNAME:PDT
DTSTART:20250309T100000
END:DAYLIGHT
BEGIN:STANDARD
TZOFFSETFROM:-0700
TZOFFSETTO:-0800
TZNAME:PST
DTSTART:20251102T090000
END:STANDARD
BEGIN:DAYLIGHT
TZOFFSETFROM:-0800
TZOFFSETTO:-0700
TZNAME:PDT
DTSTART:20260308T100000
END:DAYLIGHT
BEGIN:STANDARD
TZOFFSETFROM:-0700
TZOFFSETTO:-0800
TZNAME:PST
DTSTART:20261101T090000
END:STANDARD
BEGIN:DAYLIGHT
TZOFFSETFROM:-0800
TZOFFSETTO:-0700
TZNAME:PDT
DTSTART:20270314T100000
END:DAYLIGHT
BEGIN:STANDARD
TZOFFSETFROM:-0700
TZOFFSETTO:-0800
TZNAME:PST
DTSTART:20271107T090000
END:STANDARD
END:VTIMEZONE
BEGIN:VEVENT
DTSTART;TZID=America/Los_Angeles:20260409T180000
DTEND;TZID=America/Los_Angeles:20260409T200000
DTSTAMP:20260423T204646
CREATED:20251211T194732Z
LAST-MODIFIED:20260219T002328Z
UID:10588-1775757600-1775764800@www.tpc-habitat.org
SUMMARY:Virtual Homeowner Orientation
DESCRIPTION:Your journey to homeownership starts TODAY! Register for the next session down below.\nAttendance at a Homeowner Orientation Session is the first step to becoming a Habitat homeowner. \nOur homebuyer program is designed for households with a maximum gross income* (before taxes) of 80% of Area Median Income based on the number of individuals living in the household. Further information about eligibility can be found here. \n*all adult household members age 18+ are required to complete the orientation to be approved for the program. \n\nregister
URL:https://www.tpc-habitat.org/event/virtual-homeowner-orientation-2026-04-09/
CATEGORIES:Homeowner Information Session
END:VEVENT
BEGIN:VEVENT
DTSTART;TZID=America/Los_Angeles:20260411T100000
DTEND;TZID=America/Los_Angeles:20260411T120000
DTSTAMP:20260423T204646
CREATED:20251211T234748Z
LAST-MODIFIED:20260306T181726Z
UID:10683-1775901600-1775908800@www.tpc-habitat.org
SUMMARY:In-Person Homeowner Orientation
DESCRIPTION:Your journey to homeownership starts TODAY! Register for the in-person Orientation.\nAttendance at a Homeowner Orientation Session is the first step to becoming a Habitat homeowner. \nLocation:  The Tacoma Urban League \nDoors will close 15 minutes after the begining of the orientation. \nOur homebuyer program is designed for households with with a maximum gross income* (before taxes) of 80% of Area Median Income based on the number of individuals living in the household. Further information about eligibility can be found here. \n*all adult household members age 18+ are required to complete the orientation to be approved for the program. \nregister[/button]
URL:https://www.tpc-habitat.org/event/in-person-homeowner-oreintation-2026-04-16/
CATEGORIES:Homeowner Information Session
END:VEVENT
BEGIN:VEVENT
DTSTART;TZID=America/Los_Angeles:20260506T160000
DTEND;TZID=America/Los_Angeles:20260506T180000
DTSTAMP:20260423T204646
CREATED:20251211T223706Z
LAST-MODIFIED:20260318T172853Z
UID:10641-1778083200-1778090400@www.tpc-habitat.org
SUMMARY:Keys to Homeownership™
DESCRIPTION:Have you dreamed of owning your own home but don’t know where to start?\nIs your credit stopping you from buying a home?\nAre home prices discouraging you from getting started?\n\nPut all that behind you as you learn how to begin your journey to homeownership—whether you want to buy a Habitat home or on the open market. Topics include: goal setting\, creating a spending plan\, how to manage credit and its impact\, and home financing options. \nJoin us for this hybrid workshop on May 6\, 13\, 20\, 27. Sessions are from 4:00 – 6:00 PM. Pre-registration is required. \nLocation: Tacoma Community House \nTo receive a certificate of completion\, participants must attend all sessions in full. \n\nregister
URL:https://www.tpc-habitat.org/event/10641/2026-05-06/
END:VEVENT
BEGIN:VEVENT
DTSTART;TZID=America/Los_Angeles:20260508T160000
DTEND;TZID=America/Los_Angeles:20260508T200000
DTSTAMP:20260423T204646
CREATED:20250307T195211Z
LAST-MODIFIED:20260423T162333Z
UID:10961-1778256000-1778270400@www.tpc-habitat.org
SUMMARY:Women Build Night Market
DESCRIPTION:Join us Friday\, May 8\, at our Women Build Night Market! This free night-market event\, open to the public\, celebrates the achievements of women:\n\nShop from 40+ local vendors and artists\nFood Truck and Cash Bar\nWine Pull and other prizes\nTalk with local organizations about careers\, the trades\, affordable homeownership\, and more\nThe first 75 attendees get a FREE Women Build tote\n\nIt is through the generosity of Women Build sponsors that we are able to offer ongoing monthly Women Build construction opportunities open to the public. We need to raise $40\,000 to continue the program past June 2026.  Contact Tracey Sorenson (tsorenson@tpc-habitat.org or 253-627-5626 x 104) for sponsorship opportunities
URL:https://www.tpc-habitat.org/event/women-build-night-market-2026-05-08/
LOCATION:STAR Center\, 3873 S 66th St\,\, Tacoma\, WA\, 98409\, United States
END:VEVENT
BEGIN:VEVENT
DTSTART;TZID=America/Los_Angeles:20260513T160000
DTEND;TZID=America/Los_Angeles:20260513T180000
DTSTAMP:20260423T204646
CREATED:20251211T223706Z
LAST-MODIFIED:20260318T172853Z
UID:10642-1778688000-1778695200@www.tpc-habitat.org
SUMMARY:Keys to Homeownership™
DESCRIPTION:Have you dreamed of owning your own home but don’t know where to start?\nIs your credit stopping you from buying a home?\nAre home prices discouraging you from getting started?\n\nPut all that behind you as you learn how to begin your journey to homeownership—whether you want to buy a Habitat home or on the open market. Topics include: goal setting\, creating a spending plan\, how to manage credit and its impact\, and home financing options. \nJoin us for this hybrid workshop on May 6\, 13\, 20\, 27. Sessions are from 4:00 – 6:00 PM. Pre-registration is required. \nLocation: Tacoma Community House \nTo receive a certificate of completion\, participants must attend all sessions in full. \n\nregister
URL:https://www.tpc-habitat.org/event/10641/2026-05-13/
END:VEVENT
BEGIN:VEVENT
DTSTART;TZID=America/Los_Angeles:20260514T180000
DTEND;TZID=America/Los_Angeles:20260514T200000
DTSTAMP:20260423T204646
CREATED:20251211T194732Z
LAST-MODIFIED:20260421T200801Z
UID:10589-1778781600-1778788800@www.tpc-habitat.org
SUMMARY:Virtual Homeowner Orientation
DESCRIPTION:Your journey to homeownership starts TODAY! Register for the next session down below.\nAttendance at a Homeowner Orientation Session is the first step to becoming a Habitat homeowner. \nOur homebuyer program is designed for households with a maximum gross income* (before taxes) of 80% of Area Median Income based on the number of individuals living in the household. Further information about eligibility can be found here. \n*all adult household members age 18+ are required to complete the orientation to be approved for the program. \n\nregister
URL:https://www.tpc-habitat.org/event/virtual-homeowner-orientation-2026-04-09-2026-05-14/
CATEGORIES:Homeowner Information Session
END:VEVENT
BEGIN:VEVENT
DTSTART;TZID=America/Los_Angeles:20260520T160000
DTEND;TZID=America/Los_Angeles:20260520T180000
DTSTAMP:20260423T204646
CREATED:20251211T223706Z
LAST-MODIFIED:20260318T172853Z
UID:10643-1779292800-1779300000@www.tpc-habitat.org
SUMMARY:Keys to Homeownership™
DESCRIPTION:Have you dreamed of owning your own home but don’t know where to start?\nIs your credit stopping you from buying a home?\nAre home prices discouraging you from getting started?\n\nPut all that behind you as you learn how to begin your journey to homeownership—whether you want to buy a Habitat home or on the open market. Topics include: goal setting\, creating a spending plan\, how to manage credit and its impact\, and home financing options. \nJoin us for this hybrid workshop on May 6\, 13\, 20\, 27. Sessions are from 4:00 – 6:00 PM. Pre-registration is required. \nLocation: Tacoma Community House \nTo receive a certificate of completion\, participants must attend all sessions in full. \n\nregister
URL:https://www.tpc-habitat.org/event/10641/2026-05-20/
END:VEVENT
BEGIN:VEVENT
DTSTART;TZID=America/Los_Angeles:20260521T170000
DTEND;TZID=America/Los_Angeles:20260521T190000
DTSTAMP:20260423T204646
CREATED:20251211T234748Z
LAST-MODIFIED:20260305T213151Z
UID:10684-1779382800-1779390000@www.tpc-habitat.org
SUMMARY:In-Person Homeowner Orientation
DESCRIPTION:Your journey to homeownership starts TODAY! Register for the in-person Orientation.\nAttendance at a Homeowner Orientation Session is the first step to becoming a Habitat homeowner. \nLocation:  Tacoma Habitat Offices. \nDoors will close 15 minutes after the begining of the orientation. \nOur homebuyer program is designed for households with with a maximum gross income* (before taxes) of 80% of Area Median Income based on the number of individuals living in the household. Further information about eligibility can be found here. \n*all adult household members age 18+ are required to complete the orientation to be approved for the program. \nregister
URL:https://www.tpc-habitat.org/event/in-person-homeowner-oreintation-2026-05-21/
CATEGORIES:Homeowner Information Session
END:VEVENT
BEGIN:VEVENT
DTSTART;TZID=America/Los_Angeles:20260527T160000
DTEND;TZID=America/Los_Angeles:20260527T180000
DTSTAMP:20260423T204646
CREATED:20251211T223706Z
LAST-MODIFIED:20260318T172853Z
UID:10644-1779897600-1779904800@www.tpc-habitat.org
SUMMARY:Keys to Homeownership™
DESCRIPTION:Have you dreamed of owning your own home but don’t know where to start?\nIs your credit stopping you from buying a home?\nAre home prices discouraging you from getting started?\n\nPut all that behind you as you learn how to begin your journey to homeownership—whether you want to buy a Habitat home or on the open market. Topics include: goal setting\, creating a spending plan\, how to manage credit and its impact\, and home financing options. \nJoin us for this hybrid workshop on May 6\, 13\, 20\, 27. Sessions are from 4:00 – 6:00 PM. Pre-registration is required. \nLocation: Tacoma Community House \nTo receive a certificate of completion\, participants must attend all sessions in full. \n\nregister
URL:https://www.tpc-habitat.org/event/10641/2026-05-27/
END:VEVENT
BEGIN:VEVENT
DTSTART;TZID=America/Los_Angeles:20260611T180000
DTEND;TZID=America/Los_Angeles:20260611T200000
DTSTAMP:20260423T204646
CREATED:20251211T194732Z
LAST-MODIFIED:20260325T224621Z
UID:10590-1781200800-1781208000@www.tpc-habitat.org
SUMMARY:Virtual Homeowner Orientation
DESCRIPTION:Your journey to homeownership starts TODAY! Register for the next session down below.\nAttendance at a Homeowner Orientation Session is the first step to becoming a Habitat homeowner. \nOur homebuyer program is designed for households with a maximum gross income* (before taxes) of 80% of Area Median Income based on the number of individuals living in the household. Further information about eligibility can be found here. \n*all adult household members age 18+ are required to complete the orientation to be approved for the program. \n\nregister
URL:https://www.tpc-habitat.org/event/virtual-homeowner-orientation-2026-04-09-2026-06-11/
CATEGORIES:Homeowner Information Session
END:VEVENT
BEGIN:VEVENT
DTSTART;TZID=America/Los_Angeles:20260617T160000
DTEND;TZID=America/Los_Angeles:20260617T180000
DTSTAMP:20260423T204646
CREATED:20251211T234748Z
LAST-MODIFIED:20260422T182225Z
UID:10685-1781712000-1781719200@www.tpc-habitat.org
SUMMARY:In-Person Homeowner Orientation
DESCRIPTION:Your journey to homeownership starts TODAY! Register for the in-person Orientation.\nAttendance at a Homeowner Orientation Session is the first step to becoming a Habitat homeowner. \nLocation: Parkland/Spanaway Pierce County Library \nDoors will close 15 minutes after the beginning of the orientation. \nOur homebuyer program is designed for households with a maximum gross income* (before taxes) of 80% of Area Median Income based on the number of individuals living in the household. Further information about eligibility can be found here. \n*All adult household members age 18+ are required to complete the orientation to be approved for the program. \n\nregister
URL:https://www.tpc-habitat.org/event/in-person-homeowner-oreintation-2026-06-18/
CATEGORIES:Homeowner Information Session
END:VEVENT
END:VCALENDAR