BEGIN:VCALENDAR
VERSION:2.0
PRODID:-//Tacoma/Pierce County Habitat For Humanity - ECPv6.15.20//NONSGML v1.0//EN
CALSCALE:GREGORIAN
METHOD:PUBLISH
X-ORIGINAL-URL:https://www.tpc-habitat.org
X-WR-CALDESC:Events for Tacoma/Pierce County Habitat For Humanity
REFRESH-INTERVAL;VALUE=DURATION:PT1H
X-Robots-Tag:noindex
X-PUBLISHED-TTL:PT1H
BEGIN:VTIMEZONE
TZID:America/Los_Angeles
BEGIN:DAYLIGHT
TZOFFSETFROM:-0800
TZOFFSETTO:-0700
TZNAME:PDT
DTSTART:20200308T100000
END:DAYLIGHT
BEGIN:STANDARD
TZOFFSETFROM:-0700
TZOFFSETTO:-0800
TZNAME:PST
DTSTART:20201101T090000
END:STANDARD
BEGIN:DAYLIGHT
TZOFFSETFROM:-0800
TZOFFSETTO:-0700
TZNAME:PDT
DTSTART:20210314T100000
END:DAYLIGHT
BEGIN:STANDARD
TZOFFSETFROM:-0700
TZOFFSETTO:-0800
TZNAME:PST
DTSTART:20211107T090000
END:STANDARD
BEGIN:DAYLIGHT
TZOFFSETFROM:-0800
TZOFFSETTO:-0700
TZNAME:PDT
DTSTART:20220313T100000
END:DAYLIGHT
BEGIN:STANDARD
TZOFFSETFROM:-0700
TZOFFSETTO:-0800
TZNAME:PST
DTSTART:20221106T090000
END:STANDARD
BEGIN:DAYLIGHT
TZOFFSETFROM:-0800
TZOFFSETTO:-0700
TZNAME:PDT
DTSTART:20230312T100000
END:DAYLIGHT
BEGIN:STANDARD
TZOFFSETFROM:-0700
TZOFFSETTO:-0800
TZNAME:PST
DTSTART:20231105T090000
END:STANDARD
BEGIN:DAYLIGHT
TZOFFSETFROM:-0800
TZOFFSETTO:-0700
TZNAME:PDT
DTSTART:20240310T100000
END:DAYLIGHT
BEGIN:STANDARD
TZOFFSETFROM:-0700
TZOFFSETTO:-0800
TZNAME:PST
DTSTART:20241103T090000
END:STANDARD
BEGIN:DAYLIGHT
TZOFFSETFROM:-0800
TZOFFSETTO:-0700
TZNAME:PDT
DTSTART:20250309T100000
END:DAYLIGHT
BEGIN:STANDARD
TZOFFSETFROM:-0700
TZOFFSETTO:-0800
TZNAME:PST
DTSTART:20251102T090000
END:STANDARD
END:VTIMEZONE
BEGIN:VEVENT
DTSTART;TZID=America/Los_Angeles:20211006T163000
DTEND;TZID=America/Los_Angeles:20211006T173000
DTSTAMP:20260422T150130
CREATED:20210604T222746Z
LAST-MODIFIED:20210604T222746Z
UID:5581-1633537800-1633541400@www.tpc-habitat.org
SUMMARY:Women Build: Interior Finishes
DESCRIPTION:Join Women Build on October 6 to learn everything you ever wanted to know about interior finishes\, as well as tips for hanging pictures. Examples of finishes include: towel bars\, mirrors\, closet rods\, doorknobs\, doorstops. Come ready to ask your questions and/or to share insights you have learned with others. \nClick here to register for this free\, online workshop. While the session was designed with women in mind\, all are welcome to attend. \n  \nWomen Build Workshops are sponsored by our friends at:\n \n\n  \nMeet the instructor: Caitie\nAfter graduating from University of Mary Washington in Virginia with a degree in biology\, Caitie served two AmeriCorps terms as a Construction Site Coordinator with Habitat for Humanity\, first in Delaware then in Tacoma. Following her AmeriCorps term in Tacoma\, Caitie became a construction trainer for Goodwill’s YouthBuild program. Now living on the east coast\, Caitie works as a Construction Site Manager for a Habitat affiliate in North Carolina. \nCaitie continues volunteering with Women Build because she is passionate about teaching and empowering individuals\, especially women and young people. She believes that creating a safe environment to learn\, ask questions\, and make mistakes helps people develop new skills as well as the confidence to use them.
URL:https://www.tpc-habitat.org/event/wb2021finishesoct/
LOCATION:Online\, via Zoom\, United States
CATEGORIES:Women Build,Workshop
ORGANIZER;CN="Tracey Sorenson%2C Director of Community Engagement":MAILTO:tsorenson@tpc-habitat.org
END:VEVENT
BEGIN:VEVENT
DTSTART;TZID=America/Los_Angeles:20211103T163000
DTEND;TZID=America/Los_Angeles:20211103T173000
DTSTAMP:20260422T150130
CREATED:20210604T223455Z
LAST-MODIFIED:20210604T223455Z
UID:5584-1635957000-1635960600@www.tpc-habitat.org
SUMMARY:Women Build: Drywall
DESCRIPTION:Join Women Build for an encore of our popular workshop on drywall. In this session\, Caitie will demonstrate different techniques for repairing drywall\, including sanding and techniques for patching holes or damage. \nClick here to register for this free\, online workshop. While this session was designed with women in mind\, all are welcome to attend. \n  \nWomen Build Workshops are sponsored by our friends at:\n \n\n  \nMeet the instructor: Caitie\nAfter graduating from University of Mary Washington in Virginia with a degree in biology\, Caitie served two AmeriCorps terms as a Construction Site Coordinator with Habitat for Humanity\, first in Delaware then in Tacoma. Following her AmeriCorps term in Tacoma\, Caitie became a construction trainer for Goodwill’s YouthBuild program. Now living on the east coast\, Caitie works as a Construction Site Manager for a Habitat affiliate in North Carolina. \nCaitie continues volunteering with Women Build because she is passionate about teaching and empowering individuals\, especially women and young people. She believes that creating a safe environment to learn\, ask questions\, and make mistakes helps people develop new skills as well as the confidence to use them.
URL:https://www.tpc-habitat.org/event/wb2021drywallnov/
LOCATION:Online\, via Zoom\, United States
CATEGORIES:Women Build,Workshop
ORGANIZER;CN="Tracey Sorenson%2C Director of Community Engagement":MAILTO:tsorenson@tpc-habitat.org
END:VEVENT
BEGIN:VEVENT
DTSTART;TZID=America/Los_Angeles:20211201T163000
DTEND;TZID=America/Los_Angeles:20211201T173000
DTSTAMP:20260422T150130
CREATED:20210604T224342Z
LAST-MODIFIED:20210604T224342Z
UID:5587-1638376200-1638379800@www.tpc-habitat.org
SUMMARY:Women Build: Intro to Tile
DESCRIPTION:Join Women Build for an encore of our popular workshop about laying tile. In this live online session\, you will learn proper techniques for tiling and grouting\, how to match colors\, and what tools are needed for tile projects. Our instructor Caitie will cover prepping for projects\, cutting tile\, tiling a shower and backsplash\, and replacing cracked tiles. \nClick here to register for this free\, online workshop. While the session was designed with women in mind\, all are welcome to attend. \n  \nWomen Build Workshops are sponsored by our friends at:\n \n\n  \nMeet the instructor: Caitie\nAfter graduating from University of Mary Washington in Virginia with a degree in biology\, Caitie served two AmeriCorps terms as a Construction Site Coordinator with Habitat for Humanity\, first in Delaware then in Tacoma. Following her AmeriCorps term in Tacoma\, Caitie became a construction trainer for Goodwill’s YouthBuild program. Now living on the east coast\, Caitie works as a Construction Site Manager for a Habitat affiliate in North Carolina. \nCaitie continues volunteering with Women Build because she is passionate about teaching and empowering individuals\, especially women and young people. She believes that creating a safe environment to learn\, ask questions\, and make mistakes helps people develop new skills as well as the confidence to use them.
URL:https://www.tpc-habitat.org/event/wb2021tiledecember/
LOCATION:Online\, via Zoom\, United States
CATEGORIES:Women Build,Workshop
ORGANIZER;CN="Tracey Sorenson%2C Director of Community Engagement":MAILTO:tsorenson@tpc-habitat.org
END:VEVENT
BEGIN:VEVENT
DTSTART;TZID=America/Los_Angeles:20230225T083000
DTEND;TZID=America/Los_Angeles:20230225T153000
DTSTAMP:20260422T150130
CREATED:20230117T195749Z
LAST-MODIFIED:20230216T020927Z
UID:6892-1677313800-1677339000@www.tpc-habitat.org
SUMMARY:Women Build
DESCRIPTION:** This volunteer opportunity has filled\, and is no longer accepting new registrations or waitlists. Please stay tuned for another Women Build opportunity in the spring. Thank you for your interest!** \n  \nOur next Women Build construction opportunity is coming up on Saturday\, February 25 at Madison Meadow.  \nThere is room for 15 volunteers and no experience is needed. Our female construction staff and crew chiefs are glad to teach you everything you’ll need to accomplish the task(s) at hand.  \n 
URL:https://www.tpc-habitat.org/event/women-build_feb23/
LOCATION:Tacoma\, United States
CATEGORIES:Women Build
ORGANIZER;CN="Volunteer Services":MAILTO:volunteer@tpc-habitat.org
GEO:47.2528768;-122.4442906
END:VEVENT
BEGIN:VEVENT
DTSTART;TZID=America/Los_Angeles:20230617T083000
DTEND;TZID=America/Los_Angeles:20230617T153000
DTSTAMP:20260422T150130
CREATED:20230414T162230Z
LAST-MODIFIED:20230414T162230Z
UID:6953-1686990600-1687015800@www.tpc-habitat.org
SUMMARY:Women Build
DESCRIPTION:Our next Women Build construction opportunity is coming up on Saturday\, June 17 at Madison Meadow.  \nThere is room for 15 volunteers and no experience is needed. Our female construction staff and crew chiefs are glad to teach you everything you’ll need to accomplish the task(s) at hand. \nPre-registration is required and you can sign up here. Women Build days are extremely popular\, and we often have a waitlist. Due to this\, we ask that if you are unable to attend your registered shift you please cancel in our system. This will allow people on the waitlist an opportunity to fill your spot. \nVisit our construction FAQs here. \n 
URL:https://www.tpc-habitat.org/event/women-build_june2023/
CATEGORIES:Women Build
ORGANIZER;CN="Volunteer Services":MAILTO:volunteer@tpc-habitat.org
END:VEVENT
BEGIN:VEVENT
DTSTART;TZID=America/Los_Angeles:20231028T083000
DTEND;TZID=America/Los_Angeles:20231028T153000
DTSTAMP:20260422T150130
CREATED:20230905T171104Z
LAST-MODIFIED:20230905T171104Z
UID:7329-1698481800-1698507000@www.tpc-habitat.org
SUMMARY:Women Build
DESCRIPTION:Our next Women Build construction opportunity is coming up on Saturday\, October 28 at American Lake Townhomes (Lakewood).  \nThere is room for 15 volunteers and no experience is needed. Our female construction staff and crew chiefs are glad to teach you everything you’ll need to accomplish the task(s) at hand. \nPre-registration is required and you can sign up here. Women Build days are extremely popular\, and we often have a waitlist. Due to this\, we ask that if you are unable to attend your registered shift you please cancel in our system. You will also be asked to confirm your participation a week in advance to ensure we have a full roster of volunteers. \nPlease note: \n\nVolunteers must be at least 16 years old\, and those under age 18 must be accompanied by parent or guardian.\nTacoma Habitat cannot sign off on court-ordered volunteer mandates.\n\n  \nThis Women Build opportunity is sponsored by:
URL:https://www.tpc-habitat.org/event/women-build/
LOCATION:Tacoma\, United States
CATEGORIES:Women Build
ORGANIZER;CN="Volunteer Services":MAILTO:volunteer@tpc-habitat.org
GEO:47.2528768;-122.4442906
END:VEVENT
BEGIN:VEVENT
DTSTART;TZID=America/Los_Angeles:20231209T083000
DTEND;TZID=America/Los_Angeles:20231209T153000
DTSTAMP:20260422T150130
CREATED:20231120T220630Z
LAST-MODIFIED:20231120T221926Z
UID:7770-1702110600-1702135800@www.tpc-habitat.org
SUMMARY:Women Build
DESCRIPTION:Our next Women Build construction opportunity is coming up on Saturday\, December 9 at American Lake Townhomes (Lakewood).  \nThere is room for 15 volunteers and no experience is needed. Our female construction staff and crew chiefs are glad to teach you everything you’ll need to accomplish the task(s) at hand. \nPre-registration is required and you can sign up here. Women Build days are extremely popular\, and we often have a waitlist. Due to this\, we ask that if you are unable to attend your registered shift you please cancel in our system. You will also be asked to confirm your participation a week in advance to ensure we have a full roster of volunteers. \nPlease note: \n\nVolunteers must be at least 16 years old\, and those under age 18 must be accompanied by parent or guardian.\nTacoma Habitat cannot sign off on court-ordered volunteer mandates.\n\n  \nThis Women Build opportunity is sponsored by: \n \n 
URL:https://www.tpc-habitat.org/event/women-build_dec2023/
CATEGORIES:Women Build
ORGANIZER;CN="Volunteer Services":MAILTO:volunteer@tpc-habitat.org
END:VEVENT
BEGIN:VEVENT
DTSTART;TZID=America/Los_Angeles:20240210T080000
DTEND;TZID=America/Los_Angeles:20240210T153000
DTSTAMP:20260422T150130
CREATED:20240111T005551Z
LAST-MODIFIED:20240111T005551Z
UID:7955-1707552000-1707579000@www.tpc-habitat.org
SUMMARY:Women Build
DESCRIPTION:Our next Women Build construction opportunity is coming up on Saturday\, February 10 at American Lake Townhomes (Lakewood).  \nThere is room for 15 volunteers and no experience is needed. Our female construction staff and crew chiefs are glad to teach you everything you’ll need to accomplish the task(s) at hand. \nPre-registration is required and you can sign up here. Women Build days are extremely popular\, and we often have a waitlist. Due to this\, we ask that if you are unable to attend your registered shift you please cancel in our system. You will also be asked to confirm your participation a week in advance to ensure we have a full roster of volunteers. \nPlease note: \n\nVolunteers must be at least 16 years old\, and those under age 18 must be accompanied by parent or guardian.\nTacoma Habitat cannot sign off on court-ordered volunteer mandates.\n\n  \nThis Women Build opportunity is sponsored by:
URL:https://www.tpc-habitat.org/event/women-build_feb2024/
CATEGORIES:Women Build
ORGANIZER;CN="Volunteer Services":MAILTO:volunteer@tpc-habitat.org
END:VEVENT
BEGIN:VEVENT
DTSTART;TZID=America/Los_Angeles:20240420T083000
DTEND;TZID=America/Los_Angeles:20240420T153000
DTSTAMP:20260422T150130
CREATED:20240325T172312Z
LAST-MODIFIED:20240325T172312Z
UID:8135-1713601800-1713627000@www.tpc-habitat.org
SUMMARY:Women Build
DESCRIPTION:Our next Women Build construction opportunity is coming up on Saturday\, April 20 at American Lake Townhomes (Tillicum). \nThere is room for 15 volunteers and no experience is needed. Our female construction staff and crew chiefs are glad to teach you everything you’ll need to accomplish the task(s) at hand. \nPre-registration is required and you can sign up here. Women Build days are extremely popular\, and we often have a waitlist. Due to this\, we ask that if you are unable to attend your registered shift you please cancel in our system. You will also be asked to confirm your participation a week in advance to ensure we have a full roster of volunteers. \nVisit our construction FAQs here. \nPlease note: \n\nVolunteers must be at least 16 years old\, and those under age 18 must be accompanied by parent or guardian.\nTacoma Habitat cannot sign off on court-ordered volunteer mandates.\n\n  \nThis Women Build opportunity is sponsored by:
URL:https://www.tpc-habitat.org/event/women-build_april2024/
CATEGORIES:Women Build
ORGANIZER;CN="Volunteer Services":MAILTO:volunteer@tpc-habitat.org
END:VEVENT
BEGIN:VEVENT
DTSTART;TZID=America/Los_Angeles:20240705T083000
DTEND;TZID=America/Los_Angeles:20240705T150000
DTSTAMP:20260422T150130
CREATED:20240620T164914Z
LAST-MODIFIED:20240620T164914Z
UID:8470-1720168200-1720191600@www.tpc-habitat.org
SUMMARY:Women Build
DESCRIPTION:Our next Women Build construction opportunity is coming up on Friday\, July 5 at the Proctor Triplex (S Tacoma)\, where we are building in honor of Frank and Marilyn Lewis. \nThere is room for 15 volunteers and no experience is needed. Our female construction staff and crew chiefs are glad to teach you everything you’ll need to accomplish the task(s) at hand. \nPre-registration is required and you can sign up here*. \n  \nKeep in mind: \n\nVolunteers must be at least 16 years old\, and those under age 18 must be accompanied by parent or guardian.\nTacoma Habitat cannot sign off on court-ordered volunteer mandates.\n\n  \n\n*Please note that due to the popularity of Women Build days\, you must confirm your attendance the week before the build. Registered volunteers that don’t respond risk losing their place to someone on the wait list.
URL:https://www.tpc-habitat.org/event/women-build_july2024/
CATEGORIES:Women Build
ORGANIZER;CN="Volunteer Services":MAILTO:volunteer@tpc-habitat.org
END:VEVENT
BEGIN:VEVENT
DTSTART;TZID=America/Los_Angeles:20241101T083000
DTEND;TZID=America/Los_Angeles:20241101T153000
DTSTAMP:20260422T150130
CREATED:20241017T191343Z
LAST-MODIFIED:20241018T163020Z
UID:8666-1730449800-1730475000@www.tpc-habitat.org
SUMMARY:Women Build
DESCRIPTION:Our next Women Build construction opportunity is coming up on Friday\, November 1 at American Lake Townhomes (Tillicum). \nThere is room for 15 volunteers and no experience is needed. Our female construction staff and crew chiefs are glad to teach you everything you’ll need to accomplish the task(s) at hand. \nPre-registration is required and you can sign up here*. \nKeep in mind: \n\nVolunteers must be at least 16 years old\, and those under age 18 must be accompanied by parent or guardian.\nTacoma Habitat cannot sign off on court-ordered volunteer mandates.\n\n  \n*Please note that due to the popularity of Women Build days\, you must confirm your attendance the week before the build. Registered volunteers that don’t respond risk losing their place to someone on the wait list.
URL:https://www.tpc-habitat.org/event/women_build_nov2024/
CATEGORIES:Women Build
ORGANIZER;CN="Volunteer Services":MAILTO:volunteer@tpc-habitat.org
END:VEVENT
BEGIN:VEVENT
DTSTART;TZID=America/Los_Angeles:20241102T083000
DTEND;TZID=America/Los_Angeles:20241102T153000
DTSTAMP:20260422T150130
CREATED:20241018T153142Z
LAST-MODIFIED:20241018T153142Z
UID:8675-1730536200-1730561400@www.tpc-habitat.org
SUMMARY:Women Build
DESCRIPTION:Our next Women Build construction opportunity is coming up on Saturday\, November 2 at American Lake Townhomes (Tillicum). \nThere is room for 15 volunteers and no experience is needed. Our female construction staff and crew chiefs are glad to teach you everything you’ll need to accomplish the task(s) at hand. \nPre-registration is required and you can sign up here*. \nKeep in mind: \n\nVolunteers must be at least 16 years old\, and those under age 18 must be accompanied by parent or guardian.\nTacoma Habitat cannot sign off on court-ordered volunteer mandates.\n\n  \n*Please note that due to the popularity of Women Build days\, you must confirm your attendance the week before the build. Registered volunteers that don’t respond risk losing their place to someone on the wait list.
URL:https://www.tpc-habitat.org/event/women_build_nov2024sat/
CATEGORIES:Women Build
ORGANIZER;CN="Volunteer Services":MAILTO:volunteer@tpc-habitat.org
END:VEVENT
BEGIN:VEVENT
DTSTART;TZID=America/Los_Angeles:20241207T083000
DTEND;TZID=America/Los_Angeles:20241207T153000
DTSTAMP:20260422T150130
CREATED:20241017T192100Z
LAST-MODIFIED:20241113T223135Z
UID:8671-1733560200-1733585400@www.tpc-habitat.org
SUMMARY:Women Build
DESCRIPTION:Our next Women Build construction opportunity is coming up on Saturday\, December 7  at American Lake Townhomes (Tillicum). \nThere is room for 10 volunteers and no experience is needed. Our female construction staff and crew chiefs are glad to teach you everything you’ll need to accomplish the task(s) at hand. \nPre-registration is required and you can sign up here*. \nKeep in mind: \n\nVolunteers must be at least 16 years old\, and those under age 18 must be accompanied by parent or guardian.\nTacoma Habitat cannot sign off on court-ordered volunteer mandates.\n\n  \n*Please note that due to the popularity of Women Build days\, you must confirm your attendance the week before the build. Registered volunteers that don’t respond risk losing their place to someone on the wait list.
URL:https://www.tpc-habitat.org/event/women-build_dec2024/
CATEGORIES:Women Build
ORGANIZER;CN="Volunteer Services":MAILTO:volunteer@tpc-habitat.org
END:VEVENT
END:VCALENDAR