BEGIN:VCALENDAR
VERSION:2.0
PRODID:-//Tacoma/Pierce County Habitat For Humanity - ECPv6.15.20//NONSGML v1.0//EN
CALSCALE:GREGORIAN
METHOD:PUBLISH
X-ORIGINAL-URL:https://www.tpc-habitat.org
X-WR-CALDESC:Events for Tacoma/Pierce County Habitat For Humanity
REFRESH-INTERVAL;VALUE=DURATION:PT1H
X-Robots-Tag:noindex
X-PUBLISHED-TTL:PT1H
BEGIN:VTIMEZONE
TZID:America/Los_Angeles
BEGIN:DAYLIGHT
TZOFFSETFROM:-0800
TZOFFSETTO:-0700
TZNAME:PDT
DTSTART:20220313T100000
END:DAYLIGHT
BEGIN:STANDARD
TZOFFSETFROM:-0700
TZOFFSETTO:-0800
TZNAME:PST
DTSTART:20221106T090000
END:STANDARD
BEGIN:DAYLIGHT
TZOFFSETFROM:-0800
TZOFFSETTO:-0700
TZNAME:PDT
DTSTART:20230312T100000
END:DAYLIGHT
BEGIN:STANDARD
TZOFFSETFROM:-0700
TZOFFSETTO:-0800
TZNAME:PST
DTSTART:20231105T090000
END:STANDARD
BEGIN:DAYLIGHT
TZOFFSETFROM:-0800
TZOFFSETTO:-0700
TZNAME:PDT
DTSTART:20240310T100000
END:DAYLIGHT
BEGIN:STANDARD
TZOFFSETFROM:-0700
TZOFFSETTO:-0800
TZNAME:PST
DTSTART:20241103T090000
END:STANDARD
END:VTIMEZONE
BEGIN:VEVENT
DTSTART;TZID=America/Los_Angeles:20230225T083000
DTEND;TZID=America/Los_Angeles:20230225T153000
DTSTAMP:20260420T174749
CREATED:20230117T195749Z
LAST-MODIFIED:20230216T020927Z
UID:6892-1677313800-1677339000@www.tpc-habitat.org
SUMMARY:Women Build
DESCRIPTION:** This volunteer opportunity has filled\, and is no longer accepting new registrations or waitlists. Please stay tuned for another Women Build opportunity in the spring. Thank you for your interest!** \n  \nOur next Women Build construction opportunity is coming up on Saturday\, February 25 at Madison Meadow.  \nThere is room for 15 volunteers and no experience is needed. Our female construction staff and crew chiefs are glad to teach you everything you’ll need to accomplish the task(s) at hand.  \n 
URL:https://www.tpc-habitat.org/event/women-build_feb23/
LOCATION:Tacoma\, United States
CATEGORIES:Women Build
ORGANIZER;CN="Volunteer Services":MAILTO:volunteer@tpc-habitat.org
GEO:47.2528768;-122.4442906
END:VEVENT
END:VCALENDAR