BEGIN:VCALENDAR
VERSION:2.0
PRODID:-//Tacoma/Pierce County Habitat For Humanity - ECPv6.15.20//NONSGML v1.0//EN
CALSCALE:GREGORIAN
METHOD:PUBLISH
X-ORIGINAL-URL:https://www.tpc-habitat.org
X-WR-CALDESC:Events for Tacoma/Pierce County Habitat For Humanity
REFRESH-INTERVAL;VALUE=DURATION:PT1H
X-Robots-Tag:noindex
X-PUBLISHED-TTL:PT1H
BEGIN:VTIMEZONE
TZID:America/Los_Angeles
BEGIN:DAYLIGHT
TZOFFSETFROM:-0800
TZOFFSETTO:-0700
TZNAME:PDT
DTSTART:20190310T100000
END:DAYLIGHT
BEGIN:STANDARD
TZOFFSETFROM:-0700
TZOFFSETTO:-0800
TZNAME:PST
DTSTART:20191103T090000
END:STANDARD
BEGIN:DAYLIGHT
TZOFFSETFROM:-0800
TZOFFSETTO:-0700
TZNAME:PDT
DTSTART:20200308T100000
END:DAYLIGHT
BEGIN:STANDARD
TZOFFSETFROM:-0700
TZOFFSETTO:-0800
TZNAME:PST
DTSTART:20201101T090000
END:STANDARD
BEGIN:DAYLIGHT
TZOFFSETFROM:-0800
TZOFFSETTO:-0700
TZNAME:PDT
DTSTART:20210314T100000
END:DAYLIGHT
BEGIN:STANDARD
TZOFFSETFROM:-0700
TZOFFSETTO:-0800
TZNAME:PST
DTSTART:20211107T090000
END:STANDARD
END:VTIMEZONE
BEGIN:VEVENT
DTSTART;TZID=America/Los_Angeles:20200414T173000
DTEND;TZID=America/Los_Angeles:20200414T203000
DTSTAMP:20260422T170147
CREATED:20200203T191717Z
LAST-MODIFIED:20200313T193322Z
UID:4111-1586885400-1586896200@www.tpc-habitat.org
SUMMARY:CANCELLED Women Build: Garden Beds
DESCRIPTION:As a social distancing measure\, the Garden Bed Workshop has been cancelled and will be rescheduled for a later date. \nIf you are registered for this event\, you will receive an email communication regarding its cancellation and eventual reschedule. To keep pace with the fluid COVID-19 situation and Tacoma/Pierce County Habitat for Humanity’s response\, please visit: https://www.tpc-habitat.org/covid-19/. Thank you for your patience and flexibility during this extraordinary time.  \n\n  \nGarden beds can make your vegetable garden more organized and easier to manage\, and they’re great for new gardeners. However\, pre-built garden beds or kits can be expensive. In this Women Build Workshop you will learn how to build a garden bed that will fit in any space – even a patio or apartment balcony – on any budget. \nBeginners welcome; no construction skills needed. \nSpace is limited for this no-cost workshop\, and preregistration is required. \nPlease note that due to the use of power tools in this workshop\, all participants must be 18+ years old\, and attendees will be asked to sign a waiver upon registration. \n\n  \nThe health and safety of Tacoma/Pierce County Habitat for Humanity homeowners\, volunteers\, staff and community is a top priority. We continue to follow the recommendations of the Tacoma-Pierce County Health Department and are carefully monitoring the COVID-19 situation. \nHand washing stations are available on our construction sites\, and hand sanitizer is accessible both in the office and at the Habitat Stores. We are regularly disinfecting community-use spaces and encourage frequent hand washing. Employees and volunteers alike are encouraged to stay home if they are sick. \nPlease join us in promoting a healthy environment.
URL:https://www.tpc-habitat.org/event/gardenbedsmar2020/
LOCATION:Habitat Office\, Tacoma\, 4824 S Tacoma Way\, Tacoma\, WA\, 98409\, United States
CATEGORIES:Women Build,Workshop
ORGANIZER;CN="Volunteer Services":MAILTO:volunteer@tpc-habitat.org
GEO:47.2129565;-122.4845059
X-APPLE-STRUCTURED-LOCATION;VALUE=URI;X-ADDRESS=Habitat Office Tacoma 4824 S Tacoma Way Tacoma WA 98409 United States;X-APPLE-RADIUS=500;X-TITLE=4824 S Tacoma Way:geo:-122.4845059,47.2129565
END:VEVENT
END:VCALENDAR