BEGIN:VCALENDAR
VERSION:2.0
PRODID:-//Tacoma/Pierce County Habitat For Humanity - ECPv6.15.20//NONSGML v1.0//EN
CALSCALE:GREGORIAN
METHOD:PUBLISH
X-WR-CALNAME:Tacoma/Pierce County Habitat For Humanity
X-ORIGINAL-URL:https://www.tpc-habitat.org
X-WR-CALDESC:Events for Tacoma/Pierce County Habitat For Humanity
REFRESH-INTERVAL;VALUE=DURATION:PT1H
X-Robots-Tag:noindex
X-PUBLISHED-TTL:PT1H
BEGIN:VTIMEZONE
TZID:America/Los_Angeles
BEGIN:DAYLIGHT
TZOFFSETFROM:-0800
TZOFFSETTO:-0700
TZNAME:PDT
DTSTART:20180311T100000
END:DAYLIGHT
BEGIN:STANDARD
TZOFFSETFROM:-0700
TZOFFSETTO:-0800
TZNAME:PST
DTSTART:20181104T090000
END:STANDARD
BEGIN:DAYLIGHT
TZOFFSETFROM:-0800
TZOFFSETTO:-0700
TZNAME:PDT
DTSTART:20190310T100000
END:DAYLIGHT
BEGIN:STANDARD
TZOFFSETFROM:-0700
TZOFFSETTO:-0800
TZNAME:PST
DTSTART:20191103T090000
END:STANDARD
BEGIN:DAYLIGHT
TZOFFSETFROM:-0800
TZOFFSETTO:-0700
TZNAME:PDT
DTSTART:20200308T100000
END:DAYLIGHT
BEGIN:STANDARD
TZOFFSETFROM:-0700
TZOFFSETTO:-0800
TZNAME:PST
DTSTART:20201101T090000
END:STANDARD
END:VTIMEZONE
BEGIN:VEVENT
DTSTART;TZID=America/Los_Angeles:20191210T090000
DTEND;TZID=America/Los_Angeles:20191210T120000
DTSTAMP:20260422T182410
CREATED:20191204T210708Z
LAST-MODIFIED:20191204T210909Z
UID:3903-1575968400-1575979200@www.tpc-habitat.org
SUMMARY:Opening Late
DESCRIPTION:The Habitat Stores\, offices and construction sites will open late Tuesday\, December 10 so all of our employees can attend the staff holiday breakfast. The Habitat Stores will open at noon\, and all staff should be back to their offices/work sites by then as well. Thank you for your patience as we share a little holiday cheer with one another!
URL:https://www.tpc-habitat.org/event/opening-late/
LOCATION:Habitat Office\, Tacoma\, 4824 S Tacoma Way\, Tacoma\, WA\, 98409\, United States
CATEGORIES:Office Closure,Store Closure
GEO:47.2129565;-122.4845059
X-APPLE-STRUCTURED-LOCATION;VALUE=URI;X-ADDRESS=Habitat Office Tacoma 4824 S Tacoma Way Tacoma WA 98409 United States;X-APPLE-RADIUS=500;X-TITLE=4824 S Tacoma Way:geo:-122.4845059,47.2129565
END:VEVENT
BEGIN:VEVENT
DTSTART;VALUE=DATE:20191224
DTEND;VALUE=DATE:20191226
DTSTAMP:20260422T182410
CREATED:20191114T004015Z
LAST-MODIFIED:20191114T004015Z
UID:3705-1577145600-1577318399@www.tpc-habitat.org
SUMMARY:Holiday Closure: Christmas
DESCRIPTION:The Habitat Stores\, offices and construction sites will be closed in observance of Christmas December 24 and 25. \nNormal business hours will resume Thursday\, December 26\, though staffing may be limited.
URL:https://www.tpc-habitat.org/event/holiday-closure-christmas/
LOCATION:Tacoma\, United States
CATEGORIES:Construction Site Closure,Office Closure,Store Closure
END:VEVENT
END:VCALENDAR