BEGIN:VCALENDAR
VERSION:2.0
PRODID:-//Tacoma/Pierce County Habitat For Humanity - ECPv6.15.20//NONSGML v1.0//EN
CALSCALE:GREGORIAN
METHOD:PUBLISH
X-WR-CALNAME:Tacoma/Pierce County Habitat For Humanity
X-ORIGINAL-URL:https://www.tpc-habitat.org
X-WR-CALDESC:Events for Tacoma/Pierce County Habitat For Humanity
REFRESH-INTERVAL;VALUE=DURATION:PT1H
X-Robots-Tag:noindex
X-PUBLISHED-TTL:PT1H
BEGIN:VTIMEZONE
TZID:America/Los_Angeles
BEGIN:DAYLIGHT
TZOFFSETFROM:-0800
TZOFFSETTO:-0700
TZNAME:PDT
DTSTART:20220313T100000
END:DAYLIGHT
BEGIN:STANDARD
TZOFFSETFROM:-0700
TZOFFSETTO:-0800
TZNAME:PST
DTSTART:20221106T090000
END:STANDARD
BEGIN:DAYLIGHT
TZOFFSETFROM:-0800
TZOFFSETTO:-0700
TZNAME:PDT
DTSTART:20230312T100000
END:DAYLIGHT
BEGIN:STANDARD
TZOFFSETFROM:-0700
TZOFFSETTO:-0800
TZNAME:PST
DTSTART:20231105T090000
END:STANDARD
BEGIN:DAYLIGHT
TZOFFSETFROM:-0800
TZOFFSETTO:-0700
TZNAME:PDT
DTSTART:20240310T100000
END:DAYLIGHT
BEGIN:STANDARD
TZOFFSETFROM:-0700
TZOFFSETTO:-0800
TZNAME:PST
DTSTART:20241103T090000
END:STANDARD
BEGIN:DAYLIGHT
TZOFFSETFROM:-0800
TZOFFSETTO:-0700
TZNAME:PDT
DTSTART:20250309T100000
END:DAYLIGHT
BEGIN:STANDARD
TZOFFSETFROM:-0700
TZOFFSETTO:-0800
TZNAME:PST
DTSTART:20251102T090000
END:STANDARD
END:VTIMEZONE
BEGIN:VEVENT
DTSTART;TZID=America/Los_Angeles:20240409T170000
DTEND;TZID=America/Los_Angeles:20240409T180000
DTSTAMP:20260420T035313
CREATED:20240228T224634Z
LAST-MODIFIED:20240228T224634Z
UID:8095-1712682000-1712685600@www.tpc-habitat.org
SUMMARY:Stop Foreclosure on Your Home
DESCRIPTION:Mortgage assistance funds are running out…  What are your next steps?\n\nJoin Tacoma/Pierce County Habitat for Humanity for a foreclosure prevention workshop to learn what steps you can take to avoid foreclosure from a certified housing housing counselor. Topics covered include loss mitigation options\, housing counseling\, and more.\nClasses are entirely free and there is no obligation to work with Habitat moving forward. \nPre-registration is required; to sign up\, please click here. The Zoom link will be shared in your confirmation email.
URL:https://www.tpc-habitat.org/event/stop-foreclosure_april2024/
LOCATION:Online\, via Zoom\, United States
CATEGORIES:Housing Counseling,Workshop
ORGANIZER;CN="Homeowner Services":MAILTO:homeowner@tpc-habitat.org
END:VEVENT
BEGIN:VEVENT
DTSTART;TZID=America/Los_Angeles:20240314T150000
DTEND;TZID=America/Los_Angeles:20240314T200000
DTSTAMP:20260420T035313
CREATED:20240209T173416Z
LAST-MODIFIED:20240429T225624Z
UID:8049-1710428400-1710446400@www.tpc-habitat.org
SUMMARY:First Time Homebuyer Workshop
DESCRIPTION:Join Tacoma/Pierce County Habitat for Humanity and Banner Bank for a free workshop specifically for first-time homebuyers\, sponsored by the Washington State Housing Finance Commission. \nParticipants will receive a certificate of completion\, which is required to access down payment assistance programs through Washington State Housing Finance Commission\, as well as the Habitat homeownership program*.  \nPre-registration is required\, and the workshop is open to the public. \n  \n *Attending the class does not guarantee admission into Habitat’s homeownership program. \n  \n  \nThis workshop is presented by: \nDeena Giesen\, AFC® | Director of Homeowner Services\nTacoma/Pierce County Habitat for Humanity\nand\nTony Cox | Residential Loan Officer\nBanner Bank \n  \n           \n 
URL:https://www.tpc-habitat.org/event/homebuyer_mar2024/
LOCATION:Online\, via Zoom\, United States
CATEGORIES:Housing Counseling,Workshop
ORGANIZER;CN="Homeowner Services":MAILTO:homeowner@tpc-habitat.org
END:VEVENT
BEGIN:VEVENT
DTSTART;TZID=America/Los_Angeles:20240313T153000
DTEND;TZID=America/Los_Angeles:20240313T173000
DTSTAMP:20260420T035313
CREATED:20240214T211847Z
LAST-MODIFIED:20240214T211847Z
UID:8060-1710343800-1710351000@www.tpc-habitat.org
SUMMARY:Keys to Homeownership
DESCRIPTION:Discover the Keys to Homeownership with this free workshop series meeting Wednesday and Thursday afternoons this March! \n\nHave you dreamed of owning your home but don’t know where to start?\nIs your credit stopping you from buying a home?\nAre home prices discouraging you from getting started?\n\nPut all that behind you as your learn how to begin your journey to homeownership—whether you want to buy a Habitat home or on the open market. Topics include: goal setting\, creating a spending plan\, how to manage credit and its impact\, and home financing options. \nJoin us Wednesdays and Thursdays in March: 13\, 14\, 15\, 20\, 21\, 27\, and 28! Sessions are from 3:30 – 5:30 PM at our office in South Tacoma. Pre-registration is required. Sign up by clicking here. \n  \nTo receive a certificate of completion\, participants must attend all sessions in full.
URL:https://www.tpc-habitat.org/event/keys-to-homeownership_mar2024/
LOCATION:Habitat Office\, Tacoma\, 4824 S Tacoma Way\, Tacoma\, WA\, 98409\, United States
CATEGORIES:Housing Counseling,Workshop
ORGANIZER;CN="Homeowner Services":MAILTO:homeowner@tpc-habitat.org
GEO:47.2129565;-122.4845059
X-APPLE-STRUCTURED-LOCATION;VALUE=URI;X-ADDRESS=Habitat Office Tacoma 4824 S Tacoma Way Tacoma WA 98409 United States;X-APPLE-RADIUS=500;X-TITLE=4824 S Tacoma Way:geo:-122.4845059,47.2129565
END:VEVENT
BEGIN:VEVENT
DTSTART;TZID=America/Los_Angeles:20240227T170000
DTEND;TZID=America/Los_Angeles:20240227T180000
DTSTAMP:20260420T035313
CREATED:20240122T222543Z
LAST-MODIFIED:20240122T222543Z
UID:8022-1709053200-1709056800@www.tpc-habitat.org
SUMMARY:Foreclosure Prevention
DESCRIPTION:Join Tacoma/Pierce County Habitat for Humanity’s certified Housing Counselors for a foreclosure prevention workshop\, and learn how to save your home. Topics covered include mortgage assistance and loss mitigation\, and more. \nClasses are entirely free and there is no obligation to work with Habitat moving forward. \nPre-registration is required and the Zoom link will be shared in your confirmation email. To sign up\, please click here.
URL:https://www.tpc-habitat.org/event/foreclosure_feb27_2024/
LOCATION:Online\, via Zoom\, United States
CATEGORIES:Housing Counseling,Workshop
ORGANIZER;CN="Homeowner Services":MAILTO:homeowner@tpc-habitat.org
END:VEVENT
BEGIN:VEVENT
DTSTART;TZID=America/Los_Angeles:20240214T153000
DTEND;TZID=America/Los_Angeles:20240214T173000
DTSTAMP:20260420T035313
CREATED:20240131T214920Z
LAST-MODIFIED:20240214T212214Z
UID:8034-1707924600-1707931800@www.tpc-habitat.org
SUMMARY:Keys to Homeownership
DESCRIPTION:Registration for the February series is closed. Please consider joining the March cohort\, kicking off on Wednesday 3/13.\n\nIf homeownership is one of your 2024 goals\, this free (and valuable) class is for YOU! \nDiscover the Keys to Homeownership with this free workshop series meeting Wednesday and Thursday afternoons this February! \n\nHave you dreamed of owning your home but don’t know where to start?\nIs your credit stopping you from buying a home?\nAre home prices discouraging you from getting started?\n\nPut all that behind you as your learn how to begin your journey to homeownership—whether you want to buy a Habitat home or on the open market. Topics include: goal setting\, creating a spending plan\, how to manage credit and its impact\, and home financing options. \nJoin us Wednesdays and Thursdays in February: 14\, 15\, 21\, 22\, 28\, and 29! Sessions are from 3:30 – 5:30 PM at our office in South Tacoma. \n  \nTo receive a certificate of completion\, participants must attend all sessions in full. \n 
URL:https://www.tpc-habitat.org/event/keys-to-homeownership_feb2024/
LOCATION:Habitat Office\, Tacoma\, 4824 S Tacoma Way\, Tacoma\, WA\, 98409\, United States
CATEGORIES:Housing Counseling,Workshop
ORGANIZER;CN="Homeowner Services":MAILTO:homeowner@tpc-habitat.org
GEO:47.2129565;-122.4845059
X-APPLE-STRUCTURED-LOCATION;VALUE=URI;X-ADDRESS=Habitat Office Tacoma 4824 S Tacoma Way Tacoma WA 98409 United States;X-APPLE-RADIUS=500;X-TITLE=4824 S Tacoma Way:geo:-122.4845059,47.2129565
END:VEVENT
BEGIN:VEVENT
DTSTART;TZID=America/Los_Angeles:20240213T170000
DTEND;TZID=America/Los_Angeles:20240213T180000
DTSTAMP:20260420T035313
CREATED:20240122T221314Z
LAST-MODIFIED:20240122T221314Z
UID:8020-1707843600-1707847200@www.tpc-habitat.org
SUMMARY:Foreclosure Prevention
DESCRIPTION:Join Tacoma/Pierce County Habitat for Humanity’s certified Housing Counselors for a foreclosure prevention workshop\, and learn how to save your home. Topics covered include mortgage assistance and loss mitigation\, and more. \nClasses are entirely free and there is no obligation to work with Habitat moving forward. \nPre-registration is required and the Zoom link will be shared in your confirmation email. Please click here to register.
URL:https://www.tpc-habitat.org/event/foreclosure_feb13-2024/
LOCATION:Online\, via Zoom\, United States
CATEGORIES:Housing Counseling,Workshop
ORGANIZER;CN="Homeowner Services":MAILTO:homeowner@tpc-habitat.org
END:VEVENT
BEGIN:VEVENT
DTSTART;TZID=America/Los_Angeles:20240130T170000
DTEND;TZID=America/Los_Angeles:20240130T180000
DTSTAMP:20260420T035313
CREATED:20240122T215357Z
LAST-MODIFIED:20240122T215357Z
UID:8016-1706634000-1706637600@www.tpc-habitat.org
SUMMARY:Foreclosure Prevention
DESCRIPTION:Join Tacoma/Pierce County Habitat for Humanity’s certified Housing Counselors for a foreclosure prevention workshop\, and learn how to save your home. Topics covered include mortgage assistance and loss mitigation\, and more. \nClasses are entirely free and there is no obligation to work with Habitat moving forward. \nPre-registration is required and the Zoom link will be shared in your confirmation email. To sign up\, please click here.
URL:https://www.tpc-habitat.org/event/foreclosure_jan30-2024/
LOCATION:Online\, via Zoom\, United States
CATEGORIES:Housing Counseling,Workshop
ORGANIZER;CN="Homeowner Services":MAILTO:homeowner@tpc-habitat.org
END:VEVENT
BEGIN:VEVENT
DTSTART;TZID=America/Los_Angeles:20240110T153000
DTEND;TZID=America/Los_Angeles:20240110T173000
DTSTAMP:20260420T035313
CREATED:20231215T224140Z
LAST-MODIFIED:20231227T193039Z
UID:7908-1704900600-1704907800@www.tpc-habitat.org
SUMMARY:Keys to Homeownership (Wed/Thurs)
DESCRIPTION:If homeownership is one of your 2024 goals\, this free (and valuable) class is for YOU!\nDiscover the Keys to Homeownership with this free workshop series meeting Wednesday and Thursday afternoons this January! \n\nHave you dreamed of owning your home but don’t know where to start?\nIs your credit stopping you from buying a home?\nAre home prices discouraging you from getting started?\n\nPut all that behind you as your learn how to begin your journey to homeownership—whether you want to buy a Habitat home or on the open market. Topics include: goal setting\, creating a spending plan\, how to manage credit and its impact\, and home financing options. \nJoin us Wednesdays and Thursdays in January: 10\, 11\, 17\, 18\, 24\, and 25! Sessions are from 3:30 – 5:30 PM at our office in South Tacoma. Pre-registration is required. Sign up by clicking here. \n  \nTo receive a certificate of completion\, participants must attend all sessions in full. \n  \n \n 
URL:https://www.tpc-habitat.org/event/keys_wed-thurs_jan2024/
LOCATION:Habitat Office\, Tacoma\, 4824 S Tacoma Way\, Tacoma\, WA\, 98409\, United States
CATEGORIES:Housing Counseling,Workshop
ORGANIZER;CN="Homeowner Services":MAILTO:homeowner@tpc-habitat.org
GEO:47.2129565;-122.4845059
X-APPLE-STRUCTURED-LOCATION;VALUE=URI;X-ADDRESS=Habitat Office Tacoma 4824 S Tacoma Way Tacoma WA 98409 United States;X-APPLE-RADIUS=500;X-TITLE=4824 S Tacoma Way:geo:-122.4845059,47.2129565
END:VEVENT
BEGIN:VEVENT
DTSTART;TZID=America/Los_Angeles:20240104T173000
DTEND;TZID=America/Los_Angeles:20240104T173000
DTSTAMP:20260420T035314
CREATED:20231128T161011Z
LAST-MODIFIED:20231219T202152Z
UID:7777-1704389400-1704389400@www.tpc-habitat.org
SUMMARY:Keys to Homeownership (Thurs)
DESCRIPTION:Registration for this workshop has reached capacity and is now closed. Please check out the next session\, Wednesdays and Thursdays in January from 3:30 to 5:30 PM. You can sign up for that series by clicking here.  \nDiscover the Keys to Homeownership with this free\, 4-part workshop series! \n\nHave you dreamed of owning your home but don’t know where to start?\nIs your credit stopping you from buying a home?\nAre home prices discouraging you from getting started?\n\nPut all that behind you as your learn how to begin your journey to homeownership in our 4-part series—whether you want to buy a Habitat home or on the open market. Topics include: goal setting\, creating a spending plan\, how to manage credit and its impact\, and home financing options. \nJoin us Thursdays in January: 4\, 11\, 18 and 25! Sessions are from 5:30 – 6:30 PM via Zoom. Pre-registration is required; the Zoom link will be provided with your email confirmation. \n  \nParticipants who attend all four sessions in full will be eligible for\na drawing to win a $50 Fred Meyer gift card. \n 
URL:https://www.tpc-habitat.org/event/keys_jan2024/
LOCATION:Online\, via Zoom\, United States
CATEGORIES:Housing Counseling,Workshop
ORGANIZER;CN="Homeowner Services":MAILTO:homeowner@tpc-habitat.org
END:VEVENT
BEGIN:VEVENT
DTSTART;TZID=America/Los_Angeles:20230921T173000
DTEND;TZID=America/Los_Angeles:20230921T183000
DTSTAMP:20260420T035314
CREATED:20230906T211859Z
LAST-MODIFIED:20230921T235451Z
UID:7462-1695317400-1695321000@www.tpc-habitat.org
SUMMARY:Keys to Homeownership
DESCRIPTION:Registration for this workshop is closed.\nIf you’d like to join future sessions\, please email us for information.  \n  \nDiscover the Keys to Homeownership with this free\, 4-part workshop series! \n\nHave you always dreamed of owning your home but don’t know where to start?\nIs your credit stopping you from buying a home?\nAre home prices discouraging you from getting started?\n\nPut all that behind you as your learn how to begin your journey to homeownership in our 4-part series—whether you want to buy a Habitat home or one one the open market.\n\nJoin us Thursdays this fall: September 21 and 28\, and October 5 and 12! Sessions are from 5:30 – 6:30 PM via Zoom. Pre-registration is required and the Zoom link will be provided with your email confirmation.
URL:https://www.tpc-habitat.org/event/keys_fall2023/2023-09-21/
LOCATION:Online\, via Zoom\, United States
CATEGORIES:Housing Counseling,Workshop
ORGANIZER;CN="Pathways to Homeownership":MAILTO:sbagley@tpc-habitat.org
END:VEVENT
BEGIN:VEVENT
DTSTART;TZID=America/Los_Angeles:20230905T090000
DTEND;TZID=America/Los_Angeles:20230905T110000
DTSTAMP:20260420T035314
CREATED:20230618T201503Z
LAST-MODIFIED:20230731T175122Z
UID:7196-1693904400-1693911600@www.tpc-habitat.org
SUMMARY:Coffee Hour Drop In
DESCRIPTION:Do you have questions about your credit report? \nWondering about  how to qualify for homeownership\, or what your options may be for avoiding default on your mortgage? \nDrop in for coffee hour with one of our HUD-approved housing counselors and get the answers you’re looking for. They’ll even pull your credit report\, at no cost and without impacting your score\, and review it with you. \nCoffee hour housing counseling drop ins are available at the Tacoma Habitat office the first Tuesday of the month from 9:00 am to 11:00 AM\, and the second Tuesday of the month at the Tacoma Urban League from 2:00 PM to 3:00 PM. \nThe coffee and donuts are always on us!
URL:https://www.tpc-habitat.org/event/coffee-2023-09-05/2023-09-05/
LOCATION:Habitat Office\, Tacoma\, 4824 S Tacoma Way\, Tacoma\, WA\, 98409\, United States
CATEGORIES:Housing Counseling
ORGANIZER;CN="Homeowner Services":MAILTO:homeowner@tpc-habitat.org
GEO:47.2129565;-122.4845059
X-APPLE-STRUCTURED-LOCATION;VALUE=URI;X-ADDRESS=Habitat Office Tacoma 4824 S Tacoma Way Tacoma WA 98409 United States;X-APPLE-RADIUS=500;X-TITLE=4824 S Tacoma Way:geo:-122.4845059,47.2129565
END:VEVENT
BEGIN:VEVENT
DTSTART;TZID=America/Los_Angeles:20230801T090000
DTEND;TZID=America/Los_Angeles:20230801T110000
DTSTAMP:20260420T035314
CREATED:20230618T201503Z
LAST-MODIFIED:20230731T180241Z
UID:7182-1690880400-1690887600@www.tpc-habitat.org
SUMMARY:Coffee Hour - Call in only
DESCRIPTION:UPDATE 7/31/23:\nThere will not be an in-person Coffee Hour on 8/1. \nYou can still\, however\, phone in to our housing counseling team between 9:00 AM and 11:00 AM at (253) 627-5626 x120 and we’ll be glad to answer your questions. We’ll even send you a gift card for a coffee on us! \n******************************************************************************************************************************* \nDo you have questions about your credit report? \nWondering about  how to qualify for homeownership\, or what your options may be for avoiding default on your mortgage? \nCall in to one of our HUD-approved housing counselors and get the answers you’re looking for. They’ll even pull your credit report\, at no cost and without impacting your score\, and review it with you. \nCoffee hour housing counseling drop ins are available at the Tacoma Habitat office the first Tuesday of the month from 9:00 am to 11:00 AM\, and the second Tuesday of the month at the Tacoma Urban League from 2:00 PM to 3:00 PM. \nThe coffee and donuts are always on us!
URL:https://www.tpc-habitat.org/event/coffee/
LOCATION:Call in: 253-627-5626 x120\, Tacoma\, WA\, United States
CATEGORIES:Housing Counseling
ORGANIZER;CN="Homeowner Services":MAILTO:homeowner@tpc-habitat.org
END:VEVENT
BEGIN:VEVENT
DTSTART;TZID=America/Los_Angeles:20230711T140000
DTEND;TZID=America/Los_Angeles:20230711T150000
DTSTAMP:20260420T035314
CREATED:20230618T201536Z
LAST-MODIFIED:20230726T164712Z
UID:7187-1689084000-1689087600@www.tpc-habitat.org
SUMMARY:Coffee Hour Drop In
DESCRIPTION:Do you have questions about your credit report? \nWondering about  how to qualify for homeownership\, or what your options may be for avoiding default on your mortgage? \nDrop in for coffee hour with one of our HUD-approved housing counselors and get the answers you’re looking for. They’ll even pull your credit report\, at no cost and without impacting your score\, and review it with you. \nCoffee hour housing counseling drop ins are available the second Tuesday of the month at the Tacoma Urban League from 2:00 PM to 3:00 PM\, and at Tacoma Habitat’s office the first Tuesday of the month from 9:00 am to 11:00 AM. \nThe coffee and donuts are always on us!
URL:https://www.tpc-habitat.org/event/coffee_tul/2023-07-11/
LOCATION:Tacoma Urban League\, 2550 S Yakima Ave\, Tacoma\, WA\, 98405\, United States
CATEGORIES:Housing Counseling
ORGANIZER;CN="Pathways to Homeownership":MAILTO:sbagley@tpc-habitat.org
END:VEVENT
END:VCALENDAR